BEGIN:VCALENDAR
VERSION:2.0
PRODID:spatie/icalendar-generator
NAME:royal_antwerp_2g_57_reminders
X-WR-CALNAME:royal_antwerp_2g_57_reminders
BEGIN:VTIMEZONE
TZID:Europe/Brussels
BEGIN:DAYLIGHT
DTSTART:20250330T010000
TZOFFSETFROM:+0100
TZOFFSETTO:+0200
END:DAYLIGHT
BEGIN:STANDARD
DTSTART:20251026T030000
TZOFFSETFROM:+0200
TZOFFSETTO:+0100
END:STANDARD
BEGIN:DAYLIGHT
DTSTART:20260329T010000
TZOFFSETFROM:+0100
TZOFFSETTO:+0200
END:DAYLIGHT
END:VTIMEZONE
BEGIN:VTIMEZONE
TZID:UTC
BEGIN:STANDARD
DTSTART:20250724T041159
TZOFFSETFROM:+0000
TZOFFSETTO:+0000
END:STANDARD
END:VTIMEZONE
BEGIN:VEVENT
UID:88B516F8-C241-4391-98BA-F07EECF33E17-8-356_homereminder@135.badmintonne
 rs.net
DTSTAMP:20260420T041159Z
SUMMARY:Thuismatch ingevuld? (Royal Antwerp 2G (57) - Brasschaat 2G (47))
DESCRIPTION:Je hebt 36 uur na aanvang om een thuismatch op Badmintonvlaande
 ren in te vullen. Match info: Royal Antwerp 2G (57) - Brasschaat 2G (47) -
  Link: https://www.badmintonvlaanderen.be/sport/teammatch.aspx?id=88B516F8
 -C241-4391-98BA-F07EECF33E17&match=356
DTSTART;TZID=Europe/Brussels:20251111T060000
DTEND;TZID=Europe/Brussels:20251111T060000
END:VEVENT
BEGIN:VEVENT
UID:88B516F8-C241-4391-98BA-F07EECF33E17-8-368_homereminder@135.badmintonne
 rs.net
DTSTAMP:20260420T041159Z
SUMMARY:Thuismatch ingevuld? (Royal Antwerp 2G (57) - Klein Boom 1G (48))
DESCRIPTION:Je hebt 36 uur na aanvang om een thuismatch op Badmintonvlaande
 ren in te vullen. Match info: Royal Antwerp 2G (57) - Klein Boom 1G (48) -
  Link: https://www.badmintonvlaanderen.be/sport/teammatch.aspx?id=88B516F8
 -C241-4391-98BA-F07EECF33E17&match=368
DTSTART;TZID=Europe/Brussels:20251223T060000
DTEND;TZID=Europe/Brussels:20251223T060000
END:VEVENT
BEGIN:VEVENT
UID:88B516F8-C241-4391-98BA-F07EECF33E17-8-362_homereminder@135.badmintonne
 rs.net
DTSTAMP:20260420T041159Z
SUMMARY:Thuismatch ingevuld? (Royal Antwerp 2G (57) - De Klamp 1G (63))
DESCRIPTION:Je hebt 36 uur na aanvang om een thuismatch op Badmintonvlaande
 ren in te vullen. Match info: Royal Antwerp 2G (57) - De Klamp 1G (63) - L
 ink: https://www.badmintonvlaanderen.be/sport/teammatch.aspx?id=88B516F8-C
 241-4391-98BA-F07EECF33E17&match=362
DTSTART;TZID=Europe/Brussels:20260106T060000
DTEND;TZID=Europe/Brussels:20260106T060000
END:VEVENT
BEGIN:VEVENT
UID:88B516F8-C241-4391-98BA-F07EECF33E17-8-387_homereminder@135.badmintonne
 rs.net
DTSTAMP:20260420T041159Z
SUMMARY:Thuismatch ingevuld? (Royal Antwerp 2G (57) - Tots Keerbergen 1G (5
 4))
DESCRIPTION:Je hebt 36 uur na aanvang om een thuismatch op Badmintonvlaande
 ren in te vullen. Match info: Royal Antwerp 2G (57) - Tots Keerbergen 1G (
 54) - Link: https://www.badmintonvlaanderen.be/sport/teammatch.aspx?id=88B
 516F8-C241-4391-98BA-F07EECF33E17&match=387
DTSTART;TZID=Europe/Brussels:20260120T060000
DTEND;TZID=Europe/Brussels:20260120T060000
END:VEVENT
BEGIN:VEVENT
UID:88B516F8-C241-4391-98BA-F07EECF33E17-8-374_homereminder@135.badmintonne
 rs.net
DTSTAMP:20260420T041159Z
SUMMARY:Thuismatch ingevuld? (Royal Antwerp 2G (57) - Olve 3G (48))
DESCRIPTION:Je hebt 36 uur na aanvang om een thuismatch op Badmintonvlaande
 ren in te vullen. Match info: Royal Antwerp 2G (57) - Olve 3G (48) - Link:
  https://www.badmintonvlaanderen.be/sport/teammatch.aspx?id=88B516F8-C241-
 4391-98BA-F07EECF33E17&match=374
DTSTART;TZID=Europe/Brussels:20260303T060000
DTEND;TZID=Europe/Brussels:20260303T060000
END:VEVENT
BEGIN:VEVENT
UID:88B516F8-C241-4391-98BA-F07EECF33E17-8-378_awayreminder@135.badmintonne
 rs.net
DTSTAMP:20260420T041159Z
SUMMARY:Uitmatch bevestigd? (De Klamp 1G (63) - Royal Antwerp 2G (57))
DESCRIPTION:Je hebt 72 uur na aanvang om een uitmatch op Badmintonvlaandere
 n in te vullen. Match info: De Klamp 1G (63) - Royal Antwerp 2G (57) - Lin
 k: https://www.badmintonvlaanderen.be/sport/teammatch.aspx?id=88B516F8-C24
 1-4391-98BA-F07EECF33E17&match=378
DTSTART;TZID=Europe/Brussels:20250917T181500
DTEND;TZID=Europe/Brussels:20250917T181500
END:VEVENT
BEGIN:VEVENT
UID:88B516F8-C241-4391-98BA-F07EECF33E17-8-381_awayreminder@135.badmintonne
 rs.net
DTSTAMP:20260420T041159Z
SUMMARY:Uitmatch bevestigd? (Tots Keerbergen 1G (54) - Royal Antwerp 2G (57
 ))
DESCRIPTION:Je hebt 72 uur na aanvang om een uitmatch op Badmintonvlaandere
 n in te vullen. Match info: Tots Keerbergen 1G (54) - Royal Antwerp 2G (57
 ) - Link: https://www.badmintonvlaanderen.be/sport/teammatch.aspx?id=88B51
 6F8-C241-4391-98BA-F07EECF33E17&match=381
DTSTART;TZID=Europe/Brussels:20251029T190000
DTEND;TZID=Europe/Brussels:20251029T190000
END:VEVENT
BEGIN:VEVENT
UID:88B516F8-C241-4391-98BA-F07EECF33E17-8-380_awayreminder@135.badmintonne
 rs.net
DTSTAMP:20260420T041159Z
SUMMARY:Uitmatch bevestigd? (Olve 3G (48) - Royal Antwerp 2G (57))
DESCRIPTION:Je hebt 72 uur na aanvang om een uitmatch op Badmintonvlaandere
 n in te vullen. Match info: Olve 3G (48) - Royal Antwerp 2G (57) - Link: h
 ttps://www.badmintonvlaanderen.be/sport/teammatch.aspx?id=88B516F8-C241-43
 91-98BA-F07EECF33E17&match=380
DTSTART;TZID=Europe/Brussels:20251216T103000
DTEND;TZID=Europe/Brussels:20251216T103000
END:VEVENT
BEGIN:VEVENT
UID:88B516F8-C241-4391-98BA-F07EECF33E17-8-379_awayreminder@135.badmintonne
 rs.net
DTSTAMP:20260420T041159Z
SUMMARY:Uitmatch bevestigd? (Klein Boom 1G (48) - Royal Antwerp 2G (57))
DESCRIPTION:Je hebt 72 uur na aanvang om een uitmatch op Badmintonvlaandere
 n in te vullen. Match info: Klein Boom 1G (48) - Royal Antwerp 2G (57) - L
 ink: https://www.badmintonvlaanderen.be/sport/teammatch.aspx?id=88B516F8-C
 241-4391-98BA-F07EECF33E17&match=379
DTSTART;TZID=Europe/Brussels:20260218T190000
DTEND;TZID=Europe/Brussels:20260218T190000
END:VEVENT
BEGIN:VEVENT
UID:88B516F8-C241-4391-98BA-F07EECF33E17-8-377_awayreminder@135.badmintonne
 rs.net
DTSTAMP:20260420T041159Z
SUMMARY:Uitmatch bevestigd? (Brasschaat 2G (47) - Royal Antwerp 2G (57))
DESCRIPTION:Je hebt 72 uur na aanvang om een uitmatch op Badmintonvlaandere
 n in te vullen. Match info: Brasschaat 2G (47) - Royal Antwerp 2G (57) - L
 ink: https://www.badmintonvlaanderen.be/sport/teammatch.aspx?id=88B516F8-C
 241-4391-98BA-F07EECF33E17&match=377
DTSTART;TZID=Europe/Brussels:20260415T190000
DTEND;TZID=Europe/Brussels:20260415T190000
END:VEVENT
END:VCALENDAR