BEGIN:VCALENDAR
VERSION:2.0
PRODID:spatie/icalendar-generator
NAME:olve_3g_48_reminders
X-WR-CALNAME:olve_3g_48_reminders
BEGIN:VTIMEZONE
TZID:Europe/Brussels
BEGIN:DAYLIGHT
DTSTART:20250330T010000
TZOFFSETFROM:+0100
TZOFFSETTO:+0200
END:DAYLIGHT
BEGIN:STANDARD
DTSTART:20251026T030000
TZOFFSETFROM:+0200
TZOFFSETTO:+0100
END:STANDARD
BEGIN:DAYLIGHT
DTSTART:20260329T010000
TZOFFSETFROM:+0100
TZOFFSETTO:+0200
END:DAYLIGHT
END:VTIMEZONE
BEGIN:VTIMEZONE
TZID:UTC
BEGIN:STANDARD
DTSTART:20250724T041200
TZOFFSETFROM:+0000
TZOFFSETTO:+0000
END:STANDARD
END:VTIMEZONE
BEGIN:VEVENT
UID:88B516F8-C241-4391-98BA-F07EECF33E17-8-361_homereminder@136.badmintonne
 rs.net
DTSTAMP:20260420T041200Z
SUMMARY:Thuismatch ingevuld? (Olve 3G (48) - De Klamp 1G (63))
DESCRIPTION:Je hebt 36 uur na aanvang om een thuismatch op Badmintonvlaande
 ren in te vullen. Match info: Olve 3G (48) - De Klamp 1G (63) - Link: http
 s://www.badmintonvlaanderen.be/sport/teammatch.aspx?id=88B516F8-C241-4391-
 98BA-F07EECF33E17&match=361
DTSTART;TZID=Europe/Brussels:20251116T223000
DTEND;TZID=Europe/Brussels:20251116T223000
END:VEVENT
BEGIN:VEVENT
UID:88B516F8-C241-4391-98BA-F07EECF33E17-8-380_homereminder@136.badmintonne
 rs.net
DTSTAMP:20260420T041200Z
SUMMARY:Thuismatch ingevuld? (Olve 3G (48) - Royal Antwerp 2G (57))
DESCRIPTION:Je hebt 36 uur na aanvang om een thuismatch op Badmintonvlaande
 ren in te vullen. Match info: Olve 3G (48) - Royal Antwerp 2G (57) - Link:
  https://www.badmintonvlaanderen.be/sport/teammatch.aspx?id=88B516F8-C241-
 4391-98BA-F07EECF33E17&match=380
DTSTART;TZID=Europe/Brussels:20251214T223000
DTEND;TZID=Europe/Brussels:20251214T223000
END:VEVENT
BEGIN:VEVENT
UID:88B516F8-C241-4391-98BA-F07EECF33E17-8-367_homereminder@136.badmintonne
 rs.net
DTSTAMP:20260420T041200Z
SUMMARY:Thuismatch ingevuld? (Olve 3G (48) - Klein Boom 1G (48))
DESCRIPTION:Je hebt 36 uur na aanvang om een thuismatch op Badmintonvlaande
 ren in te vullen. Match info: Olve 3G (48) - Klein Boom 1G (48) - Link: ht
 tps://www.badmintonvlaanderen.be/sport/teammatch.aspx?id=88B516F8-C241-439
 1-98BA-F07EECF33E17&match=367
DTSTART;TZID=Europe/Brussels:20260118T223000
DTEND;TZID=Europe/Brussels:20260118T223000
END:VEVENT
BEGIN:VEVENT
UID:88B516F8-C241-4391-98BA-F07EECF33E17-8-386_homereminder@136.badmintonne
 rs.net
DTSTAMP:20260420T041200Z
SUMMARY:Thuismatch ingevuld? (Olve 3G (48) - Tots Keerbergen 1G (54))
DESCRIPTION:Je hebt 36 uur na aanvang om een thuismatch op Badmintonvlaande
 ren in te vullen. Match info: Olve 3G (48) - Tots Keerbergen 1G (54) - Lin
 k: https://www.badmintonvlaanderen.be/sport/teammatch.aspx?id=88B516F8-C24
 1-4391-98BA-F07EECF33E17&match=386
DTSTART;TZID=Europe/Brussels:20260215T223000
DTEND;TZID=Europe/Brussels:20260215T223000
END:VEVENT
BEGIN:VEVENT
UID:88B516F8-C241-4391-98BA-F07EECF33E17-8-355_homereminder@136.badmintonne
 rs.net
DTSTAMP:20260420T041200Z
SUMMARY:Thuismatch ingevuld? (Olve 3G (48) - Brasschaat 2G (47))
DESCRIPTION:Je hebt 36 uur na aanvang om een thuismatch op Badmintonvlaande
 ren in te vullen. Match info: Olve 3G (48) - Brasschaat 2G (47) - Link: ht
 tps://www.badmintonvlaanderen.be/sport/teammatch.aspx?id=88B516F8-C241-439
 1-98BA-F07EECF33E17&match=355
DTSTART;TZID=Europe/Brussels:20260329T233000
DTEND;TZID=Europe/Brussels:20260329T233000
END:VEVENT
BEGIN:VEVENT
UID:88B516F8-C241-4391-98BA-F07EECF33E17-8-373_awayreminder@136.badmintonne
 rs.net
DTSTAMP:20260420T041200Z
SUMMARY:Uitmatch bevestigd? (Klein Boom 1G (48) - Olve 3G (48))
DESCRIPTION:Je hebt 72 uur na aanvang om een uitmatch op Badmintonvlaandere
 n in te vullen. Match info: Klein Boom 1G (48) - Olve 3G (48) - Link: http
 s://www.badmintonvlaanderen.be/sport/teammatch.aspx?id=88B516F8-C241-4391-
 98BA-F07EECF33E17&match=373
DTSTART;TZID=Europe/Brussels:20250917T190000
DTEND;TZID=Europe/Brussels:20250917T190000
END:VEVENT
BEGIN:VEVENT
UID:88B516F8-C241-4391-98BA-F07EECF33E17-8-375_awayreminder@136.badmintonne
 rs.net
DTSTAMP:20260420T041200Z
SUMMARY:Uitmatch bevestigd? (Tots Keerbergen 1G (54) - Olve 3G (48))
DESCRIPTION:Je hebt 72 uur na aanvang om een uitmatch op Badmintonvlaandere
 n in te vullen. Match info: Tots Keerbergen 1G (54) - Olve 3G (48) - Link:
  https://www.badmintonvlaanderen.be/sport/teammatch.aspx?id=88B516F8-C241-
 4391-98BA-F07EECF33E17&match=375
DTSTART;TZID=Europe/Brussels:20251001T190000
DTEND;TZID=Europe/Brussels:20251001T190000
END:VEVENT
BEGIN:VEVENT
UID:88B516F8-C241-4391-98BA-F07EECF33E17-8-371_awayreminder@136.badmintonne
 rs.net
DTSTAMP:20260420T041200Z
SUMMARY:Uitmatch bevestigd? (Brasschaat 2G (47) - Olve 3G (48))
DESCRIPTION:Je hebt 72 uur na aanvang om een uitmatch op Badmintonvlaandere
 n in te vullen. Match info: Brasschaat 2G (47) - Olve 3G (48) - Link: http
 s://www.badmintonvlaanderen.be/sport/teammatch.aspx?id=88B516F8-C241-4391-
 98BA-F07EECF33E17&match=371
DTSTART;TZID=Europe/Brussels:20251126T190000
DTEND;TZID=Europe/Brussels:20251126T190000
END:VEVENT
BEGIN:VEVENT
UID:88B516F8-C241-4391-98BA-F07EECF33E17-8-374_awayreminder@136.badmintonne
 rs.net
DTSTAMP:20260420T041200Z
SUMMARY:Uitmatch bevestigd? (Royal Antwerp 2G (57) - Olve 3G (48))
DESCRIPTION:Je hebt 72 uur na aanvang om een uitmatch op Badmintonvlaandere
 n in te vullen. Match info: Royal Antwerp 2G (57) - Olve 3G (48) - Link: h
 ttps://www.badmintonvlaanderen.be/sport/teammatch.aspx?id=88B516F8-C241-43
 91-98BA-F07EECF33E17&match=374
DTSTART;TZID=Europe/Brussels:20260304T180000
DTEND;TZID=Europe/Brussels:20260304T180000
END:VEVENT
BEGIN:VEVENT
UID:88B516F8-C241-4391-98BA-F07EECF33E17-8-372_awayreminder@136.badmintonne
 rs.net
DTSTAMP:20260420T041200Z
SUMMARY:Uitmatch bevestigd? (De Klamp 1G (63) - Olve 3G (48))
DESCRIPTION:Je hebt 72 uur na aanvang om een uitmatch op Badmintonvlaandere
 n in te vullen. Match info: De Klamp 1G (63) - Olve 3G (48) - Link: https:
 //www.badmintonvlaanderen.be/sport/teammatch.aspx?id=88B516F8-C241-4391-98
 BA-F07EECF33E17&match=372
DTSTART;TZID=Europe/Brussels:20260401T181500
DTEND;TZID=Europe/Brussels:20260401T181500
END:VEVENT
END:VCALENDAR