BEGIN:VCALENDAR
VERSION:2.0
PRODID:spatie/icalendar-generator
NAME:tots_keerbergen_1g_54_reminders
X-WR-CALNAME:tots_keerbergen_1g_54_reminders
BEGIN:VTIMEZONE
TZID:Europe/Brussels
BEGIN:DAYLIGHT
DTSTART:20250330T010000
TZOFFSETFROM:+0100
TZOFFSETTO:+0200
END:DAYLIGHT
BEGIN:STANDARD
DTSTART:20251026T030000
TZOFFSETFROM:+0200
TZOFFSETTO:+0100
END:STANDARD
BEGIN:DAYLIGHT
DTSTART:20260329T010000
TZOFFSETFROM:+0100
TZOFFSETTO:+0200
END:DAYLIGHT
END:VTIMEZONE
BEGIN:VTIMEZONE
TZID:UTC
BEGIN:STANDARD
DTSTART:20250724T041159
TZOFFSETFROM:+0000
TZOFFSETTO:+0000
END:STANDARD
END:VTIMEZONE
BEGIN:VEVENT
UID:88B516F8-C241-4391-98BA-F07EECF33E17-8-375_homereminder@144.badmintonne
 rs.net
DTSTAMP:20260420T041159Z
SUMMARY:Thuismatch ingevuld? (Tots Keerbergen 1G (54) - Olve 3G (48))
DESCRIPTION:Je hebt 36 uur na aanvang om een thuismatch op Badmintonvlaande
 ren in te vullen. Match info: Tots Keerbergen 1G (54) - Olve 3G (48) - Lin
 k: https://www.badmintonvlaanderen.be/sport/teammatch.aspx?id=88B516F8-C24
 1-4391-98BA-F07EECF33E17&match=375
DTSTART;TZID=Europe/Brussels:20250930T070000
DTEND;TZID=Europe/Brussels:20250930T070000
END:VEVENT
BEGIN:VEVENT
UID:88B516F8-C241-4391-98BA-F07EECF33E17-8-381_homereminder@144.badmintonne
 rs.net
DTSTAMP:20260420T041159Z
SUMMARY:Thuismatch ingevuld? (Tots Keerbergen 1G (54) - Royal Antwerp 2G (5
 7))
DESCRIPTION:Je hebt 36 uur na aanvang om een thuismatch op Badmintonvlaande
 ren in te vullen. Match info: Tots Keerbergen 1G (54) - Royal Antwerp 2G (
 57) - Link: https://www.badmintonvlaanderen.be/sport/teammatch.aspx?id=88B
 516F8-C241-4391-98BA-F07EECF33E17&match=381
DTSTART;TZID=Europe/Brussels:20251028T070000
DTEND;TZID=Europe/Brussels:20251028T070000
END:VEVENT
BEGIN:VEVENT
UID:88B516F8-C241-4391-98BA-F07EECF33E17-8-357_homereminder@144.badmintonne
 rs.net
DTSTAMP:20260420T041159Z
SUMMARY:Thuismatch ingevuld? (Tots Keerbergen 1G (54) - Brasschaat 2G (47))
DESCRIPTION:Je hebt 36 uur na aanvang om een thuismatch op Badmintonvlaande
 ren in te vullen. Match info: Tots Keerbergen 1G (54) - Brasschaat 2G (47)
  - Link: https://www.badmintonvlaanderen.be/sport/teammatch.aspx?id=88B516
 F8-C241-4391-98BA-F07EECF33E17&match=357
DTSTART;TZID=Europe/Brussels:20260106T070000
DTEND;TZID=Europe/Brussels:20260106T070000
END:VEVENT
BEGIN:VEVENT
UID:88B516F8-C241-4391-98BA-F07EECF33E17-8-363_homereminder@144.badmintonne
 rs.net
DTSTAMP:20260420T041159Z
SUMMARY:Thuismatch ingevuld? (Tots Keerbergen 1G (54) - De Klamp 1G (63))
DESCRIPTION:Je hebt 36 uur na aanvang om een thuismatch op Badmintonvlaande
 ren in te vullen. Match info: Tots Keerbergen 1G (54) - De Klamp 1G (63) -
  Link: https://www.badmintonvlaanderen.be/sport/teammatch.aspx?id=88B516F8
 -C241-4391-98BA-F07EECF33E17&match=363
DTSTART;TZID=Europe/Brussels:20260303T070000
DTEND;TZID=Europe/Brussels:20260303T070000
END:VEVENT
BEGIN:VEVENT
UID:88B516F8-C241-4391-98BA-F07EECF33E17-8-369_homereminder@144.badmintonne
 rs.net
DTSTAMP:20260420T041159Z
SUMMARY:Thuismatch ingevuld? (Tots Keerbergen 1G (54) - Klein Boom 1G (48))
DESCRIPTION:Je hebt 36 uur na aanvang om een thuismatch op Badmintonvlaande
 ren in te vullen. Match info: Tots Keerbergen 1G (54) - Klein Boom 1G (48)
  - Link: https://www.badmintonvlaanderen.be/sport/teammatch.aspx?id=88B516
 F8-C241-4391-98BA-F07EECF33E17&match=369
DTSTART;TZID=Europe/Brussels:20260331T070000
DTEND;TZID=Europe/Brussels:20260331T070000
END:VEVENT
BEGIN:VEVENT
UID:88B516F8-C241-4391-98BA-F07EECF33E17-8-385_awayreminder@144.badmintonne
 rs.net
DTSTAMP:20260420T041159Z
SUMMARY:Uitmatch bevestigd? (Klein Boom 1G (48) - Tots Keerbergen 1G (54))
DESCRIPTION:Je hebt 72 uur na aanvang om een uitmatch op Badmintonvlaandere
 n in te vullen. Match info: Klein Boom 1G (48) - Tots Keerbergen 1G (54) -
  Link: https://www.badmintonvlaanderen.be/sport/teammatch.aspx?id=88B516F8
 -C241-4391-98BA-F07EECF33E17&match=385
DTSTART;TZID=Europe/Brussels:20251112T190000
DTEND;TZID=Europe/Brussels:20251112T190000
END:VEVENT
BEGIN:VEVENT
UID:88B516F8-C241-4391-98BA-F07EECF33E17-8-384_awayreminder@144.badmintonne
 rs.net
DTSTAMP:20260420T041159Z
SUMMARY:Uitmatch bevestigd? (De Klamp 1G (63) - Tots Keerbergen 1G (54))
DESCRIPTION:Je hebt 72 uur na aanvang om een uitmatch op Badmintonvlaandere
 n in te vullen. Match info: De Klamp 1G (63) - Tots Keerbergen 1G (54) - L
 ink: https://www.badmintonvlaanderen.be/sport/teammatch.aspx?id=88B516F8-C
 241-4391-98BA-F07EECF33E17&match=384
DTSTART;TZID=Europe/Brussels:20251126T181500
DTEND;TZID=Europe/Brussels:20251126T181500
END:VEVENT
BEGIN:VEVENT
UID:88B516F8-C241-4391-98BA-F07EECF33E17-8-383_awayreminder@144.badmintonne
 rs.net
DTSTAMP:20260420T041159Z
SUMMARY:Uitmatch bevestigd? (Brasschaat 2G (47) - Tots Keerbergen 1G (54))
DESCRIPTION:Je hebt 72 uur na aanvang om een uitmatch op Badmintonvlaandere
 n in te vullen. Match info: Brasschaat 2G (47) - Tots Keerbergen 1G (54) -
  Link: https://www.badmintonvlaanderen.be/sport/teammatch.aspx?id=88B516F8
 -C241-4391-98BA-F07EECF33E17&match=383
DTSTART;TZID=Europe/Brussels:20251210T190000
DTEND;TZID=Europe/Brussels:20251210T190000
END:VEVENT
BEGIN:VEVENT
UID:88B516F8-C241-4391-98BA-F07EECF33E17-8-387_awayreminder@144.badmintonne
 rs.net
DTSTAMP:20260420T041159Z
SUMMARY:Uitmatch bevestigd? (Royal Antwerp 2G (57) - Tots Keerbergen 1G (54
 ))
DESCRIPTION:Je hebt 72 uur na aanvang om een uitmatch op Badmintonvlaandere
 n in te vullen. Match info: Royal Antwerp 2G (57) - Tots Keerbergen 1G (54
 ) - Link: https://www.badmintonvlaanderen.be/sport/teammatch.aspx?id=88B51
 6F8-C241-4391-98BA-F07EECF33E17&match=387
DTSTART;TZID=Europe/Brussels:20260121T180000
DTEND;TZID=Europe/Brussels:20260121T180000
END:VEVENT
BEGIN:VEVENT
UID:88B516F8-C241-4391-98BA-F07EECF33E17-8-386_awayreminder@144.badmintonne
 rs.net
DTSTAMP:20260420T041159Z
SUMMARY:Uitmatch bevestigd? (Olve 3G (48) - Tots Keerbergen 1G (54))
DESCRIPTION:Je hebt 72 uur na aanvang om een uitmatch op Badmintonvlaandere
 n in te vullen. Match info: Olve 3G (48) - Tots Keerbergen 1G (54) - Link:
  https://www.badmintonvlaanderen.be/sport/teammatch.aspx?id=88B516F8-C241-
 4391-98BA-F07EECF33E17&match=386
DTSTART;TZID=Europe/Brussels:20260217T103000
DTEND;TZID=Europe/Brussels:20260217T103000
END:VEVENT
END:VCALENDAR