BEGIN:VCALENDAR
VERSION:2.0
PRODID:spatie/icalendar-generator
NAME:de_klamp_1g_63_reminders
X-WR-CALNAME:de_klamp_1g_63_reminders
BEGIN:VTIMEZONE
TZID:Europe/Brussels
BEGIN:DAYLIGHT
DTSTART:20250330T010000
TZOFFSETFROM:+0100
TZOFFSETTO:+0200
END:DAYLIGHT
BEGIN:STANDARD
DTSTART:20251026T030000
TZOFFSETFROM:+0200
TZOFFSETTO:+0100
END:STANDARD
BEGIN:DAYLIGHT
DTSTART:20260329T010000
TZOFFSETFROM:+0100
TZOFFSETTO:+0200
END:DAYLIGHT
END:VTIMEZONE
BEGIN:VTIMEZONE
TZID:UTC
BEGIN:STANDARD
DTSTART:20250724T041200
TZOFFSETFROM:+0000
TZOFFSETTO:+0000
END:STANDARD
END:VTIMEZONE
BEGIN:VEVENT
UID:88B516F8-C241-4391-98BA-F07EECF33E17-8-378_homereminder@146.badmintonne
 rs.net
DTSTAMP:20260420T041200Z
SUMMARY:Thuismatch ingevuld? (De Klamp 1G (63) - Royal Antwerp 2G (57))
DESCRIPTION:Je hebt 36 uur na aanvang om een thuismatch op Badmintonvlaande
 ren in te vullen. Match info: De Klamp 1G (63) - Royal Antwerp 2G (57) - L
 ink: https://www.badmintonvlaanderen.be/sport/teammatch.aspx?id=88B516F8-C
 241-4391-98BA-F07EECF33E17&match=378
DTSTART;TZID=Europe/Brussels:20250916T061500
DTEND;TZID=Europe/Brussels:20250916T061500
END:VEVENT
BEGIN:VEVENT
UID:88B516F8-C241-4391-98BA-F07EECF33E17-8-366_homereminder@146.badmintonne
 rs.net
DTSTAMP:20260420T041200Z
SUMMARY:Thuismatch ingevuld? (De Klamp 1G (63) - Klein Boom 1G (48))
DESCRIPTION:Je hebt 36 uur na aanvang om een thuismatch op Badmintonvlaande
 ren in te vullen. Match info: De Klamp 1G (63) - Klein Boom 1G (48) - Link
 : https://www.badmintonvlaanderen.be/sport/teammatch.aspx?id=88B516F8-C241
 -4391-98BA-F07EECF33E17&match=366
DTSTART;TZID=Europe/Brussels:20251028T061500
DTEND;TZID=Europe/Brussels:20251028T061500
END:VEVENT
BEGIN:VEVENT
UID:88B516F8-C241-4391-98BA-F07EECF33E17-8-384_homereminder@146.badmintonne
 rs.net
DTSTAMP:20260420T041200Z
SUMMARY:Thuismatch ingevuld? (De Klamp 1G (63) - Tots Keerbergen 1G (54))
DESCRIPTION:Je hebt 36 uur na aanvang om een thuismatch op Badmintonvlaande
 ren in te vullen. Match info: De Klamp 1G (63) - Tots Keerbergen 1G (54) -
  Link: https://www.badmintonvlaanderen.be/sport/teammatch.aspx?id=88B516F8
 -C241-4391-98BA-F07EECF33E17&match=384
DTSTART;TZID=Europe/Brussels:20251125T061500
DTEND;TZID=Europe/Brussels:20251125T061500
END:VEVENT
BEGIN:VEVENT
UID:88B516F8-C241-4391-98BA-F07EECF33E17-8-353_homereminder@146.badmintonne
 rs.net
DTSTAMP:20260420T041200Z
SUMMARY:Thuismatch ingevuld? (De Klamp 1G (63) - Brasschaat 2G (47))
DESCRIPTION:Je hebt 36 uur na aanvang om een thuismatch op Badmintonvlaande
 ren in te vullen. Match info: De Klamp 1G (63) - Brasschaat 2G (47) - Link
 : https://www.badmintonvlaanderen.be/sport/teammatch.aspx?id=88B516F8-C241
 -4391-98BA-F07EECF33E17&match=353
DTSTART;TZID=Europe/Brussels:20260203T061500
DTEND;TZID=Europe/Brussels:20260203T061500
END:VEVENT
BEGIN:VEVENT
UID:88B516F8-C241-4391-98BA-F07EECF33E17-8-372_homereminder@146.badmintonne
 rs.net
DTSTAMP:20260420T041200Z
SUMMARY:Thuismatch ingevuld? (De Klamp 1G (63) - Olve 3G (48))
DESCRIPTION:Je hebt 36 uur na aanvang om een thuismatch op Badmintonvlaande
 ren in te vullen. Match info: De Klamp 1G (63) - Olve 3G (48) - Link: http
 s://www.badmintonvlaanderen.be/sport/teammatch.aspx?id=88B516F8-C241-4391-
 98BA-F07EECF33E17&match=372
DTSTART;TZID=Europe/Brussels:20260331T061500
DTEND;TZID=Europe/Brussels:20260331T061500
END:VEVENT
BEGIN:VEVENT
UID:88B516F8-C241-4391-98BA-F07EECF33E17-8-359_awayreminder@146.badmintonne
 rs.net
DTSTAMP:20260420T041200Z
SUMMARY:Uitmatch bevestigd? (Brasschaat 2G (47) - De Klamp 1G (63))
DESCRIPTION:Je hebt 72 uur na aanvang om een uitmatch op Badmintonvlaandere
 n in te vullen. Match info: Brasschaat 2G (47) - De Klamp 1G (63) - Link: 
 https://www.badmintonvlaanderen.be/sport/teammatch.aspx?id=88B516F8-C241-4
 391-98BA-F07EECF33E17&match=359
DTSTART;TZID=Europe/Brussels:20251001T190000
DTEND;TZID=Europe/Brussels:20251001T190000
END:VEVENT
BEGIN:VEVENT
UID:88B516F8-C241-4391-98BA-F07EECF33E17-8-361_awayreminder@146.badmintonne
 rs.net
DTSTAMP:20260420T041200Z
SUMMARY:Uitmatch bevestigd? (Olve 3G (48) - De Klamp 1G (63))
DESCRIPTION:Je hebt 72 uur na aanvang om een uitmatch op Badmintonvlaandere
 n in te vullen. Match info: Olve 3G (48) - De Klamp 1G (63) - Link: https:
 //www.badmintonvlaanderen.be/sport/teammatch.aspx?id=88B516F8-C241-4391-98
 BA-F07EECF33E17&match=361
DTSTART;TZID=Europe/Brussels:20251118T103000
DTEND;TZID=Europe/Brussels:20251118T103000
END:VEVENT
BEGIN:VEVENT
UID:88B516F8-C241-4391-98BA-F07EECF33E17-8-362_awayreminder@146.badmintonne
 rs.net
DTSTAMP:20260420T041200Z
SUMMARY:Uitmatch bevestigd? (Royal Antwerp 2G (57) - De Klamp 1G (63))
DESCRIPTION:Je hebt 72 uur na aanvang om een uitmatch op Badmintonvlaandere
 n in te vullen. Match info: Royal Antwerp 2G (57) - De Klamp 1G (63) - Lin
 k: https://www.badmintonvlaanderen.be/sport/teammatch.aspx?id=88B516F8-C24
 1-4391-98BA-F07EECF33E17&match=362
DTSTART;TZID=Europe/Brussels:20260107T180000
DTEND;TZID=Europe/Brussels:20260107T180000
END:VEVENT
BEGIN:VEVENT
UID:88B516F8-C241-4391-98BA-F07EECF33E17-8-363_awayreminder@146.badmintonne
 rs.net
DTSTAMP:20260420T041200Z
SUMMARY:Uitmatch bevestigd? (Tots Keerbergen 1G (54) - De Klamp 1G (63))
DESCRIPTION:Je hebt 72 uur na aanvang om een uitmatch op Badmintonvlaandere
 n in te vullen. Match info: Tots Keerbergen 1G (54) - De Klamp 1G (63) - L
 ink: https://www.badmintonvlaanderen.be/sport/teammatch.aspx?id=88B516F8-C
 241-4391-98BA-F07EECF33E17&match=363
DTSTART;TZID=Europe/Brussels:20260304T190000
DTEND;TZID=Europe/Brussels:20260304T190000
END:VEVENT
BEGIN:VEVENT
UID:88B516F8-C241-4391-98BA-F07EECF33E17-8-360_awayreminder@146.badmintonne
 rs.net
DTSTAMP:20260420T041200Z
SUMMARY:Uitmatch bevestigd? (Klein Boom 1G (48) - De Klamp 1G (63))
DESCRIPTION:Je hebt 72 uur na aanvang om een uitmatch op Badmintonvlaandere
 n in te vullen. Match info: Klein Boom 1G (48) - De Klamp 1G (63) - Link: 
 https://www.badmintonvlaanderen.be/sport/teammatch.aspx?id=88B516F8-C241-4
 391-98BA-F07EECF33E17&match=360
DTSTART;TZID=Europe/Brussels:20260318T190000
DTEND;TZID=Europe/Brussels:20260318T190000
END:VEVENT
END:VCALENDAR