BEGIN:VCALENDAR
VERSION:2.0
PRODID:spatie/icalendar-generator
NAME:bacss_1d_60_reminders
X-WR-CALNAME:bacss_1d_60_reminders
BEGIN:VTIMEZONE
TZID:Europe/Brussels
BEGIN:DAYLIGHT
DTSTART:20250330T010000
TZOFFSETFROM:+0100
TZOFFSETTO:+0200
END:DAYLIGHT
BEGIN:STANDARD
DTSTART:20251026T030000
TZOFFSETFROM:+0200
TZOFFSETTO:+0100
END:STANDARD
BEGIN:DAYLIGHT
DTSTART:20260329T010000
TZOFFSETFROM:+0100
TZOFFSETTO:+0200
END:DAYLIGHT
END:VTIMEZONE
BEGIN:VTIMEZONE
TZID:UTC
BEGIN:STANDARD
DTSTART:20250724T055112
TZOFFSETFROM:+0000
TZOFFSETTO:+0000
END:STANDARD
END:VTIMEZONE
BEGIN:VEVENT
UID:A0E9B3BE-1D47-428D-8EB5-7807839F7498-1-18_homereminder@102.badmintonner
 s.net
DTSTAMP:20260420T055112Z
SUMMARY:Thuismatch ingevuld? (Bacss 1D (60) - Poona 1D (52))
DESCRIPTION:Je hebt 36 uur na aanvang om een thuismatch op Badmintonvlaande
 ren in te vullen. Match info: Bacss 1D (60) - Poona 1D (52) - Link: https:
 //www.badmintonvlaanderen.be/sport/teammatch.aspx?id=A0E9B3BE-1D47-428D-8E
 B5-7807839F7498&match=18
DTSTART;TZID=Europe/Brussels:20250921T081500
DTEND;TZID=Europe/Brussels:20250921T081500
END:VEVENT
BEGIN:VEVENT
UID:A0E9B3BE-1D47-428D-8EB5-7807839F7498-1-30_homereminder@102.badmintonner
 s.net
DTSTAMP:20260420T055112Z
SUMMARY:Thuismatch ingevuld? (Bacss 1D (60) - Plumula 1D (53))
DESCRIPTION:Je hebt 36 uur na aanvang om een thuismatch op Badmintonvlaande
 ren in te vullen. Match info: Bacss 1D (60) - Plumula 1D (53) - Link: http
 s://www.badmintonvlaanderen.be/sport/teammatch.aspx?id=A0E9B3BE-1D47-428D-
 8EB5-7807839F7498&match=30
DTSTART;TZID=Europe/Brussels:20250922T220000
DTEND;TZID=Europe/Brussels:20250922T220000
END:VEVENT
BEGIN:VEVENT
UID:A0E9B3BE-1D47-428D-8EB5-7807839F7498-1-49_homereminder@102.badmintonner
 s.net
DTSTAMP:20260420T055112Z
SUMMARY:Thuismatch ingevuld? (Bacss 1D (60) - Spinshuttle 1D (58))
DESCRIPTION:Je hebt 36 uur na aanvang om een thuismatch op Badmintonvlaande
 ren in te vullen. Match info: Bacss 1D (60) - Spinshuttle 1D (58) - Link: 
 https://www.badmintonvlaanderen.be/sport/teammatch.aspx?id=A0E9B3BE-1D47-4
 28D-8EB5-7807839F7498&match=49
DTSTART;TZID=Europe/Brussels:20251116T081500
DTEND;TZID=Europe/Brussels:20251116T081500
END:VEVENT
BEGIN:VEVENT
UID:A0E9B3BE-1D47-428D-8EB5-7807839F7498-1-24_homereminder@102.badmintonner
 s.net
DTSTAMP:20260420T055112Z
SUMMARY:Thuismatch ingevuld? (Bacss 1D (60) - Rivierenland 2D (46))
DESCRIPTION:Je hebt 36 uur na aanvang om een thuismatch op Badmintonvlaande
 ren in te vullen. Match info: Bacss 1D (60) - Rivierenland 2D (46) - Link:
  https://www.badmintonvlaanderen.be/sport/teammatch.aspx?id=A0E9B3BE-1D47-
 428D-8EB5-7807839F7498&match=24
DTSTART;TZID=Europe/Brussels:20260111T081500
DTEND;TZID=Europe/Brussels:20260111T081500
END:VEVENT
BEGIN:VEVENT
UID:A0E9B3BE-1D47-428D-8EB5-7807839F7498-1-36_homereminder@102.badmintonner
 s.net
DTSTAMP:20260420T055112Z
SUMMARY:Thuismatch ingevuld? (Bacss 1D (60) - Klein Boom 2D (52))
DESCRIPTION:Je hebt 36 uur na aanvang om een thuismatch op Badmintonvlaande
 ren in te vullen. Match info: Bacss 1D (60) - Klein Boom 2D (52) - Link: h
 ttps://www.badmintonvlaanderen.be/sport/teammatch.aspx?id=A0E9B3BE-1D47-42
 8D-8EB5-7807839F7498&match=36
DTSTART;TZID=Europe/Brussels:20260223T220000
DTEND;TZID=Europe/Brussels:20260223T220000
END:VEVENT
BEGIN:VEVENT
UID:A0E9B3BE-1D47-428D-8EB5-7807839F7498-1-12_homereminder@102.badmintonner
 s.net
DTSTAMP:20260420T055112Z
SUMMARY:Thuismatch ingevuld? (Bacss 1D (60) - Brasschaat 2D (52))
DESCRIPTION:Je hebt 36 uur na aanvang om een thuismatch op Badmintonvlaande
 ren in te vullen. Match info: Bacss 1D (60) - Brasschaat 2D (52) - Link: h
 ttps://www.badmintonvlaanderen.be/sport/teammatch.aspx?id=A0E9B3BE-1D47-42
 8D-8EB5-7807839F7498&match=12
DTSTART;TZID=Europe/Brussels:20260405T081500
DTEND;TZID=Europe/Brussels:20260405T081500
END:VEVENT
BEGIN:VEVENT
UID:A0E9B3BE-1D47-428D-8EB5-7807839F7498-1-40_awayreminder@102.badmintonner
 s.net
DTSTAMP:20260420T055112Z
SUMMARY:Uitmatch bevestigd? (Rivierenland 2D (46) - Bacss 1D (60))
DESCRIPTION:Je hebt 72 uur na aanvang om een uitmatch op Badmintonvlaandere
 n in te vullen. Match info: Rivierenland 2D (46) - Bacss 1D (60) - Link: h
 ttps://www.badmintonvlaanderen.be/sport/teammatch.aspx?id=A0E9B3BE-1D47-42
 8D-8EB5-7807839F7498&match=40
DTSTART;TZID=Europe/Brussels:20251119T163000
DTEND;TZID=Europe/Brussels:20251119T163000
END:VEVENT
BEGIN:VEVENT
UID:A0E9B3BE-1D47-428D-8EB5-7807839F7498-1-42_awayreminder@102.badmintonner
 s.net
DTSTAMP:20260420T055112Z
SUMMARY:Uitmatch bevestigd? (Klein Boom 2D (52) - Bacss 1D (60))
DESCRIPTION:Je hebt 72 uur na aanvang om een uitmatch op Badmintonvlaandere
 n in te vullen. Match info: Klein Boom 2D (52) - Bacss 1D (60) - Link: htt
 ps://www.badmintonvlaanderen.be/sport/teammatch.aspx?id=A0E9B3BE-1D47-428D
 -8EB5-7807839F7498&match=42
DTSTART;TZID=Europe/Brussels:20251204T200000
DTEND;TZID=Europe/Brussels:20251204T200000
END:VEVENT
BEGIN:VEVENT
UID:A0E9B3BE-1D47-428D-8EB5-7807839F7498-1-38_awayreminder@102.badmintonner
 s.net
DTSTAMP:20260420T055112Z
SUMMARY:Uitmatch bevestigd? (Brasschaat 2D (52) - Bacss 1D (60))
DESCRIPTION:Je hebt 72 uur na aanvang om een uitmatch op Badmintonvlaandere
 n in te vullen. Match info: Brasschaat 2D (52) - Bacss 1D (60) - Link: htt
 ps://www.badmintonvlaanderen.be/sport/teammatch.aspx?id=A0E9B3BE-1D47-428D
 -8EB5-7807839F7498&match=38
DTSTART;TZID=Europe/Brussels:20251217T190000
DTEND;TZID=Europe/Brussels:20251217T190000
END:VEVENT
BEGIN:VEVENT
UID:A0E9B3BE-1D47-428D-8EB5-7807839F7498-1-41_awayreminder@102.badmintonner
 s.net
DTSTAMP:20260420T055112Z
SUMMARY:Uitmatch bevestigd? (Plumula 1D (53) - Bacss 1D (60))
DESCRIPTION:Je hebt 72 uur na aanvang om een uitmatch op Badmintonvlaandere
 n in te vullen. Match info: Plumula 1D (53) - Bacss 1D (60) - Link: https:
 //www.badmintonvlaanderen.be/sport/teammatch.aspx?id=A0E9B3BE-1D47-428D-8E
 B5-7807839F7498&match=41
DTSTART;TZID=Europe/Brussels:20260125T200000
DTEND;TZID=Europe/Brussels:20260125T200000
END:VEVENT
BEGIN:VEVENT
UID:A0E9B3BE-1D47-428D-8EB5-7807839F7498-1-39_awayreminder@102.badmintonner
 s.net
DTSTAMP:20260420T055112Z
SUMMARY:Uitmatch bevestigd? (Poona 1D (52) - Bacss 1D (60))
DESCRIPTION:Je hebt 72 uur na aanvang om een uitmatch op Badmintonvlaandere
 n in te vullen. Match info: Poona 1D (52) - Bacss 1D (60) - Link: https://
 www.badmintonvlaanderen.be/sport/teammatch.aspx?id=A0E9B3BE-1D47-428D-8EB5
 -7807839F7498&match=39
DTSTART;TZID=Europe/Brussels:20260305T200000
DTEND;TZID=Europe/Brussels:20260305T200000
END:VEVENT
BEGIN:VEVENT
UID:A0E9B3BE-1D47-428D-8EB5-7807839F7498-1-43_awayreminder@102.badmintonner
 s.net
DTSTAMP:20260420T055112Z
SUMMARY:Uitmatch bevestigd? (Spinshuttle 1D (58) - Bacss 1D (60))
DESCRIPTION:Je hebt 72 uur na aanvang om een uitmatch op Badmintonvlaandere
 n in te vullen. Match info: Spinshuttle 1D (58) - Bacss 1D (60) - Link: ht
 tps://www.badmintonvlaanderen.be/sport/teammatch.aspx?id=A0E9B3BE-1D47-428
 D-8EB5-7807839F7498&match=43
DTSTART;TZID=Europe/Brussels:20260403T200000
DTEND;TZID=Europe/Brussels:20260403T200000
END:VEVENT
END:VCALENDAR