BEGIN:VCALENDAR
VERSION:2.0
PRODID:spatie/icalendar-generator
NAME:poona_1d_52_reminders
X-WR-CALNAME:poona_1d_52_reminders
BEGIN:VTIMEZONE
TZID:Europe/Brussels
BEGIN:DAYLIGHT
DTSTART:20250330T010000
TZOFFSETFROM:+0100
TZOFFSETTO:+0200
END:DAYLIGHT
BEGIN:STANDARD
DTSTART:20251026T030000
TZOFFSETFROM:+0200
TZOFFSETTO:+0100
END:STANDARD
BEGIN:DAYLIGHT
DTSTART:20260329T010000
TZOFFSETFROM:+0100
TZOFFSETTO:+0200
END:DAYLIGHT
END:VTIMEZONE
BEGIN:VTIMEZONE
TZID:UTC
BEGIN:STANDARD
DTSTART:20250724T041158
TZOFFSETFROM:+0000
TZOFFSETTO:+0000
END:STANDARD
END:VTIMEZONE
BEGIN:VEVENT
UID:A0E9B3BE-1D47-428D-8EB5-7807839F7498-1-21_homereminder@103.badmintonner
 s.net
DTSTAMP:20260420T041158Z
SUMMARY:Thuismatch ingevuld? (Poona 1D (52) - Rivierenland 2D (46))
DESCRIPTION:Je hebt 36 uur na aanvang om een thuismatch op Badmintonvlaande
 ren in te vullen. Match info: Poona 1D (52) - Rivierenland 2D (46) - Link:
  https://www.badmintonvlaanderen.be/sport/teammatch.aspx?id=A0E9B3BE-1D47-
 428D-8EB5-7807839F7498&match=21
DTSTART;TZID=Europe/Brussels:20250903T080000
DTEND;TZID=Europe/Brussels:20250903T080000
END:VEVENT
BEGIN:VEVENT
UID:A0E9B3BE-1D47-428D-8EB5-7807839F7498-1-45_homereminder@103.badmintonner
 s.net
DTSTAMP:20260420T041158Z
SUMMARY:Thuismatch ingevuld? (Poona 1D (52) - Spinshuttle 1D (58))
DESCRIPTION:Je hebt 36 uur na aanvang om een thuismatch op Badmintonvlaande
 ren in te vullen. Match info: Poona 1D (52) - Spinshuttle 1D (58) - Link: 
 https://www.badmintonvlaanderen.be/sport/teammatch.aspx?id=A0E9B3BE-1D47-4
 28D-8EB5-7807839F7498&match=45
DTSTART;TZID=Europe/Brussels:20251126T080000
DTEND;TZID=Europe/Brussels:20251126T080000
END:VEVENT
BEGIN:VEVENT
UID:A0E9B3BE-1D47-428D-8EB5-7807839F7498-1-33_homereminder@103.badmintonner
 s.net
DTSTAMP:20260420T041158Z
SUMMARY:Thuismatch ingevuld? (Poona 1D (52) - Klein Boom 2D (52))
DESCRIPTION:Je hebt 36 uur na aanvang om een thuismatch op Badmintonvlaande
 ren in te vullen. Match info: Poona 1D (52) - Klein Boom 2D (52) - Link: h
 ttps://www.badmintonvlaanderen.be/sport/teammatch.aspx?id=A0E9B3BE-1D47-42
 8D-8EB5-7807839F7498&match=33
DTSTART;TZID=Europe/Brussels:20251210T080000
DTEND;TZID=Europe/Brussels:20251210T080000
END:VEVENT
BEGIN:VEVENT
UID:A0E9B3BE-1D47-428D-8EB5-7807839F7498-1-8_homereminder@103.badmintonners
 .net
DTSTAMP:20260420T041158Z
SUMMARY:Thuismatch ingevuld? (Poona 1D (52) - Brasschaat 2D (52))
DESCRIPTION:Je hebt 36 uur na aanvang om een thuismatch op Badmintonvlaande
 ren in te vullen. Match info: Poona 1D (52) - Brasschaat 2D (52) - Link: h
 ttps://www.badmintonvlaanderen.be/sport/teammatch.aspx?id=A0E9B3BE-1D47-42
 8D-8EB5-7807839F7498&match=8
DTSTART;TZID=Europe/Brussels:20260121T080000
DTEND;TZID=Europe/Brussels:20260121T080000
END:VEVENT
BEGIN:VEVENT
UID:A0E9B3BE-1D47-428D-8EB5-7807839F7498-1-39_homereminder@103.badmintonner
 s.net
DTSTAMP:20260420T041158Z
SUMMARY:Thuismatch ingevuld? (Poona 1D (52) - Bacss 1D (60))
DESCRIPTION:Je hebt 36 uur na aanvang om een thuismatch op Badmintonvlaande
 ren in te vullen. Match info: Poona 1D (52) - Bacss 1D (60) - Link: https:
 //www.badmintonvlaanderen.be/sport/teammatch.aspx?id=A0E9B3BE-1D47-428D-8E
 B5-7807839F7498&match=39
DTSTART;TZID=Europe/Brussels:20260304T080000
DTEND;TZID=Europe/Brussels:20260304T080000
END:VEVENT
BEGIN:VEVENT
UID:A0E9B3BE-1D47-428D-8EB5-7807839F7498-1-27_homereminder@103.badmintonner
 s.net
DTSTAMP:20260420T041158Z
SUMMARY:Thuismatch ingevuld? (Poona 1D (52) - Plumula 1D (53))
DESCRIPTION:Je hebt 36 uur na aanvang om een thuismatch op Badmintonvlaande
 ren in te vullen. Match info: Poona 1D (52) - Plumula 1D (53) - Link: http
 s://www.badmintonvlaanderen.be/sport/teammatch.aspx?id=A0E9B3BE-1D47-428D-
 8EB5-7807839F7498&match=27
DTSTART;TZID=Europe/Brussels:20260318T080000
DTEND;TZID=Europe/Brussels:20260318T080000
END:VEVENT
BEGIN:VEVENT
UID:A0E9B3BE-1D47-428D-8EB5-7807839F7498-1-14_awayreminder@103.badmintonner
 s.net
DTSTAMP:20260420T041158Z
SUMMARY:Uitmatch bevestigd? (Brasschaat 2D (52) - Poona 1D (52))
DESCRIPTION:Je hebt 72 uur na aanvang om een uitmatch op Badmintonvlaandere
 n in te vullen. Match info: Brasschaat 2D (52) - Poona 1D (52) - Link: htt
 ps://www.badmintonvlaanderen.be/sport/teammatch.aspx?id=A0E9B3BE-1D47-428D
 -8EB5-7807839F7498&match=14
DTSTART;TZID=Europe/Brussels:20250914T200000
DTEND;TZID=Europe/Brussels:20250914T200000
END:VEVENT
BEGIN:VEVENT
UID:A0E9B3BE-1D47-428D-8EB5-7807839F7498-1-18_awayreminder@103.badmintonner
 s.net
DTSTAMP:20260420T041158Z
SUMMARY:Uitmatch bevestigd? (Bacss 1D (60) - Poona 1D (52))
DESCRIPTION:Je hebt 72 uur na aanvang om een uitmatch op Badmintonvlaandere
 n in te vullen. Match info: Bacss 1D (60) - Poona 1D (52) - Link: https://
 www.badmintonvlaanderen.be/sport/teammatch.aspx?id=A0E9B3BE-1D47-428D-8EB5
 -7807839F7498&match=18
DTSTART;TZID=Europe/Brussels:20250922T201500
DTEND;TZID=Europe/Brussels:20250922T201500
END:VEVENT
BEGIN:VEVENT
UID:A0E9B3BE-1D47-428D-8EB5-7807839F7498-1-16_awayreminder@103.badmintonner
 s.net
DTSTAMP:20260420T041158Z
SUMMARY:Uitmatch bevestigd? (Plumula 1D (53) - Poona 1D (52))
DESCRIPTION:Je hebt 72 uur na aanvang om een uitmatch op Badmintonvlaandere
 n in te vullen. Match info: Plumula 1D (53) - Poona 1D (52) - Link: https:
 //www.badmintonvlaanderen.be/sport/teammatch.aspx?id=A0E9B3BE-1D47-428D-8E
 B5-7807839F7498&match=16
DTSTART;TZID=Europe/Brussels:20251130T200000
DTEND;TZID=Europe/Brussels:20251130T200000
END:VEVENT
BEGIN:VEVENT
UID:A0E9B3BE-1D47-428D-8EB5-7807839F7498-1-19_awayreminder@103.badmintonner
 s.net
DTSTAMP:20260420T041158Z
SUMMARY:Uitmatch bevestigd? (Spinshuttle 1D (58) - Poona 1D (52))
DESCRIPTION:Je hebt 72 uur na aanvang om een uitmatch op Badmintonvlaandere
 n in te vullen. Match info: Spinshuttle 1D (58) - Poona 1D (52) - Link: ht
 tps://www.badmintonvlaanderen.be/sport/teammatch.aspx?id=A0E9B3BE-1D47-428
 D-8EB5-7807839F7498&match=19
DTSTART;TZID=Europe/Brussels:20260109T200000
DTEND;TZID=Europe/Brussels:20260109T200000
END:VEVENT
BEGIN:VEVENT
UID:A0E9B3BE-1D47-428D-8EB5-7807839F7498-1-17_awayreminder@103.badmintonner
 s.net
DTSTAMP:20260420T041158Z
SUMMARY:Uitmatch bevestigd? (Klein Boom 2D (52) - Poona 1D (52))
DESCRIPTION:Je hebt 72 uur na aanvang om een uitmatch op Badmintonvlaandere
 n in te vullen. Match info: Klein Boom 2D (52) - Poona 1D (52) - Link: htt
 ps://www.badmintonvlaanderen.be/sport/teammatch.aspx?id=A0E9B3BE-1D47-428D
 -8EB5-7807839F7498&match=17
DTSTART;TZID=Europe/Brussels:20260211T190000
DTEND;TZID=Europe/Brussels:20260211T190000
END:VEVENT
BEGIN:VEVENT
UID:A0E9B3BE-1D47-428D-8EB5-7807839F7498-1-15_awayreminder@103.badmintonner
 s.net
DTSTAMP:20260420T041158Z
SUMMARY:Uitmatch bevestigd? (Rivierenland 2D (46) - Poona 1D (52))
DESCRIPTION:Je hebt 72 uur na aanvang om een uitmatch op Badmintonvlaandere
 n in te vullen. Match info: Rivierenland 2D (46) - Poona 1D (52) - Link: h
 ttps://www.badmintonvlaanderen.be/sport/teammatch.aspx?id=A0E9B3BE-1D47-42
 8D-8EB5-7807839F7498&match=15
DTSTART;TZID=Europe/Brussels:20260311T163000
DTEND;TZID=Europe/Brussels:20260311T163000
END:VEVENT
END:VCALENDAR