BEGIN:VCALENDAR
VERSION:2.0
PRODID:spatie/icalendar-generator
NAME:spinshuttle_1d_58_reminders
X-WR-CALNAME:spinshuttle_1d_58_reminders
BEGIN:VTIMEZONE
TZID:Europe/Brussels
BEGIN:DAYLIGHT
DTSTART:20250330T010000
TZOFFSETFROM:+0100
TZOFFSETTO:+0200
END:DAYLIGHT
BEGIN:STANDARD
DTSTART:20251026T030000
TZOFFSETFROM:+0200
TZOFFSETTO:+0100
END:STANDARD
BEGIN:DAYLIGHT
DTSTART:20260329T010000
TZOFFSETFROM:+0100
TZOFFSETTO:+0200
END:DAYLIGHT
END:VTIMEZONE
BEGIN:VTIMEZONE
TZID:UTC
BEGIN:STANDARD
DTSTART:20250724T043630
TZOFFSETFROM:+0000
TZOFFSETTO:+0000
END:STANDARD
END:VTIMEZONE
BEGIN:VEVENT
UID:A0E9B3BE-1D47-428D-8EB5-7807839F7498-1-25_homereminder@104.badmintonner
 s.net
DTSTAMP:20260420T043630Z
SUMMARY:Thuismatch ingevuld? (Spinshuttle 1D (58) - Rivierenland 2D (46))
DESCRIPTION:Je hebt 36 uur na aanvang om een thuismatch op Badmintonvlaande
 ren in te vullen. Match info: Spinshuttle 1D (58) - Rivierenland 2D (46) -
  Link: https://www.badmintonvlaanderen.be/sport/teammatch.aspx?id=A0E9B3BE
 -1D47-428D-8EB5-7807839F7498&match=25
DTSTART;TZID=Europe/Brussels:20251030T080000
DTEND;TZID=Europe/Brussels:20251030T080000
END:VEVENT
BEGIN:VEVENT
UID:A0E9B3BE-1D47-428D-8EB5-7807839F7498-1-37_homereminder@104.badmintonner
 s.net
DTSTAMP:20260420T043630Z
SUMMARY:Thuismatch ingevuld? (Spinshuttle 1D (58) - Klein Boom 2D (52))
DESCRIPTION:Je hebt 36 uur na aanvang om een thuismatch op Badmintonvlaande
 ren in te vullen. Match info: Spinshuttle 1D (58) - Klein Boom 2D (52) - L
 ink: https://www.badmintonvlaanderen.be/sport/teammatch.aspx?id=A0E9B3BE-1
 D47-428D-8EB5-7807839F7498&match=37
DTSTART;TZID=Europe/Brussels:20251106T080000
DTEND;TZID=Europe/Brussels:20251106T080000
END:VEVENT
BEGIN:VEVENT
UID:A0E9B3BE-1D47-428D-8EB5-7807839F7498-1-13_homereminder@104.badmintonner
 s.net
DTSTAMP:20260420T043630Z
SUMMARY:Thuismatch ingevuld? (Spinshuttle 1D (58) - Brasschaat 2D (52))
DESCRIPTION:Je hebt 36 uur na aanvang om een thuismatch op Badmintonvlaande
 ren in te vullen. Match info: Spinshuttle 1D (58) - Brasschaat 2D (52) - L
 ink: https://www.badmintonvlaanderen.be/sport/teammatch.aspx?id=A0E9B3BE-1
 D47-428D-8EB5-7807839F7498&match=13
DTSTART;TZID=Europe/Brussels:20251211T080000
DTEND;TZID=Europe/Brussels:20251211T080000
END:VEVENT
BEGIN:VEVENT
UID:A0E9B3BE-1D47-428D-8EB5-7807839F7498-1-19_homereminder@104.badmintonner
 s.net
DTSTAMP:20260420T043630Z
SUMMARY:Thuismatch ingevuld? (Spinshuttle 1D (58) - Poona 1D (52))
DESCRIPTION:Je hebt 36 uur na aanvang om een thuismatch op Badmintonvlaande
 ren in te vullen. Match info: Spinshuttle 1D (58) - Poona 1D (52) - Link: 
 https://www.badmintonvlaanderen.be/sport/teammatch.aspx?id=A0E9B3BE-1D47-4
 28D-8EB5-7807839F7498&match=19
DTSTART;TZID=Europe/Brussels:20260108T080000
DTEND;TZID=Europe/Brussels:20260108T080000
END:VEVENT
BEGIN:VEVENT
UID:A0E9B3BE-1D47-428D-8EB5-7807839F7498-1-31_homereminder@104.badmintonner
 s.net
DTSTAMP:20260420T043630Z
SUMMARY:Thuismatch ingevuld? (Spinshuttle 1D (58) - Plumula 1D (53))
DESCRIPTION:Je hebt 36 uur na aanvang om een thuismatch op Badmintonvlaande
 ren in te vullen. Match info: Spinshuttle 1D (58) - Plumula 1D (53) - Link
 : https://www.badmintonvlaanderen.be/sport/teammatch.aspx?id=A0E9B3BE-1D47
 -428D-8EB5-7807839F7498&match=31
DTSTART;TZID=Europe/Brussels:20260219T080000
DTEND;TZID=Europe/Brussels:20260219T080000
END:VEVENT
BEGIN:VEVENT
UID:A0E9B3BE-1D47-428D-8EB5-7807839F7498-1-43_homereminder@104.badmintonner
 s.net
DTSTAMP:20260420T043630Z
SUMMARY:Thuismatch ingevuld? (Spinshuttle 1D (58) - Bacss 1D (60))
DESCRIPTION:Je hebt 36 uur na aanvang om een thuismatch op Badmintonvlaande
 ren in te vullen. Match info: Spinshuttle 1D (58) - Bacss 1D (60) - Link: 
 https://www.badmintonvlaanderen.be/sport/teammatch.aspx?id=A0E9B3BE-1D47-4
 28D-8EB5-7807839F7498&match=43
DTSTART;TZID=Europe/Brussels:20260402T080000
DTEND;TZID=Europe/Brussels:20260402T080000
END:VEVENT
BEGIN:VEVENT
UID:A0E9B3BE-1D47-428D-8EB5-7807839F7498-1-49_awayreminder@104.badmintonner
 s.net
DTSTAMP:20260420T043630Z
SUMMARY:Uitmatch bevestigd? (Bacss 1D (60) - Spinshuttle 1D (58))
DESCRIPTION:Je hebt 72 uur na aanvang om een uitmatch op Badmintonvlaandere
 n in te vullen. Match info: Bacss 1D (60) - Spinshuttle 1D (58) - Link: ht
 tps://www.badmintonvlaanderen.be/sport/teammatch.aspx?id=A0E9B3BE-1D47-428
 D-8EB5-7807839F7498&match=49
DTSTART;TZID=Europe/Brussels:20251117T201500
DTEND;TZID=Europe/Brussels:20251117T201500
END:VEVENT
BEGIN:VEVENT
UID:A0E9B3BE-1D47-428D-8EB5-7807839F7498-1-45_awayreminder@104.badmintonner
 s.net
DTSTAMP:20260420T043630Z
SUMMARY:Uitmatch bevestigd? (Poona 1D (52) - Spinshuttle 1D (58))
DESCRIPTION:Je hebt 72 uur na aanvang om een uitmatch op Badmintonvlaandere
 n in te vullen. Match info: Poona 1D (52) - Spinshuttle 1D (58) - Link: ht
 tps://www.badmintonvlaanderen.be/sport/teammatch.aspx?id=A0E9B3BE-1D47-428
 D-8EB5-7807839F7498&match=45
DTSTART;TZID=Europe/Brussels:20251127T200000
DTEND;TZID=Europe/Brussels:20251127T200000
END:VEVENT
BEGIN:VEVENT
UID:A0E9B3BE-1D47-428D-8EB5-7807839F7498-1-47_awayreminder@104.badmintonner
 s.net
DTSTAMP:20260420T043630Z
SUMMARY:Uitmatch bevestigd? (Plumula 1D (53) - Spinshuttle 1D (58))
DESCRIPTION:Je hebt 72 uur na aanvang om een uitmatch op Badmintonvlaandere
 n in te vullen. Match info: Plumula 1D (53) - Spinshuttle 1D (58) - Link: 
 https://www.badmintonvlaanderen.be/sport/teammatch.aspx?id=A0E9B3BE-1D47-4
 28D-8EB5-7807839F7498&match=47
DTSTART;TZID=Europe/Brussels:20251207T200000
DTEND;TZID=Europe/Brussels:20251207T200000
END:VEVENT
BEGIN:VEVENT
UID:A0E9B3BE-1D47-428D-8EB5-7807839F7498-1-44_awayreminder@104.badmintonner
 s.net
DTSTAMP:20260420T043630Z
SUMMARY:Uitmatch bevestigd? (Brasschaat 2D (52) - Spinshuttle 1D (58))
DESCRIPTION:Je hebt 72 uur na aanvang om een uitmatch op Badmintonvlaandere
 n in te vullen. Match info: Brasschaat 2D (52) - Spinshuttle 1D (58) - Lin
 k: https://www.badmintonvlaanderen.be/sport/teammatch.aspx?id=A0E9B3BE-1D4
 7-428D-8EB5-7807839F7498&match=44
DTSTART;TZID=Europe/Brussels:20260114T190000
DTEND;TZID=Europe/Brussels:20260114T190000
END:VEVENT
BEGIN:VEVENT
UID:A0E9B3BE-1D47-428D-8EB5-7807839F7498-1-46_awayreminder@104.badmintonner
 s.net
DTSTAMP:20260420T043630Z
SUMMARY:Uitmatch bevestigd? (Rivierenland 2D (46) - Spinshuttle 1D (58))
DESCRIPTION:Je hebt 72 uur na aanvang om een uitmatch op Badmintonvlaandere
 n in te vullen. Match info: Rivierenland 2D (46) - Spinshuttle 1D (58) - L
 ink: https://www.badmintonvlaanderen.be/sport/teammatch.aspx?id=A0E9B3BE-1
 D47-428D-8EB5-7807839F7498&match=46
DTSTART;TZID=Europe/Brussels:20260128T163000
DTEND;TZID=Europe/Brussels:20260128T163000
END:VEVENT
BEGIN:VEVENT
UID:A0E9B3BE-1D47-428D-8EB5-7807839F7498-1-48_awayreminder@104.badmintonner
 s.net
DTSTAMP:20260420T043630Z
SUMMARY:Uitmatch bevestigd? (Klein Boom 2D (52) - Spinshuttle 1D (58))
DESCRIPTION:Je hebt 72 uur na aanvang om een uitmatch op Badmintonvlaandere
 n in te vullen. Match info: Klein Boom 2D (52) - Spinshuttle 1D (58) - Lin
 k: https://www.badmintonvlaanderen.be/sport/teammatch.aspx?id=A0E9B3BE-1D4
 7-428D-8EB5-7807839F7498&match=48
DTSTART;TZID=Europe/Brussels:20260311T190000
DTEND;TZID=Europe/Brussels:20260311T190000
END:VEVENT
END:VCALENDAR