BEGIN:VCALENDAR
VERSION:2.0
PRODID:spatie/icalendar-generator
NAME:klein_boom_2d_52_reminders
X-WR-CALNAME:klein_boom_2d_52_reminders
BEGIN:VTIMEZONE
TZID:Europe/Brussels
BEGIN:DAYLIGHT
DTSTART:20250330T010000
TZOFFSETFROM:+0100
TZOFFSETTO:+0200
END:DAYLIGHT
BEGIN:STANDARD
DTSTART:20251026T030000
TZOFFSETFROM:+0200
TZOFFSETTO:+0100
END:STANDARD
BEGIN:DAYLIGHT
DTSTART:20260329T010000
TZOFFSETFROM:+0100
TZOFFSETTO:+0200
END:DAYLIGHT
END:VTIMEZONE
BEGIN:VTIMEZONE
TZID:UTC
BEGIN:STANDARD
DTSTART:20250724T042236
TZOFFSETFROM:+0000
TZOFFSETTO:+0000
END:STANDARD
END:VTIMEZONE
BEGIN:VEVENT
UID:A0E9B3BE-1D47-428D-8EB5-7807839F7498-1-11_homereminder@105.badmintonner
 s.net
DTSTAMP:20260420T042236Z
SUMMARY:Thuismatch ingevuld? (Klein Boom 2D (52) - Brasschaat 2D (52))
DESCRIPTION:Je hebt 36 uur na aanvang om een thuismatch op Badmintonvlaande
 ren in te vullen. Match info: Klein Boom 2D (52) - Brasschaat 2D (52) - Li
 nk: https://www.badmintonvlaanderen.be/sport/teammatch.aspx?id=A0E9B3BE-1D
 47-428D-8EB5-7807839F7498&match=11
DTSTART;TZID=Europe/Brussels:20251202T070000
DTEND;TZID=Europe/Brussels:20251202T070000
END:VEVENT
BEGIN:VEVENT
UID:A0E9B3BE-1D47-428D-8EB5-7807839F7498-1-42_homereminder@105.badmintonner
 s.net
DTSTAMP:20260420T042236Z
SUMMARY:Thuismatch ingevuld? (Klein Boom 2D (52) - Bacss 1D (60))
DESCRIPTION:Je hebt 36 uur na aanvang om een thuismatch op Badmintonvlaande
 ren in te vullen. Match info: Klein Boom 2D (52) - Bacss 1D (60) - Link: h
 ttps://www.badmintonvlaanderen.be/sport/teammatch.aspx?id=A0E9B3BE-1D47-42
 8D-8EB5-7807839F7498&match=42
DTSTART;TZID=Europe/Brussels:20251203T080000
DTEND;TZID=Europe/Brussels:20251203T080000
END:VEVENT
BEGIN:VEVENT
UID:A0E9B3BE-1D47-428D-8EB5-7807839F7498-1-23_homereminder@105.badmintonner
 s.net
DTSTAMP:20260420T042236Z
SUMMARY:Thuismatch ingevuld? (Klein Boom 2D (52) - Rivierenland 2D (46))
DESCRIPTION:Je hebt 36 uur na aanvang om een thuismatch op Badmintonvlaande
 ren in te vullen. Match info: Klein Boom 2D (52) - Rivierenland 2D (46) - 
 Link: https://www.badmintonvlaanderen.be/sport/teammatch.aspx?id=A0E9B3BE-
 1D47-428D-8EB5-7807839F7498&match=23
DTSTART;TZID=Europe/Brussels:20251230T070000
DTEND;TZID=Europe/Brussels:20251230T070000
END:VEVENT
BEGIN:VEVENT
UID:A0E9B3BE-1D47-428D-8EB5-7807839F7498-1-29_homereminder@105.badmintonner
 s.net
DTSTAMP:20260420T042236Z
SUMMARY:Thuismatch ingevuld? (Klein Boom 2D (52) - Plumula 1D (53))
DESCRIPTION:Je hebt 36 uur na aanvang om een thuismatch op Badmintonvlaande
 ren in te vullen. Match info: Klein Boom 2D (52) - Plumula 1D (53) - Link:
  https://www.badmintonvlaanderen.be/sport/teammatch.aspx?id=A0E9B3BE-1D47-
 428D-8EB5-7807839F7498&match=29
DTSTART;TZID=Europe/Brussels:20260113T070000
DTEND;TZID=Europe/Brussels:20260113T070000
END:VEVENT
BEGIN:VEVENT
UID:A0E9B3BE-1D47-428D-8EB5-7807839F7498-1-17_homereminder@105.badmintonner
 s.net
DTSTAMP:20260420T042236Z
SUMMARY:Thuismatch ingevuld? (Klein Boom 2D (52) - Poona 1D (52))
DESCRIPTION:Je hebt 36 uur na aanvang om een thuismatch op Badmintonvlaande
 ren in te vullen. Match info: Klein Boom 2D (52) - Poona 1D (52) - Link: h
 ttps://www.badmintonvlaanderen.be/sport/teammatch.aspx?id=A0E9B3BE-1D47-42
 8D-8EB5-7807839F7498&match=17
DTSTART;TZID=Europe/Brussels:20260210T070000
DTEND;TZID=Europe/Brussels:20260210T070000
END:VEVENT
BEGIN:VEVENT
UID:A0E9B3BE-1D47-428D-8EB5-7807839F7498-1-48_homereminder@105.badmintonner
 s.net
DTSTAMP:20260420T042236Z
SUMMARY:Thuismatch ingevuld? (Klein Boom 2D (52) - Spinshuttle 1D (58))
DESCRIPTION:Je hebt 36 uur na aanvang om een thuismatch op Badmintonvlaande
 ren in te vullen. Match info: Klein Boom 2D (52) - Spinshuttle 1D (58) - L
 ink: https://www.badmintonvlaanderen.be/sport/teammatch.aspx?id=A0E9B3BE-1
 D47-428D-8EB5-7807839F7498&match=48
DTSTART;TZID=Europe/Brussels:20260310T070000
DTEND;TZID=Europe/Brussels:20260310T070000
END:VEVENT
BEGIN:VEVENT
UID:A0E9B3BE-1D47-428D-8EB5-7807839F7498-1-35_awayreminder@105.badmintonner
 s.net
DTSTAMP:20260420T042236Z
SUMMARY:Uitmatch bevestigd? (Plumula 1D (53) - Klein Boom 2D (52))
DESCRIPTION:Je hebt 72 uur na aanvang om een uitmatch op Badmintonvlaandere
 n in te vullen. Match info: Plumula 1D (53) - Klein Boom 2D (52) - Link: h
 ttps://www.badmintonvlaanderen.be/sport/teammatch.aspx?id=A0E9B3BE-1D47-42
 8D-8EB5-7807839F7498&match=35
DTSTART;TZID=Europe/Brussels:20251026T190000
DTEND;TZID=Europe/Brussels:20251026T190000
END:VEVENT
BEGIN:VEVENT
UID:A0E9B3BE-1D47-428D-8EB5-7807839F7498-1-37_awayreminder@105.badmintonner
 s.net
DTSTAMP:20260420T042236Z
SUMMARY:Uitmatch bevestigd? (Spinshuttle 1D (58) - Klein Boom 2D (52))
DESCRIPTION:Je hebt 72 uur na aanvang om een uitmatch op Badmintonvlaandere
 n in te vullen. Match info: Spinshuttle 1D (58) - Klein Boom 2D (52) - Lin
 k: https://www.badmintonvlaanderen.be/sport/teammatch.aspx?id=A0E9B3BE-1D4
 7-428D-8EB5-7807839F7498&match=37
DTSTART;TZID=Europe/Brussels:20251107T200000
DTEND;TZID=Europe/Brussels:20251107T200000
END:VEVENT
BEGIN:VEVENT
UID:A0E9B3BE-1D47-428D-8EB5-7807839F7498-1-33_awayreminder@105.badmintonner
 s.net
DTSTAMP:20260420T042236Z
SUMMARY:Uitmatch bevestigd? (Poona 1D (52) - Klein Boom 2D (52))
DESCRIPTION:Je hebt 72 uur na aanvang om een uitmatch op Badmintonvlaandere
 n in te vullen. Match info: Poona 1D (52) - Klein Boom 2D (52) - Link: htt
 ps://www.badmintonvlaanderen.be/sport/teammatch.aspx?id=A0E9B3BE-1D47-428D
 -8EB5-7807839F7498&match=33
DTSTART;TZID=Europe/Brussels:20251211T200000
DTEND;TZID=Europe/Brussels:20251211T200000
END:VEVENT
BEGIN:VEVENT
UID:A0E9B3BE-1D47-428D-8EB5-7807839F7498-1-36_awayreminder@105.badmintonner
 s.net
DTSTAMP:20260420T042236Z
SUMMARY:Uitmatch bevestigd? (Bacss 1D (60) - Klein Boom 2D (52))
DESCRIPTION:Je hebt 72 uur na aanvang om een uitmatch op Badmintonvlaandere
 n in te vullen. Match info: Bacss 1D (60) - Klein Boom 2D (52) - Link: htt
 ps://www.badmintonvlaanderen.be/sport/teammatch.aspx?id=A0E9B3BE-1D47-428D
 -8EB5-7807839F7498&match=36
DTSTART;TZID=Europe/Brussels:20260225T100000
DTEND;TZID=Europe/Brussels:20260225T100000
END:VEVENT
BEGIN:VEVENT
UID:A0E9B3BE-1D47-428D-8EB5-7807839F7498-1-32_awayreminder@105.badmintonner
 s.net
DTSTAMP:20260420T042236Z
SUMMARY:Uitmatch bevestigd? (Brasschaat 2D (52) - Klein Boom 2D (52))
DESCRIPTION:Je hebt 72 uur na aanvang om een uitmatch op Badmintonvlaandere
 n in te vullen. Match info: Brasschaat 2D (52) - Klein Boom 2D (52) - Link
 : https://www.badmintonvlaanderen.be/sport/teammatch.aspx?id=A0E9B3BE-1D47
 -428D-8EB5-7807839F7498&match=32
DTSTART;TZID=Europe/Brussels:20260325T190000
DTEND;TZID=Europe/Brussels:20260325T190000
END:VEVENT
BEGIN:VEVENT
UID:A0E9B3BE-1D47-428D-8EB5-7807839F7498-1-34_awayreminder@105.badmintonner
 s.net
DTSTAMP:20260420T042236Z
SUMMARY:Uitmatch bevestigd? (Rivierenland 2D (46) - Klein Boom 2D (52))
DESCRIPTION:Je hebt 72 uur na aanvang om een uitmatch op Badmintonvlaandere
 n in te vullen. Match info: Rivierenland 2D (46) - Klein Boom 2D (52) - Li
 nk: https://www.badmintonvlaanderen.be/sport/teammatch.aspx?id=A0E9B3BE-1D
 47-428D-8EB5-7807839F7498&match=34
DTSTART;TZID=Europe/Brussels:20260422T163000
DTEND;TZID=Europe/Brussels:20260422T163000
END:VEVENT
END:VCALENDAR