BEGIN:VCALENDAR
VERSION:2.0
PRODID:spatie/icalendar-generator
NAME:plumula_1d_53_reminders
X-WR-CALNAME:plumula_1d_53_reminders
BEGIN:VTIMEZONE
TZID:Europe/Brussels
BEGIN:DAYLIGHT
DTSTART:20250330T010000
TZOFFSETFROM:+0100
TZOFFSETTO:+0200
END:DAYLIGHT
BEGIN:STANDARD
DTSTART:20251026T030000
TZOFFSETFROM:+0200
TZOFFSETTO:+0100
END:STANDARD
BEGIN:DAYLIGHT
DTSTART:20260329T010000
TZOFFSETFROM:+0100
TZOFFSETTO:+0200
END:DAYLIGHT
END:VTIMEZONE
BEGIN:VTIMEZONE
TZID:UTC
BEGIN:STANDARD
DTSTART:20250724T043747
TZOFFSETFROM:+0000
TZOFFSETTO:+0000
END:STANDARD
END:VTIMEZONE
BEGIN:VEVENT
UID:A0E9B3BE-1D47-428D-8EB5-7807839F7498-1-35_homereminder@106.badmintonner
 s.net
DTSTAMP:20260420T043747Z
SUMMARY:Thuismatch ingevuld? (Plumula 1D (53) - Klein Boom 2D (52))
DESCRIPTION:Je hebt 36 uur na aanvang om een thuismatch op Badmintonvlaande
 ren in te vullen. Match info: Plumula 1D (53) - Klein Boom 2D (52) - Link:
  https://www.badmintonvlaanderen.be/sport/teammatch.aspx?id=A0E9B3BE-1D47-
 428D-8EB5-7807839F7498&match=35
DTSTART;TZID=Europe/Brussels:20251025T080000
DTEND;TZID=Europe/Brussels:20251025T080000
END:VEVENT
BEGIN:VEVENT
UID:A0E9B3BE-1D47-428D-8EB5-7807839F7498-1-16_homereminder@106.badmintonner
 s.net
DTSTAMP:20260420T043747Z
SUMMARY:Thuismatch ingevuld? (Plumula 1D (53) - Poona 1D (52))
DESCRIPTION:Je hebt 36 uur na aanvang om een thuismatch op Badmintonvlaande
 ren in te vullen. Match info: Plumula 1D (53) - Poona 1D (52) - Link: http
 s://www.badmintonvlaanderen.be/sport/teammatch.aspx?id=A0E9B3BE-1D47-428D-
 8EB5-7807839F7498&match=16
DTSTART;TZID=Europe/Brussels:20251129T080000
DTEND;TZID=Europe/Brussels:20251129T080000
END:VEVENT
BEGIN:VEVENT
UID:A0E9B3BE-1D47-428D-8EB5-7807839F7498-1-47_homereminder@106.badmintonner
 s.net
DTSTAMP:20260420T043747Z
SUMMARY:Thuismatch ingevuld? (Plumula 1D (53) - Spinshuttle 1D (58))
DESCRIPTION:Je hebt 36 uur na aanvang om een thuismatch op Badmintonvlaande
 ren in te vullen. Match info: Plumula 1D (53) - Spinshuttle 1D (58) - Link
 : https://www.badmintonvlaanderen.be/sport/teammatch.aspx?id=A0E9B3BE-1D47
 -428D-8EB5-7807839F7498&match=47
DTSTART;TZID=Europe/Brussels:20251206T080000
DTEND;TZID=Europe/Brussels:20251206T080000
END:VEVENT
BEGIN:VEVENT
UID:A0E9B3BE-1D47-428D-8EB5-7807839F7498-1-41_homereminder@106.badmintonner
 s.net
DTSTAMP:20260420T043747Z
SUMMARY:Thuismatch ingevuld? (Plumula 1D (53) - Bacss 1D (60))
DESCRIPTION:Je hebt 36 uur na aanvang om een thuismatch op Badmintonvlaande
 ren in te vullen. Match info: Plumula 1D (53) - Bacss 1D (60) - Link: http
 s://www.badmintonvlaanderen.be/sport/teammatch.aspx?id=A0E9B3BE-1D47-428D-
 8EB5-7807839F7498&match=41
DTSTART;TZID=Europe/Brussels:20260124T080000
DTEND;TZID=Europe/Brussels:20260124T080000
END:VEVENT
BEGIN:VEVENT
UID:A0E9B3BE-1D47-428D-8EB5-7807839F7498-1-10_homereminder@106.badmintonner
 s.net
DTSTAMP:20260420T043747Z
SUMMARY:Thuismatch ingevuld? (Plumula 1D (53) - Brasschaat 2D (52))
DESCRIPTION:Je hebt 36 uur na aanvang om een thuismatch op Badmintonvlaande
 ren in te vullen. Match info: Plumula 1D (53) - Brasschaat 2D (52) - Link:
  https://www.badmintonvlaanderen.be/sport/teammatch.aspx?id=A0E9B3BE-1D47-
 428D-8EB5-7807839F7498&match=10
DTSTART;TZID=Europe/Brussels:20260307T080000
DTEND;TZID=Europe/Brussels:20260307T080000
END:VEVENT
BEGIN:VEVENT
UID:A0E9B3BE-1D47-428D-8EB5-7807839F7498-1-22_homereminder@106.badmintonner
 s.net
DTSTAMP:20260420T043747Z
SUMMARY:Thuismatch ingevuld? (Plumula 1D (53) - Rivierenland 2D (46))
DESCRIPTION:Je hebt 36 uur na aanvang om een thuismatch op Badmintonvlaande
 ren in te vullen. Match info: Plumula 1D (53) - Rivierenland 2D (46) - Lin
 k: https://www.badmintonvlaanderen.be/sport/teammatch.aspx?id=A0E9B3BE-1D4
 7-428D-8EB5-7807839F7498&match=22
DTSTART;TZID=Europe/Brussels:20260404T080000
DTEND;TZID=Europe/Brussels:20260404T080000
END:VEVENT
BEGIN:VEVENT
UID:A0E9B3BE-1D47-428D-8EB5-7807839F7498-1-30_awayreminder@106.badmintonner
 s.net
DTSTAMP:20260420T043747Z
SUMMARY:Uitmatch bevestigd? (Bacss 1D (60) - Plumula 1D (53))
DESCRIPTION:Je hebt 72 uur na aanvang om een uitmatch op Badmintonvlaandere
 n in te vullen. Match info: Bacss 1D (60) - Plumula 1D (53) - Link: https:
 //www.badmintonvlaanderen.be/sport/teammatch.aspx?id=A0E9B3BE-1D47-428D-8E
 B5-7807839F7498&match=30
DTSTART;TZID=Europe/Brussels:20250924T100000
DTEND;TZID=Europe/Brussels:20250924T100000
END:VEVENT
BEGIN:VEVENT
UID:A0E9B3BE-1D47-428D-8EB5-7807839F7498-1-26_awayreminder@106.badmintonner
 s.net
DTSTAMP:20260420T043747Z
SUMMARY:Uitmatch bevestigd? (Brasschaat 2D (52) - Plumula 1D (53))
DESCRIPTION:Je hebt 72 uur na aanvang om een uitmatch op Badmintonvlaandere
 n in te vullen. Match info: Brasschaat 2D (52) - Plumula 1D (53) - Link: h
 ttps://www.badmintonvlaanderen.be/sport/teammatch.aspx?id=A0E9B3BE-1D47-42
 8D-8EB5-7807839F7498&match=26
DTSTART;TZID=Europe/Brussels:20251008T190000
DTEND;TZID=Europe/Brussels:20251008T190000
END:VEVENT
BEGIN:VEVENT
UID:A0E9B3BE-1D47-428D-8EB5-7807839F7498-1-28_awayreminder@106.badmintonner
 s.net
DTSTAMP:20260420T043747Z
SUMMARY:Uitmatch bevestigd? (Rivierenland 2D (46) - Plumula 1D (53))
DESCRIPTION:Je hebt 72 uur na aanvang om een uitmatch op Badmintonvlaandere
 n in te vullen. Match info: Rivierenland 2D (46) - Plumula 1D (53) - Link:
  https://www.badmintonvlaanderen.be/sport/teammatch.aspx?id=A0E9B3BE-1D47-
 428D-8EB5-7807839F7498&match=28
DTSTART;TZID=Europe/Brussels:20251217T163000
DTEND;TZID=Europe/Brussels:20251217T163000
END:VEVENT
BEGIN:VEVENT
UID:A0E9B3BE-1D47-428D-8EB5-7807839F7498-1-29_awayreminder@106.badmintonner
 s.net
DTSTAMP:20260420T043747Z
SUMMARY:Uitmatch bevestigd? (Klein Boom 2D (52) - Plumula 1D (53))
DESCRIPTION:Je hebt 72 uur na aanvang om een uitmatch op Badmintonvlaandere
 n in te vullen. Match info: Klein Boom 2D (52) - Plumula 1D (53) - Link: h
 ttps://www.badmintonvlaanderen.be/sport/teammatch.aspx?id=A0E9B3BE-1D47-42
 8D-8EB5-7807839F7498&match=29
DTSTART;TZID=Europe/Brussels:20260114T190000
DTEND;TZID=Europe/Brussels:20260114T190000
END:VEVENT
BEGIN:VEVENT
UID:A0E9B3BE-1D47-428D-8EB5-7807839F7498-1-31_awayreminder@106.badmintonner
 s.net
DTSTAMP:20260420T043747Z
SUMMARY:Uitmatch bevestigd? (Spinshuttle 1D (58) - Plumula 1D (53))
DESCRIPTION:Je hebt 72 uur na aanvang om een uitmatch op Badmintonvlaandere
 n in te vullen. Match info: Spinshuttle 1D (58) - Plumula 1D (53) - Link: 
 https://www.badmintonvlaanderen.be/sport/teammatch.aspx?id=A0E9B3BE-1D47-4
 28D-8EB5-7807839F7498&match=31
DTSTART;TZID=Europe/Brussels:20260220T200000
DTEND;TZID=Europe/Brussels:20260220T200000
END:VEVENT
BEGIN:VEVENT
UID:A0E9B3BE-1D47-428D-8EB5-7807839F7498-1-27_awayreminder@106.badmintonner
 s.net
DTSTAMP:20260420T043747Z
SUMMARY:Uitmatch bevestigd? (Poona 1D (52) - Plumula 1D (53))
DESCRIPTION:Je hebt 72 uur na aanvang om een uitmatch op Badmintonvlaandere
 n in te vullen. Match info: Poona 1D (52) - Plumula 1D (53) - Link: https:
 //www.badmintonvlaanderen.be/sport/teammatch.aspx?id=A0E9B3BE-1D47-428D-8E
 B5-7807839F7498&match=27
DTSTART;TZID=Europe/Brussels:20260319T200000
DTEND;TZID=Europe/Brussels:20260319T200000
END:VEVENT
END:VCALENDAR