BEGIN:VCALENDAR
VERSION:2.0
PRODID:spatie/icalendar-generator
NAME:rivierenland_2d_46_reminders
X-WR-CALNAME:rivierenland_2d_46_reminders
BEGIN:VTIMEZONE
TZID:Europe/Brussels
BEGIN:DAYLIGHT
DTSTART:20250330T010000
TZOFFSETFROM:+0100
TZOFFSETTO:+0200
END:DAYLIGHT
BEGIN:STANDARD
DTSTART:20251026T030000
TZOFFSETFROM:+0200
TZOFFSETTO:+0100
END:STANDARD
BEGIN:DAYLIGHT
DTSTART:20260329T010000
TZOFFSETFROM:+0100
TZOFFSETTO:+0200
END:DAYLIGHT
END:VTIMEZONE
BEGIN:VTIMEZONE
TZID:UTC
BEGIN:STANDARD
DTSTART:20250724T055107
TZOFFSETFROM:+0000
TZOFFSETTO:+0000
END:STANDARD
END:VTIMEZONE
BEGIN:VEVENT
UID:A0E9B3BE-1D47-428D-8EB5-7807839F7498-1-9_homereminder@107.badmintonners
 .net
DTSTAMP:20260420T055107Z
SUMMARY:Thuismatch ingevuld? (Rivierenland 2D (46) - Brasschaat 2D (52))
DESCRIPTION:Je hebt 36 uur na aanvang om een thuismatch op Badmintonvlaande
 ren in te vullen. Match info: Rivierenland 2D (46) - Brasschaat 2D (52) - 
 Link: https://www.badmintonvlaanderen.be/sport/teammatch.aspx?id=A0E9B3BE-
 1D47-428D-8EB5-7807839F7498&match=9
DTSTART;TZID=Europe/Brussels:20251021T043000
DTEND;TZID=Europe/Brussels:20251021T043000
END:VEVENT
BEGIN:VEVENT
UID:A0E9B3BE-1D47-428D-8EB5-7807839F7498-1-40_homereminder@107.badmintonner
 s.net
DTSTAMP:20260420T055107Z
SUMMARY:Thuismatch ingevuld? (Rivierenland 2D (46) - Bacss 1D (60))
DESCRIPTION:Je hebt 36 uur na aanvang om een thuismatch op Badmintonvlaande
 ren in te vullen. Match info: Rivierenland 2D (46) - Bacss 1D (60) - Link:
  https://www.badmintonvlaanderen.be/sport/teammatch.aspx?id=A0E9B3BE-1D47-
 428D-8EB5-7807839F7498&match=40
DTSTART;TZID=Europe/Brussels:20251118T043000
DTEND;TZID=Europe/Brussels:20251118T043000
END:VEVENT
BEGIN:VEVENT
UID:A0E9B3BE-1D47-428D-8EB5-7807839F7498-1-28_homereminder@107.badmintonner
 s.net
DTSTAMP:20260420T055107Z
SUMMARY:Thuismatch ingevuld? (Rivierenland 2D (46) - Plumula 1D (53))
DESCRIPTION:Je hebt 36 uur na aanvang om een thuismatch op Badmintonvlaande
 ren in te vullen. Match info: Rivierenland 2D (46) - Plumula 1D (53) - Lin
 k: https://www.badmintonvlaanderen.be/sport/teammatch.aspx?id=A0E9B3BE-1D4
 7-428D-8EB5-7807839F7498&match=28
DTSTART;TZID=Europe/Brussels:20251216T043000
DTEND;TZID=Europe/Brussels:20251216T043000
END:VEVENT
BEGIN:VEVENT
UID:A0E9B3BE-1D47-428D-8EB5-7807839F7498-1-46_homereminder@107.badmintonner
 s.net
DTSTAMP:20260420T055107Z
SUMMARY:Thuismatch ingevuld? (Rivierenland 2D (46) - Spinshuttle 1D (58))
DESCRIPTION:Je hebt 36 uur na aanvang om een thuismatch op Badmintonvlaande
 ren in te vullen. Match info: Rivierenland 2D (46) - Spinshuttle 1D (58) -
  Link: https://www.badmintonvlaanderen.be/sport/teammatch.aspx?id=A0E9B3BE
 -1D47-428D-8EB5-7807839F7498&match=46
DTSTART;TZID=Europe/Brussels:20260127T043000
DTEND;TZID=Europe/Brussels:20260127T043000
END:VEVENT
BEGIN:VEVENT
UID:A0E9B3BE-1D47-428D-8EB5-7807839F7498-1-15_homereminder@107.badmintonner
 s.net
DTSTAMP:20260420T055107Z
SUMMARY:Thuismatch ingevuld? (Rivierenland 2D (46) - Poona 1D (52))
DESCRIPTION:Je hebt 36 uur na aanvang om een thuismatch op Badmintonvlaande
 ren in te vullen. Match info: Rivierenland 2D (46) - Poona 1D (52) - Link:
  https://www.badmintonvlaanderen.be/sport/teammatch.aspx?id=A0E9B3BE-1D47-
 428D-8EB5-7807839F7498&match=15
DTSTART;TZID=Europe/Brussels:20260310T043000
DTEND;TZID=Europe/Brussels:20260310T043000
END:VEVENT
BEGIN:VEVENT
UID:A0E9B3BE-1D47-428D-8EB5-7807839F7498-1-34_homereminder@107.badmintonner
 s.net
DTSTAMP:20260420T055107Z
SUMMARY:Thuismatch ingevuld? (Rivierenland 2D (46) - Klein Boom 2D (52))
DESCRIPTION:Je hebt 36 uur na aanvang om een thuismatch op Badmintonvlaande
 ren in te vullen. Match info: Rivierenland 2D (46) - Klein Boom 2D (52) - 
 Link: https://www.badmintonvlaanderen.be/sport/teammatch.aspx?id=A0E9B3BE-
 1D47-428D-8EB5-7807839F7498&match=34
DTSTART;TZID=Europe/Brussels:20260421T043000
DTEND;TZID=Europe/Brussels:20260421T043000
END:VEVENT
BEGIN:VEVENT
UID:A0E9B3BE-1D47-428D-8EB5-7807839F7498-1-21_awayreminder@107.badmintonner
 s.net
DTSTAMP:20260420T055107Z
SUMMARY:Uitmatch bevestigd? (Poona 1D (52) - Rivierenland 2D (46))
DESCRIPTION:Je hebt 72 uur na aanvang om een uitmatch op Badmintonvlaandere
 n in te vullen. Match info: Poona 1D (52) - Rivierenland 2D (46) - Link: h
 ttps://www.badmintonvlaanderen.be/sport/teammatch.aspx?id=A0E9B3BE-1D47-42
 8D-8EB5-7807839F7498&match=21
DTSTART;TZID=Europe/Brussels:20250904T200000
DTEND;TZID=Europe/Brussels:20250904T200000
END:VEVENT
BEGIN:VEVENT
UID:A0E9B3BE-1D47-428D-8EB5-7807839F7498-1-25_awayreminder@107.badmintonner
 s.net
DTSTAMP:20260420T055107Z
SUMMARY:Uitmatch bevestigd? (Spinshuttle 1D (58) - Rivierenland 2D (46))
DESCRIPTION:Je hebt 72 uur na aanvang om een uitmatch op Badmintonvlaandere
 n in te vullen. Match info: Spinshuttle 1D (58) - Rivierenland 2D (46) - L
 ink: https://www.badmintonvlaanderen.be/sport/teammatch.aspx?id=A0E9B3BE-1
 D47-428D-8EB5-7807839F7498&match=25
DTSTART;TZID=Europe/Brussels:20251031T200000
DTEND;TZID=Europe/Brussels:20251031T200000
END:VEVENT
BEGIN:VEVENT
UID:A0E9B3BE-1D47-428D-8EB5-7807839F7498-1-23_awayreminder@107.badmintonner
 s.net
DTSTAMP:20260420T055107Z
SUMMARY:Uitmatch bevestigd? (Klein Boom 2D (52) - Rivierenland 2D (46))
DESCRIPTION:Je hebt 72 uur na aanvang om een uitmatch op Badmintonvlaandere
 n in te vullen. Match info: Klein Boom 2D (52) - Rivierenland 2D (46) - Li
 nk: https://www.badmintonvlaanderen.be/sport/teammatch.aspx?id=A0E9B3BE-1D
 47-428D-8EB5-7807839F7498&match=23
DTSTART;TZID=Europe/Brussels:20251231T190000
DTEND;TZID=Europe/Brussels:20251231T190000
END:VEVENT
BEGIN:VEVENT
UID:A0E9B3BE-1D47-428D-8EB5-7807839F7498-1-24_awayreminder@107.badmintonner
 s.net
DTSTAMP:20260420T055107Z
SUMMARY:Uitmatch bevestigd? (Bacss 1D (60) - Rivierenland 2D (46))
DESCRIPTION:Je hebt 72 uur na aanvang om een uitmatch op Badmintonvlaandere
 n in te vullen. Match info: Bacss 1D (60) - Rivierenland 2D (46) - Link: h
 ttps://www.badmintonvlaanderen.be/sport/teammatch.aspx?id=A0E9B3BE-1D47-42
 8D-8EB5-7807839F7498&match=24
DTSTART;TZID=Europe/Brussels:20260112T201500
DTEND;TZID=Europe/Brussels:20260112T201500
END:VEVENT
BEGIN:VEVENT
UID:A0E9B3BE-1D47-428D-8EB5-7807839F7498-1-20_awayreminder@107.badmintonner
 s.net
DTSTAMP:20260420T055107Z
SUMMARY:Uitmatch bevestigd? (Brasschaat 2D (52) - Rivierenland 2D (46))
DESCRIPTION:Je hebt 72 uur na aanvang om een uitmatch op Badmintonvlaandere
 n in te vullen. Match info: Brasschaat 2D (52) - Rivierenland 2D (46) - Li
 nk: https://www.badmintonvlaanderen.be/sport/teammatch.aspx?id=A0E9B3BE-1D
 47-428D-8EB5-7807839F7498&match=20
DTSTART;TZID=Europe/Brussels:20260225T190000
DTEND;TZID=Europe/Brussels:20260225T190000
END:VEVENT
BEGIN:VEVENT
UID:A0E9B3BE-1D47-428D-8EB5-7807839F7498-1-22_awayreminder@107.badmintonner
 s.net
DTSTAMP:20260420T055107Z
SUMMARY:Uitmatch bevestigd? (Plumula 1D (53) - Rivierenland 2D (46))
DESCRIPTION:Je hebt 72 uur na aanvang om een uitmatch op Badmintonvlaandere
 n in te vullen. Match info: Plumula 1D (53) - Rivierenland 2D (46) - Link:
  https://www.badmintonvlaanderen.be/sport/teammatch.aspx?id=A0E9B3BE-1D47-
 428D-8EB5-7807839F7498&match=22
DTSTART;TZID=Europe/Brussels:20260405T200000
DTEND;TZID=Europe/Brussels:20260405T200000
END:VEVENT
END:VCALENDAR