BEGIN:VCALENDAR
VERSION:2.0
PRODID:spatie/icalendar-generator
NAME:brasschaat_2d_52_reminders
X-WR-CALNAME:brasschaat_2d_52_reminders
BEGIN:VTIMEZONE
TZID:Europe/Brussels
BEGIN:DAYLIGHT
DTSTART:20250330T010000
TZOFFSETFROM:+0100
TZOFFSETTO:+0200
END:DAYLIGHT
BEGIN:STANDARD
DTSTART:20251026T030000
TZOFFSETFROM:+0200
TZOFFSETTO:+0100
END:STANDARD
BEGIN:DAYLIGHT
DTSTART:20260329T010000
TZOFFSETFROM:+0100
TZOFFSETTO:+0200
END:DAYLIGHT
END:VTIMEZONE
BEGIN:VTIMEZONE
TZID:UTC
BEGIN:STANDARD
DTSTART:20250724T055116
TZOFFSETFROM:+0000
TZOFFSETTO:+0000
END:STANDARD
END:VTIMEZONE
BEGIN:VEVENT
UID:A0E9B3BE-1D47-428D-8EB5-7807839F7498-1-14_homereminder@108.badmintonner
 s.net
DTSTAMP:20260420T055116Z
SUMMARY:Thuismatch ingevuld? (Brasschaat 2D (52) - Poona 1D (52))
DESCRIPTION:Je hebt 36 uur na aanvang om een thuismatch op Badmintonvlaande
 ren in te vullen. Match info: Brasschaat 2D (52) - Poona 1D (52) - Link: h
 ttps://www.badmintonvlaanderen.be/sport/teammatch.aspx?id=A0E9B3BE-1D47-42
 8D-8EB5-7807839F7498&match=14
DTSTART;TZID=Europe/Brussels:20250913T080000
DTEND;TZID=Europe/Brussels:20250913T080000
END:VEVENT
BEGIN:VEVENT
UID:A0E9B3BE-1D47-428D-8EB5-7807839F7498-1-26_homereminder@108.badmintonner
 s.net
DTSTAMP:20260420T055116Z
SUMMARY:Thuismatch ingevuld? (Brasschaat 2D (52) - Plumula 1D (53))
DESCRIPTION:Je hebt 36 uur na aanvang om een thuismatch op Badmintonvlaande
 ren in te vullen. Match info: Brasschaat 2D (52) - Plumula 1D (53) - Link:
  https://www.badmintonvlaanderen.be/sport/teammatch.aspx?id=A0E9B3BE-1D47-
 428D-8EB5-7807839F7498&match=26
DTSTART;TZID=Europe/Brussels:20251007T070000
DTEND;TZID=Europe/Brussels:20251007T070000
END:VEVENT
BEGIN:VEVENT
UID:A0E9B3BE-1D47-428D-8EB5-7807839F7498-1-38_homereminder@108.badmintonner
 s.net
DTSTAMP:20260420T055116Z
SUMMARY:Thuismatch ingevuld? (Brasschaat 2D (52) - Bacss 1D (60))
DESCRIPTION:Je hebt 36 uur na aanvang om een thuismatch op Badmintonvlaande
 ren in te vullen. Match info: Brasschaat 2D (52) - Bacss 1D (60) - Link: h
 ttps://www.badmintonvlaanderen.be/sport/teammatch.aspx?id=A0E9B3BE-1D47-42
 8D-8EB5-7807839F7498&match=38
DTSTART;TZID=Europe/Brussels:20251216T070000
DTEND;TZID=Europe/Brussels:20251216T070000
END:VEVENT
BEGIN:VEVENT
UID:A0E9B3BE-1D47-428D-8EB5-7807839F7498-1-44_homereminder@108.badmintonner
 s.net
DTSTAMP:20260420T055116Z
SUMMARY:Thuismatch ingevuld? (Brasschaat 2D (52) - Spinshuttle 1D (58))
DESCRIPTION:Je hebt 36 uur na aanvang om een thuismatch op Badmintonvlaande
 ren in te vullen. Match info: Brasschaat 2D (52) - Spinshuttle 1D (58) - L
 ink: https://www.badmintonvlaanderen.be/sport/teammatch.aspx?id=A0E9B3BE-1
 D47-428D-8EB5-7807839F7498&match=44
DTSTART;TZID=Europe/Brussels:20260113T070000
DTEND;TZID=Europe/Brussels:20260113T070000
END:VEVENT
BEGIN:VEVENT
UID:A0E9B3BE-1D47-428D-8EB5-7807839F7498-1-20_homereminder@108.badmintonner
 s.net
DTSTAMP:20260420T055116Z
SUMMARY:Thuismatch ingevuld? (Brasschaat 2D (52) - Rivierenland 2D (46))
DESCRIPTION:Je hebt 36 uur na aanvang om een thuismatch op Badmintonvlaande
 ren in te vullen. Match info: Brasschaat 2D (52) - Rivierenland 2D (46) - 
 Link: https://www.badmintonvlaanderen.be/sport/teammatch.aspx?id=A0E9B3BE-
 1D47-428D-8EB5-7807839F7498&match=20
DTSTART;TZID=Europe/Brussels:20260224T070000
DTEND;TZID=Europe/Brussels:20260224T070000
END:VEVENT
BEGIN:VEVENT
UID:A0E9B3BE-1D47-428D-8EB5-7807839F7498-1-32_homereminder@108.badmintonner
 s.net
DTSTAMP:20260420T055116Z
SUMMARY:Thuismatch ingevuld? (Brasschaat 2D (52) - Klein Boom 2D (52))
DESCRIPTION:Je hebt 36 uur na aanvang om een thuismatch op Badmintonvlaande
 ren in te vullen. Match info: Brasschaat 2D (52) - Klein Boom 2D (52) - Li
 nk: https://www.badmintonvlaanderen.be/sport/teammatch.aspx?id=A0E9B3BE-1D
 47-428D-8EB5-7807839F7498&match=32
DTSTART;TZID=Europe/Brussels:20260324T070000
DTEND;TZID=Europe/Brussels:20260324T070000
END:VEVENT
BEGIN:VEVENT
UID:A0E9B3BE-1D47-428D-8EB5-7807839F7498-1-9_awayreminder@108.badmintonners
 .net
DTSTAMP:20260420T055116Z
SUMMARY:Uitmatch bevestigd? (Rivierenland 2D (46) - Brasschaat 2D (52))
DESCRIPTION:Je hebt 72 uur na aanvang om een uitmatch op Badmintonvlaandere
 n in te vullen. Match info: Rivierenland 2D (46) - Brasschaat 2D (52) - Li
 nk: https://www.badmintonvlaanderen.be/sport/teammatch.aspx?id=A0E9B3BE-1D
 47-428D-8EB5-7807839F7498&match=9
DTSTART;TZID=Europe/Brussels:20251022T163000
DTEND;TZID=Europe/Brussels:20251022T163000
END:VEVENT
BEGIN:VEVENT
UID:A0E9B3BE-1D47-428D-8EB5-7807839F7498-1-11_awayreminder@108.badmintonner
 s.net
DTSTAMP:20260420T055116Z
SUMMARY:Uitmatch bevestigd? (Klein Boom 2D (52) - Brasschaat 2D (52))
DESCRIPTION:Je hebt 72 uur na aanvang om een uitmatch op Badmintonvlaandere
 n in te vullen. Match info: Klein Boom 2D (52) - Brasschaat 2D (52) - Link
 : https://www.badmintonvlaanderen.be/sport/teammatch.aspx?id=A0E9B3BE-1D47
 -428D-8EB5-7807839F7498&match=11
DTSTART;TZID=Europe/Brussels:20251203T190000
DTEND;TZID=Europe/Brussels:20251203T190000
END:VEVENT
BEGIN:VEVENT
UID:A0E9B3BE-1D47-428D-8EB5-7807839F7498-1-13_awayreminder@108.badmintonner
 s.net
DTSTAMP:20260420T055116Z
SUMMARY:Uitmatch bevestigd? (Spinshuttle 1D (58) - Brasschaat 2D (52))
DESCRIPTION:Je hebt 72 uur na aanvang om een uitmatch op Badmintonvlaandere
 n in te vullen. Match info: Spinshuttle 1D (58) - Brasschaat 2D (52) - Lin
 k: https://www.badmintonvlaanderen.be/sport/teammatch.aspx?id=A0E9B3BE-1D4
 7-428D-8EB5-7807839F7498&match=13
DTSTART;TZID=Europe/Brussels:20251212T200000
DTEND;TZID=Europe/Brussels:20251212T200000
END:VEVENT
BEGIN:VEVENT
UID:A0E9B3BE-1D47-428D-8EB5-7807839F7498-1-8_awayreminder@108.badmintonners
 .net
DTSTAMP:20260420T055116Z
SUMMARY:Uitmatch bevestigd? (Poona 1D (52) - Brasschaat 2D (52))
DESCRIPTION:Je hebt 72 uur na aanvang om een uitmatch op Badmintonvlaandere
 n in te vullen. Match info: Poona 1D (52) - Brasschaat 2D (52) - Link: htt
 ps://www.badmintonvlaanderen.be/sport/teammatch.aspx?id=A0E9B3BE-1D47-428D
 -8EB5-7807839F7498&match=8
DTSTART;TZID=Europe/Brussels:20260122T200000
DTEND;TZID=Europe/Brussels:20260122T200000
END:VEVENT
BEGIN:VEVENT
UID:A0E9B3BE-1D47-428D-8EB5-7807839F7498-1-10_awayreminder@108.badmintonner
 s.net
DTSTAMP:20260420T055116Z
SUMMARY:Uitmatch bevestigd? (Plumula 1D (53) - Brasschaat 2D (52))
DESCRIPTION:Je hebt 72 uur na aanvang om een uitmatch op Badmintonvlaandere
 n in te vullen. Match info: Plumula 1D (53) - Brasschaat 2D (52) - Link: h
 ttps://www.badmintonvlaanderen.be/sport/teammatch.aspx?id=A0E9B3BE-1D47-42
 8D-8EB5-7807839F7498&match=10
DTSTART;TZID=Europe/Brussels:20260308T200000
DTEND;TZID=Europe/Brussels:20260308T200000
END:VEVENT
BEGIN:VEVENT
UID:A0E9B3BE-1D47-428D-8EB5-7807839F7498-1-12_awayreminder@108.badmintonner
 s.net
DTSTAMP:20260420T055116Z
SUMMARY:Uitmatch bevestigd? (Bacss 1D (60) - Brasschaat 2D (52))
DESCRIPTION:Je hebt 72 uur na aanvang om een uitmatch op Badmintonvlaandere
 n in te vullen. Match info: Bacss 1D (60) - Brasschaat 2D (52) - Link: htt
 ps://www.badmintonvlaanderen.be/sport/teammatch.aspx?id=A0E9B3BE-1D47-428D
 -8EB5-7807839F7498&match=12
DTSTART;TZID=Europe/Brussels:20260406T201500
DTEND;TZID=Europe/Brussels:20260406T201500
END:VEVENT
END:VCALENDAR