BEGIN:VCALENDAR
VERSION:2.0
PRODID:spatie/icalendar-generator
NAME:klein_boom_2h_49_reminders
X-WR-CALNAME:klein_boom_2h_49_reminders
BEGIN:VTIMEZONE
TZID:Europe/Brussels
BEGIN:DAYLIGHT
DTSTART:20250330T010000
TZOFFSETFROM:+0100
TZOFFSETTO:+0200
END:DAYLIGHT
BEGIN:STANDARD
DTSTART:20251026T030000
TZOFFSETFROM:+0200
TZOFFSETTO:+0100
END:STANDARD
BEGIN:DAYLIGHT
DTSTART:20260329T010000
TZOFFSETFROM:+0100
TZOFFSETTO:+0200
END:DAYLIGHT
END:VTIMEZONE
BEGIN:VTIMEZONE
TZID:UTC
BEGIN:STANDARD
DTSTART:20250724T055116
TZOFFSETFROM:+0000
TZOFFSETTO:+0000
END:STANDARD
END:VTIMEZONE
BEGIN:VEVENT
UID:A0E9B3BE-1D47-428D-8EB5-7807839F7498-10-430_homereminder@25.badmintonne
 rs.net
DTSTAMP:20260420T055116Z
SUMMARY:Thuismatch ingevuld? (Klein Boom 2H (49) - Spinshuttle 2H (59))
DESCRIPTION:Je hebt 36 uur na aanvang om een thuismatch op Badmintonvlaande
 ren in te vullen. Match info: Klein Boom 2H (49) - Spinshuttle 2H (59) - L
 ink: https://www.badmintonvlaanderen.be/sport/teammatch.aspx?id=A0E9B3BE-1
 D47-428D-8EB5-7807839F7498&match=430
DTSTART;TZID=Europe/Brussels:20250917T080000
DTEND;TZID=Europe/Brussels:20250917T080000
END:VEVENT
BEGIN:VEVENT
UID:A0E9B3BE-1D47-428D-8EB5-7807839F7498-10-441_homereminder@25.badmintonne
 rs.net
DTSTAMP:20260420T055116Z
SUMMARY:Thuismatch ingevuld? (Klein Boom 2H (49) - Zoersel 4H (62))
DESCRIPTION:Je hebt 36 uur na aanvang om een thuismatch op Badmintonvlaande
 ren in te vullen. Match info: Klein Boom 2H (49) - Zoersel 4H (62) - Link:
  https://www.badmintonvlaanderen.be/sport/teammatch.aspx?id=A0E9B3BE-1D47-
 428D-8EB5-7807839F7498&match=441
DTSTART;TZID=Europe/Brussels:20251126T080000
DTEND;TZID=Europe/Brussels:20251126T080000
END:VEVENT
BEGIN:VEVENT
UID:A0E9B3BE-1D47-428D-8EB5-7807839F7498-10-425_homereminder@25.badmintonne
 rs.net
DTSTAMP:20260420T055116Z
SUMMARY:Thuismatch ingevuld? (Klein Boom 2H (49) - Rita Serveert 3H (59))
DESCRIPTION:Je hebt 36 uur na aanvang om een thuismatch op Badmintonvlaande
 ren in te vullen. Match info: Klein Boom 2H (49) - Rita Serveert 3H (59) -
  Link: https://www.badmintonvlaanderen.be/sport/teammatch.aspx?id=A0E9B3BE
 -1D47-428D-8EB5-7807839F7498&match=425
DTSTART;TZID=Europe/Brussels:20251210T080000
DTEND;TZID=Europe/Brussels:20251210T080000
END:VEVENT
BEGIN:VEVENT
UID:A0E9B3BE-1D47-428D-8EB5-7807839F7498-10-446_homereminder@25.badmintonne
 rs.net
DTSTAMP:20260420T055116Z
SUMMARY:Thuismatch ingevuld? (Klein Boom 2H (49) - Plumula 2H (57))
DESCRIPTION:Je hebt 36 uur na aanvang om een thuismatch op Badmintonvlaande
 ren in te vullen. Match info: Klein Boom 2H (49) - Plumula 2H (57) - Link:
  https://www.badmintonvlaanderen.be/sport/teammatch.aspx?id=A0E9B3BE-1D47-
 428D-8EB5-7807839F7498&match=446
DTSTART;TZID=Europe/Brussels:20260121T080000
DTEND;TZID=Europe/Brussels:20260121T080000
END:VEVENT
BEGIN:VEVENT
UID:A0E9B3BE-1D47-428D-8EB5-7807839F7498-10-420_homereminder@25.badmintonne
 rs.net
DTSTAMP:20260420T055116Z
SUMMARY:Thuismatch ingevuld? (Klein Boom 2H (49) - Smash 3H (68))
DESCRIPTION:Je hebt 36 uur na aanvang om een thuismatch op Badmintonvlaande
 ren in te vullen. Match info: Klein Boom 2H (49) - Smash 3H (68) - Link: h
 ttps://www.badmintonvlaanderen.be/sport/teammatch.aspx?id=A0E9B3BE-1D47-42
 8D-8EB5-7807839F7498&match=420
DTSTART;TZID=Europe/Brussels:20260304T080000
DTEND;TZID=Europe/Brussels:20260304T080000
END:VEVENT
BEGIN:VEVENT
UID:A0E9B3BE-1D47-428D-8EB5-7807839F7498-10-437_awayreminder@25.badmintonne
 rs.net
DTSTAMP:20260420T055116Z
SUMMARY:Uitmatch bevestigd? (Plumula 2H (57) - Klein Boom 2H (49))
DESCRIPTION:Je hebt 72 uur na aanvang om een uitmatch op Badmintonvlaandere
 n in te vullen. Match info: Plumula 2H (57) - Klein Boom 2H (49) - Link: h
 ttps://www.badmintonvlaanderen.be/sport/teammatch.aspx?id=A0E9B3BE-1D47-42
 8D-8EB5-7807839F7498&match=437
DTSTART;TZID=Europe/Brussels:20251008T173000
DTEND;TZID=Europe/Brussels:20251008T173000
END:VEVENT
BEGIN:VEVENT
UID:A0E9B3BE-1D47-428D-8EB5-7807839F7498-10-433_awayreminder@25.badmintonne
 rs.net
DTSTAMP:20260420T055116Z
SUMMARY:Uitmatch bevestigd? (Smash 3H (68) - Klein Boom 2H (49))
DESCRIPTION:Je hebt 72 uur na aanvang om een uitmatch op Badmintonvlaandere
 n in te vullen. Match info: Smash 3H (68) - Klein Boom 2H (49) - Link: htt
 ps://www.badmintonvlaanderen.be/sport/teammatch.aspx?id=A0E9B3BE-1D47-428D
 -8EB5-7807839F7498&match=433
DTSTART;TZID=Europe/Brussels:20251019T200000
DTEND;TZID=Europe/Brussels:20251019T200000
END:VEVENT
BEGIN:VEVENT
UID:A0E9B3BE-1D47-428D-8EB5-7807839F7498-10-436_awayreminder@25.badmintonne
 rs.net
DTSTAMP:20260420T055116Z
SUMMARY:Uitmatch bevestigd? (Zoersel 4H (62) - Klein Boom 2H (49))
DESCRIPTION:Je hebt 72 uur na aanvang om een uitmatch op Badmintonvlaandere
 n in te vullen. Match info: Zoersel 4H (62) - Klein Boom 2H (49) - Link: h
 ttps://www.badmintonvlaanderen.be/sport/teammatch.aspx?id=A0E9B3BE-1D47-42
 8D-8EB5-7807839F7498&match=436
DTSTART;TZID=Europe/Brussels:20260211T120000
DTEND;TZID=Europe/Brussels:20260211T120000
END:VEVENT
BEGIN:VEVENT
UID:A0E9B3BE-1D47-428D-8EB5-7807839F7498-10-434_awayreminder@25.badmintonne
 rs.net
DTSTAMP:20260420T055116Z
SUMMARY:Uitmatch bevestigd? (Rita Serveert 3H (59) - Klein Boom 2H (49))
DESCRIPTION:Je hebt 72 uur na aanvang om een uitmatch op Badmintonvlaandere
 n in te vullen. Match info: Rita Serveert 3H (59) - Klein Boom 2H (49) - L
 ink: https://www.badmintonvlaanderen.be/sport/teammatch.aspx?id=A0E9B3BE-1
 D47-428D-8EB5-7807839F7498&match=434
DTSTART;TZID=Europe/Brussels:20260325T190000
DTEND;TZID=Europe/Brussels:20260325T190000
END:VEVENT
BEGIN:VEVENT
UID:A0E9B3BE-1D47-428D-8EB5-7807839F7498-10-435_awayreminder@25.badmintonne
 rs.net
DTSTAMP:20260420T055116Z
SUMMARY:Uitmatch bevestigd? (Spinshuttle 2H (59) - Klein Boom 2H (49))
DESCRIPTION:Je hebt 72 uur na aanvang om een uitmatch op Badmintonvlaandere
 n in te vullen. Match info: Spinshuttle 2H (59) - Klein Boom 2H (49) - Lin
 k: https://www.badmintonvlaanderen.be/sport/teammatch.aspx?id=A0E9B3BE-1D4
 7-428D-8EB5-7807839F7498&match=435
DTSTART;TZID=Europe/Brussels:20260417T200000
DTEND;TZID=Europe/Brussels:20260417T200000
END:VEVENT
END:VCALENDAR