BEGIN:VCALENDAR
VERSION:2.0
PRODID:spatie/icalendar-generator
NAME:zoersel_4h_62_reminders
X-WR-CALNAME:zoersel_4h_62_reminders
BEGIN:VTIMEZONE
TZID:Europe/Brussels
BEGIN:DAYLIGHT
DTSTART:20250330T010000
TZOFFSETFROM:+0100
TZOFFSETTO:+0200
END:DAYLIGHT
BEGIN:STANDARD
DTSTART:20251026T030000
TZOFFSETFROM:+0200
TZOFFSETTO:+0100
END:STANDARD
BEGIN:DAYLIGHT
DTSTART:20260329T010000
TZOFFSETFROM:+0100
TZOFFSETTO:+0200
END:DAYLIGHT
END:VTIMEZONE
BEGIN:VTIMEZONE
TZID:UTC
BEGIN:STANDARD
DTSTART:20250724T055118
TZOFFSETFROM:+0000
TZOFFSETTO:+0000
END:STANDARD
END:VTIMEZONE
BEGIN:VEVENT
UID:A0E9B3BE-1D47-428D-8EB5-7807839F7498-10-431_homereminder@34.badmintonne
 rs.net
DTSTAMP:20260420T055118Z
SUMMARY:Thuismatch ingevuld? (Zoersel 4H (62) - Spinshuttle 2H (59))
DESCRIPTION:Je hebt 36 uur na aanvang om een thuismatch op Badmintonvlaande
 ren in te vullen. Match info: Zoersel 4H (62) - Spinshuttle 2H (59) - Link
 : https://www.badmintonvlaanderen.be/sport/teammatch.aspx?id=A0E9B3BE-1D47
 -428D-8EB5-7807839F7498&match=431
DTSTART;TZID=Europe/Brussels:20251007T000000
DTEND;TZID=Europe/Brussels:20251007T000000
END:VEVENT
BEGIN:VEVENT
UID:A0E9B3BE-1D47-428D-8EB5-7807839F7498-10-421_homereminder@34.badmintonne
 rs.net
DTSTAMP:20260420T055118Z
SUMMARY:Thuismatch ingevuld? (Zoersel 4H (62) - Smash 3H (68))
DESCRIPTION:Je hebt 36 uur na aanvang om een thuismatch op Badmintonvlaande
 ren in te vullen. Match info: Zoersel 4H (62) - Smash 3H (68) - Link: http
 s://www.badmintonvlaanderen.be/sport/teammatch.aspx?id=A0E9B3BE-1D47-428D-
 8EB5-7807839F7498&match=421
DTSTART;TZID=Europe/Brussels:20251215T030000
DTEND;TZID=Europe/Brussels:20251215T030000
END:VEVENT
BEGIN:VEVENT
UID:A0E9B3BE-1D47-428D-8EB5-7807839F7498-10-436_homereminder@34.badmintonne
 rs.net
DTSTAMP:20260420T055118Z
SUMMARY:Thuismatch ingevuld? (Zoersel 4H (62) - Klein Boom 2H (49))
DESCRIPTION:Je hebt 36 uur na aanvang om een thuismatch op Badmintonvlaande
 ren in te vullen. Match info: Zoersel 4H (62) - Klein Boom 2H (49) - Link:
  https://www.badmintonvlaanderen.be/sport/teammatch.aspx?id=A0E9B3BE-1D47-
 428D-8EB5-7807839F7498&match=436
DTSTART;TZID=Europe/Brussels:20260210T000000
DTEND;TZID=Europe/Brussels:20260210T000000
END:VEVENT
BEGIN:VEVENT
UID:A0E9B3BE-1D47-428D-8EB5-7807839F7498-10-447_homereminder@34.badmintonne
 rs.net
DTSTAMP:20260420T055118Z
SUMMARY:Thuismatch ingevuld? (Zoersel 4H (62) - Plumula 2H (57))
DESCRIPTION:Je hebt 36 uur na aanvang om een thuismatch op Badmintonvlaande
 ren in te vullen. Match info: Zoersel 4H (62) - Plumula 2H (57) - Link: ht
 tps://www.badmintonvlaanderen.be/sport/teammatch.aspx?id=A0E9B3BE-1D47-428
 D-8EB5-7807839F7498&match=447
DTSTART;TZID=Europe/Brussels:20260309T030000
DTEND;TZID=Europe/Brussels:20260309T030000
END:VEVENT
BEGIN:VEVENT
UID:A0E9B3BE-1D47-428D-8EB5-7807839F7498-10-426_homereminder@34.badmintonne
 rs.net
DTSTAMP:20260420T055118Z
SUMMARY:Thuismatch ingevuld? (Zoersel 4H (62) - Rita Serveert 3H (59))
DESCRIPTION:Je hebt 36 uur na aanvang om een thuismatch op Badmintonvlaande
 ren in te vullen. Match info: Zoersel 4H (62) - Rita Serveert 3H (59) - Li
 nk: https://www.badmintonvlaanderen.be/sport/teammatch.aspx?id=A0E9B3BE-1D
 47-428D-8EB5-7807839F7498&match=426
DTSTART;TZID=Europe/Brussels:20260420T030000
DTEND;TZID=Europe/Brussels:20260420T030000
END:VEVENT
BEGIN:VEVENT
UID:A0E9B3BE-1D47-428D-8EB5-7807839F7498-10-439_awayreminder@34.badmintonne
 rs.net
DTSTAMP:20260420T055118Z
SUMMARY:Uitmatch bevestigd? (Rita Serveert 3H (59) - Zoersel 4H (62))
DESCRIPTION:Je hebt 72 uur na aanvang om een uitmatch op Badmintonvlaandere
 n in te vullen. Match info: Rita Serveert 3H (59) - Zoersel 4H (62) - Link
 : https://www.badmintonvlaanderen.be/sport/teammatch.aspx?id=A0E9B3BE-1D47
 -428D-8EB5-7807839F7498&match=439
DTSTART;TZID=Europe/Brussels:20250924T190000
DTEND;TZID=Europe/Brussels:20250924T190000
END:VEVENT
BEGIN:VEVENT
UID:A0E9B3BE-1D47-428D-8EB5-7807839F7498-10-442_awayreminder@34.badmintonne
 rs.net
DTSTAMP:20260420T055118Z
SUMMARY:Uitmatch bevestigd? (Plumula 2H (57) - Zoersel 4H (62))
DESCRIPTION:Je hebt 72 uur na aanvang om een uitmatch op Badmintonvlaandere
 n in te vullen. Match info: Plumula 2H (57) - Zoersel 4H (62) - Link: http
 s://www.badmintonvlaanderen.be/sport/teammatch.aspx?id=A0E9B3BE-1D47-428D-
 8EB5-7807839F7498&match=442
DTSTART;TZID=Europe/Brussels:20251022T173000
DTEND;TZID=Europe/Brussels:20251022T173000
END:VEVENT
BEGIN:VEVENT
UID:A0E9B3BE-1D47-428D-8EB5-7807839F7498-10-441_awayreminder@34.badmintonne
 rs.net
DTSTAMP:20260420T055118Z
SUMMARY:Uitmatch bevestigd? (Klein Boom 2H (49) - Zoersel 4H (62))
DESCRIPTION:Je hebt 72 uur na aanvang om een uitmatch op Badmintonvlaandere
 n in te vullen. Match info: Klein Boom 2H (49) - Zoersel 4H (62) - Link: h
 ttps://www.badmintonvlaanderen.be/sport/teammatch.aspx?id=A0E9B3BE-1D47-42
 8D-8EB5-7807839F7498&match=441
DTSTART;TZID=Europe/Brussels:20251127T200000
DTEND;TZID=Europe/Brussels:20251127T200000
END:VEVENT
BEGIN:VEVENT
UID:A0E9B3BE-1D47-428D-8EB5-7807839F7498-10-440_awayreminder@34.badmintonne
 rs.net
DTSTAMP:20260420T055118Z
SUMMARY:Uitmatch bevestigd? (Spinshuttle 2H (59) - Zoersel 4H (62))
DESCRIPTION:Je hebt 72 uur na aanvang om een uitmatch op Badmintonvlaandere
 n in te vullen. Match info: Spinshuttle 2H (59) - Zoersel 4H (62) - Link: 
 https://www.badmintonvlaanderen.be/sport/teammatch.aspx?id=A0E9B3BE-1D47-4
 28D-8EB5-7807839F7498&match=440
DTSTART;TZID=Europe/Brussels:20260123T200000
DTEND;TZID=Europe/Brussels:20260123T200000
END:VEVENT
BEGIN:VEVENT
UID:A0E9B3BE-1D47-428D-8EB5-7807839F7498-10-438_awayreminder@34.badmintonne
 rs.net
DTSTAMP:20260420T055118Z
SUMMARY:Uitmatch bevestigd? (Smash 3H (68) - Zoersel 4H (62))
DESCRIPTION:Je hebt 72 uur na aanvang om een uitmatch op Badmintonvlaandere
 n in te vullen. Match info: Smash 3H (68) - Zoersel 4H (62) - Link: https:
 //www.badmintonvlaanderen.be/sport/teammatch.aspx?id=A0E9B3BE-1D47-428D-8E
 B5-7807839F7498&match=438
DTSTART;TZID=Europe/Brussels:20260405T200000
DTEND;TZID=Europe/Brussels:20260405T200000
END:VEVENT
END:VCALENDAR