BEGIN:VCALENDAR
VERSION:2.0
PRODID:spatie/icalendar-generator
NAME:rita_serveert_3h_59_reminders
X-WR-CALNAME:rita_serveert_3h_59_reminders
BEGIN:VTIMEZONE
TZID:Europe/Brussels
BEGIN:DAYLIGHT
DTSTART:20250330T010000
TZOFFSETFROM:+0100
TZOFFSETTO:+0200
END:DAYLIGHT
BEGIN:STANDARD
DTSTART:20251026T030000
TZOFFSETFROM:+0200
TZOFFSETTO:+0100
END:STANDARD
BEGIN:DAYLIGHT
DTSTART:20260329T010000
TZOFFSETFROM:+0100
TZOFFSETTO:+0200
END:DAYLIGHT
END:VTIMEZONE
BEGIN:VTIMEZONE
TZID:UTC
BEGIN:STANDARD
DTSTART:20250724T043557
TZOFFSETFROM:+0000
TZOFFSETTO:+0000
END:STANDARD
END:VTIMEZONE
BEGIN:VEVENT
UID:A0E9B3BE-1D47-428D-8EB5-7807839F7498-10-439_homereminder@35.badmintonne
 rs.net
DTSTAMP:20260420T043557Z
SUMMARY:Thuismatch ingevuld? (Rita Serveert 3H (59) - Zoersel 4H (62))
DESCRIPTION:Je hebt 36 uur na aanvang om een thuismatch op Badmintonvlaande
 ren in te vullen. Match info: Rita Serveert 3H (59) - Zoersel 4H (62) - Li
 nk: https://www.badmintonvlaanderen.be/sport/teammatch.aspx?id=A0E9B3BE-1D
 47-428D-8EB5-7807839F7498&match=439
DTSTART;TZID=Europe/Brussels:20250923T070000
DTEND;TZID=Europe/Brussels:20250923T070000
END:VEVENT
BEGIN:VEVENT
UID:A0E9B3BE-1D47-428D-8EB5-7807839F7498-10-429_homereminder@35.badmintonne
 rs.net
DTSTAMP:20260420T043557Z
SUMMARY:Thuismatch ingevuld? (Rita Serveert 3H (59) - Spinshuttle 2H (59))
DESCRIPTION:Je hebt 36 uur na aanvang om een thuismatch op Badmintonvlaande
 ren in te vullen. Match info: Rita Serveert 3H (59) - Spinshuttle 2H (59) 
 - Link: https://www.badmintonvlaanderen.be/sport/teammatch.aspx?id=A0E9B3B
 E-1D47-428D-8EB5-7807839F7498&match=429
DTSTART;TZID=Europe/Brussels:20251028T070000
DTEND;TZID=Europe/Brussels:20251028T070000
END:VEVENT
BEGIN:VEVENT
UID:A0E9B3BE-1D47-428D-8EB5-7807839F7498-10-444_homereminder@35.badmintonne
 rs.net
DTSTAMP:20260420T043557Z
SUMMARY:Thuismatch ingevuld? (Rita Serveert 3H (59) - Plumula 2H (57))
DESCRIPTION:Je hebt 36 uur na aanvang om een thuismatch op Badmintonvlaande
 ren in te vullen. Match info: Rita Serveert 3H (59) - Plumula 2H (57) - Li
 nk: https://www.badmintonvlaanderen.be/sport/teammatch.aspx?id=A0E9B3BE-1D
 47-428D-8EB5-7807839F7498&match=444
DTSTART;TZID=Europe/Brussels:20251118T070000
DTEND;TZID=Europe/Brussels:20251118T070000
END:VEVENT
BEGIN:VEVENT
UID:A0E9B3BE-1D47-428D-8EB5-7807839F7498-10-418_homereminder@35.badmintonne
 rs.net
DTSTAMP:20260420T043557Z
SUMMARY:Thuismatch ingevuld? (Rita Serveert 3H (59) - Smash 3H (68))
DESCRIPTION:Je hebt 36 uur na aanvang om een thuismatch op Badmintonvlaande
 ren in te vullen. Match info: Rita Serveert 3H (59) - Smash 3H (68) - Link
 : https://www.badmintonvlaanderen.be/sport/teammatch.aspx?id=A0E9B3BE-1D47
 -428D-8EB5-7807839F7498&match=418
DTSTART;TZID=Europe/Brussels:20260310T070000
DTEND;TZID=Europe/Brussels:20260310T070000
END:VEVENT
BEGIN:VEVENT
UID:A0E9B3BE-1D47-428D-8EB5-7807839F7498-10-434_homereminder@35.badmintonne
 rs.net
DTSTAMP:20260420T043557Z
SUMMARY:Thuismatch ingevuld? (Rita Serveert 3H (59) - Klein Boom 2H (49))
DESCRIPTION:Je hebt 36 uur na aanvang om een thuismatch op Badmintonvlaande
 ren in te vullen. Match info: Rita Serveert 3H (59) - Klein Boom 2H (49) -
  Link: https://www.badmintonvlaanderen.be/sport/teammatch.aspx?id=A0E9B3BE
 -1D47-428D-8EB5-7807839F7498&match=434
DTSTART;TZID=Europe/Brussels:20260324T070000
DTEND;TZID=Europe/Brussels:20260324T070000
END:VEVENT
BEGIN:VEVENT
UID:A0E9B3BE-1D47-428D-8EB5-7807839F7498-10-423_awayreminder@35.badmintonne
 rs.net
DTSTAMP:20260420T043557Z
SUMMARY:Uitmatch bevestigd? (Smash 3H (68) - Rita Serveert 3H (59))
DESCRIPTION:Je hebt 72 uur na aanvang om een uitmatch op Badmintonvlaandere
 n in te vullen. Match info: Smash 3H (68) - Rita Serveert 3H (59) - Link: 
 https://www.badmintonvlaanderen.be/sport/teammatch.aspx?id=A0E9B3BE-1D47-4
 28D-8EB5-7807839F7498&match=423
DTSTART;TZID=Europe/Brussels:20251130T200000
DTEND;TZID=Europe/Brussels:20251130T200000
END:VEVENT
BEGIN:VEVENT
UID:A0E9B3BE-1D47-428D-8EB5-7807839F7498-10-425_awayreminder@35.badmintonne
 rs.net
DTSTAMP:20260420T043557Z
SUMMARY:Uitmatch bevestigd? (Klein Boom 2H (49) - Rita Serveert 3H (59))
DESCRIPTION:Je hebt 72 uur na aanvang om een uitmatch op Badmintonvlaandere
 n in te vullen. Match info: Klein Boom 2H (49) - Rita Serveert 3H (59) - L
 ink: https://www.badmintonvlaanderen.be/sport/teammatch.aspx?id=A0E9B3BE-1
 D47-428D-8EB5-7807839F7498&match=425
DTSTART;TZID=Europe/Brussels:20251211T200000
DTEND;TZID=Europe/Brussels:20251211T200000
END:VEVENT
BEGIN:VEVENT
UID:A0E9B3BE-1D47-428D-8EB5-7807839F7498-10-427_awayreminder@35.badmintonne
 rs.net
DTSTAMP:20260420T043557Z
SUMMARY:Uitmatch bevestigd? (Plumula 2H (57) - Rita Serveert 3H (59))
DESCRIPTION:Je hebt 72 uur na aanvang om een uitmatch op Badmintonvlaandere
 n in te vullen. Match info: Plumula 2H (57) - Rita Serveert 3H (59) - Link
 : https://www.badmintonvlaanderen.be/sport/teammatch.aspx?id=A0E9B3BE-1D47
 -428D-8EB5-7807839F7498&match=427
DTSTART;TZID=Europe/Brussels:20260225T173000
DTEND;TZID=Europe/Brussels:20260225T173000
END:VEVENT
BEGIN:VEVENT
UID:A0E9B3BE-1D47-428D-8EB5-7807839F7498-10-424_awayreminder@35.badmintonne
 rs.net
DTSTAMP:20260420T043557Z
SUMMARY:Uitmatch bevestigd? (Spinshuttle 2H (59) - Rita Serveert 3H (59))
DESCRIPTION:Je hebt 72 uur na aanvang om een uitmatch op Badmintonvlaandere
 n in te vullen. Match info: Spinshuttle 2H (59) - Rita Serveert 3H (59) - 
 Link: https://www.badmintonvlaanderen.be/sport/teammatch.aspx?id=A0E9B3BE-
 1D47-428D-8EB5-7807839F7498&match=424
DTSTART;TZID=Europe/Brussels:20260306T200000
DTEND;TZID=Europe/Brussels:20260306T200000
END:VEVENT
BEGIN:VEVENT
UID:A0E9B3BE-1D47-428D-8EB5-7807839F7498-10-426_awayreminder@35.badmintonne
 rs.net
DTSTAMP:20260420T043557Z
SUMMARY:Uitmatch bevestigd? (Zoersel 4H (62) - Rita Serveert 3H (59))
DESCRIPTION:Je hebt 72 uur na aanvang om een uitmatch op Badmintonvlaandere
 n in te vullen. Match info: Zoersel 4H (62) - Rita Serveert 3H (59) - Link
 : https://www.badmintonvlaanderen.be/sport/teammatch.aspx?id=A0E9B3BE-1D47
 -428D-8EB5-7807839F7498&match=426
DTSTART;TZID=Europe/Brussels:20260421T150000
DTEND;TZID=Europe/Brussels:20260421T150000
END:VEVENT
END:VCALENDAR