BEGIN:VCALENDAR
VERSION:2.0
PRODID:spatie/icalendar-generator
NAME:plumula_2h_57_reminders
X-WR-CALNAME:plumula_2h_57_reminders
BEGIN:VTIMEZONE
TZID:Europe/Brussels
BEGIN:DAYLIGHT
DTSTART:20250330T010000
TZOFFSETFROM:+0100
TZOFFSETTO:+0200
END:DAYLIGHT
BEGIN:STANDARD
DTSTART:20251026T030000
TZOFFSETFROM:+0200
TZOFFSETTO:+0100
END:STANDARD
BEGIN:DAYLIGHT
DTSTART:20260329T010000
TZOFFSETFROM:+0100
TZOFFSETTO:+0200
END:DAYLIGHT
END:VTIMEZONE
BEGIN:VTIMEZONE
TZID:UTC
BEGIN:STANDARD
DTSTART:20250724T042147
TZOFFSETFROM:+0000
TZOFFSETTO:+0000
END:STANDARD
END:VTIMEZONE
BEGIN:VEVENT
UID:A0E9B3BE-1D47-428D-8EB5-7807839F7498-10-437_homereminder@41.badmintonne
 rs.net
DTSTAMP:20260420T042147Z
SUMMARY:Thuismatch ingevuld? (Plumula 2H (57) - Klein Boom 2H (49))
DESCRIPTION:Je hebt 36 uur na aanvang om een thuismatch op Badmintonvlaande
 ren in te vullen. Match info: Plumula 2H (57) - Klein Boom 2H (49) - Link:
  https://www.badmintonvlaanderen.be/sport/teammatch.aspx?id=A0E9B3BE-1D47-
 428D-8EB5-7807839F7498&match=437
DTSTART;TZID=Europe/Brussels:20251007T053000
DTEND;TZID=Europe/Brussels:20251007T053000
END:VEVENT
BEGIN:VEVENT
UID:A0E9B3BE-1D47-428D-8EB5-7807839F7498-10-442_homereminder@41.badmintonne
 rs.net
DTSTAMP:20260420T042147Z
SUMMARY:Thuismatch ingevuld? (Plumula 2H (57) - Zoersel 4H (62))
DESCRIPTION:Je hebt 36 uur na aanvang om een thuismatch op Badmintonvlaande
 ren in te vullen. Match info: Plumula 2H (57) - Zoersel 4H (62) - Link: ht
 tps://www.badmintonvlaanderen.be/sport/teammatch.aspx?id=A0E9B3BE-1D47-428
 D-8EB5-7807839F7498&match=442
DTSTART;TZID=Europe/Brussels:20251021T053000
DTEND;TZID=Europe/Brussels:20251021T053000
END:VEVENT
BEGIN:VEVENT
UID:A0E9B3BE-1D47-428D-8EB5-7807839F7498-10-427_homereminder@41.badmintonne
 rs.net
DTSTAMP:20260420T042147Z
SUMMARY:Thuismatch ingevuld? (Plumula 2H (57) - Rita Serveert 3H (59))
DESCRIPTION:Je hebt 36 uur na aanvang om een thuismatch op Badmintonvlaande
 ren in te vullen. Match info: Plumula 2H (57) - Rita Serveert 3H (59) - Li
 nk: https://www.badmintonvlaanderen.be/sport/teammatch.aspx?id=A0E9B3BE-1D
 47-428D-8EB5-7807839F7498&match=427
DTSTART;TZID=Europe/Brussels:20260224T053000
DTEND;TZID=Europe/Brussels:20260224T053000
END:VEVENT
BEGIN:VEVENT
UID:A0E9B3BE-1D47-428D-8EB5-7807839F7498-10-432_homereminder@41.badmintonne
 rs.net
DTSTAMP:20260420T042147Z
SUMMARY:Thuismatch ingevuld? (Plumula 2H (57) - Spinshuttle 2H (59))
DESCRIPTION:Je hebt 36 uur na aanvang om een thuismatch op Badmintonvlaande
 ren in te vullen. Match info: Plumula 2H (57) - Spinshuttle 2H (59) - Link
 : https://www.badmintonvlaanderen.be/sport/teammatch.aspx?id=A0E9B3BE-1D47
 -428D-8EB5-7807839F7498&match=432
DTSTART;TZID=Europe/Brussels:20260324T053000
DTEND;TZID=Europe/Brussels:20260324T053000
END:VEVENT
BEGIN:VEVENT
UID:A0E9B3BE-1D47-428D-8EB5-7807839F7498-10-422_homereminder@41.badmintonne
 rs.net
DTSTAMP:20260420T042147Z
SUMMARY:Thuismatch ingevuld? (Plumula 2H (57) - Smash 3H (68))
DESCRIPTION:Je hebt 36 uur na aanvang om een thuismatch op Badmintonvlaande
 ren in te vullen. Match info: Plumula 2H (57) - Smash 3H (68) - Link: http
 s://www.badmintonvlaanderen.be/sport/teammatch.aspx?id=A0E9B3BE-1D47-428D-
 8EB5-7807839F7498&match=422
DTSTART;TZID=Europe/Brussels:20260421T053000
DTEND;TZID=Europe/Brussels:20260421T053000
END:VEVENT
BEGIN:VEVENT
UID:A0E9B3BE-1D47-428D-8EB5-7807839F7498-10-443_awayreminder@41.badmintonne
 rs.net
DTSTAMP:20260420T042147Z
SUMMARY:Uitmatch bevestigd? (Smash 3H (68) - Plumula 2H (57))
DESCRIPTION:Je hebt 72 uur na aanvang om een uitmatch op Badmintonvlaandere
 n in te vullen. Match info: Smash 3H (68) - Plumula 2H (57) - Link: https:
 //www.badmintonvlaanderen.be/sport/teammatch.aspx?id=A0E9B3BE-1D47-428D-8E
 B5-7807839F7498&match=443
DTSTART;TZID=Europe/Brussels:20251012T200000
DTEND;TZID=Europe/Brussels:20251012T200000
END:VEVENT
BEGIN:VEVENT
UID:A0E9B3BE-1D47-428D-8EB5-7807839F7498-10-444_awayreminder@41.badmintonne
 rs.net
DTSTAMP:20260420T042147Z
SUMMARY:Uitmatch bevestigd? (Rita Serveert 3H (59) - Plumula 2H (57))
DESCRIPTION:Je hebt 72 uur na aanvang om een uitmatch op Badmintonvlaandere
 n in te vullen. Match info: Rita Serveert 3H (59) - Plumula 2H (57) - Link
 : https://www.badmintonvlaanderen.be/sport/teammatch.aspx?id=A0E9B3BE-1D47
 -428D-8EB5-7807839F7498&match=444
DTSTART;TZID=Europe/Brussels:20251119T190000
DTEND;TZID=Europe/Brussels:20251119T190000
END:VEVENT
BEGIN:VEVENT
UID:A0E9B3BE-1D47-428D-8EB5-7807839F7498-10-445_awayreminder@41.badmintonne
 rs.net
DTSTAMP:20260420T042147Z
SUMMARY:Uitmatch bevestigd? (Spinshuttle 2H (59) - Plumula 2H (57))
DESCRIPTION:Je hebt 72 uur na aanvang om een uitmatch op Badmintonvlaandere
 n in te vullen. Match info: Spinshuttle 2H (59) - Plumula 2H (57) - Link: 
 https://www.badmintonvlaanderen.be/sport/teammatch.aspx?id=A0E9B3BE-1D47-4
 28D-8EB5-7807839F7498&match=445
DTSTART;TZID=Europe/Brussels:20251212T200000
DTEND;TZID=Europe/Brussels:20251212T200000
END:VEVENT
BEGIN:VEVENT
UID:A0E9B3BE-1D47-428D-8EB5-7807839F7498-10-446_awayreminder@41.badmintonne
 rs.net
DTSTAMP:20260420T042147Z
SUMMARY:Uitmatch bevestigd? (Klein Boom 2H (49) - Plumula 2H (57))
DESCRIPTION:Je hebt 72 uur na aanvang om een uitmatch op Badmintonvlaandere
 n in te vullen. Match info: Klein Boom 2H (49) - Plumula 2H (57) - Link: h
 ttps://www.badmintonvlaanderen.be/sport/teammatch.aspx?id=A0E9B3BE-1D47-42
 8D-8EB5-7807839F7498&match=446
DTSTART;TZID=Europe/Brussels:20260122T200000
DTEND;TZID=Europe/Brussels:20260122T200000
END:VEVENT
BEGIN:VEVENT
UID:A0E9B3BE-1D47-428D-8EB5-7807839F7498-10-447_awayreminder@41.badmintonne
 rs.net
DTSTAMP:20260420T042147Z
SUMMARY:Uitmatch bevestigd? (Zoersel 4H (62) - Plumula 2H (57))
DESCRIPTION:Je hebt 72 uur na aanvang om een uitmatch op Badmintonvlaandere
 n in te vullen. Match info: Zoersel 4H (62) - Plumula 2H (57) - Link: http
 s://www.badmintonvlaanderen.be/sport/teammatch.aspx?id=A0E9B3BE-1D47-428D-
 8EB5-7807839F7498&match=447
DTSTART;TZID=Europe/Brussels:20260310T150000
DTEND;TZID=Europe/Brussels:20260310T150000
END:VEVENT
END:VCALENDAR