BEGIN:VCALENDAR
VERSION:2.0
PRODID:spatie/icalendar-generator
NAME:smash_3h_68_reminders
X-WR-CALNAME:smash_3h_68_reminders
BEGIN:VTIMEZONE
TZID:Europe/Brussels
BEGIN:DAYLIGHT
DTSTART:20250330T010000
TZOFFSETFROM:+0100
TZOFFSETTO:+0200
END:DAYLIGHT
BEGIN:STANDARD
DTSTART:20251026T030000
TZOFFSETFROM:+0200
TZOFFSETTO:+0100
END:STANDARD
BEGIN:DAYLIGHT
DTSTART:20260329T010000
TZOFFSETFROM:+0100
TZOFFSETTO:+0200
END:DAYLIGHT
END:VTIMEZONE
BEGIN:VTIMEZONE
TZID:UTC
BEGIN:STANDARD
DTSTART:20250724T043557
TZOFFSETFROM:+0000
TZOFFSETTO:+0000
END:STANDARD
END:VTIMEZONE
BEGIN:VEVENT
UID:A0E9B3BE-1D47-428D-8EB5-7807839F7498-10-443_homereminder@45.badmintonne
 rs.net
DTSTAMP:20260420T043557Z
SUMMARY:Thuismatch ingevuld? (Smash 3H (68) - Plumula 2H (57))
DESCRIPTION:Je hebt 36 uur na aanvang om een thuismatch op Badmintonvlaande
 ren in te vullen. Match info: Smash 3H (68) - Plumula 2H (57) - Link: http
 s://www.badmintonvlaanderen.be/sport/teammatch.aspx?id=A0E9B3BE-1D47-428D-
 8EB5-7807839F7498&match=443
DTSTART;TZID=Europe/Brussels:20251011T080000
DTEND;TZID=Europe/Brussels:20251011T080000
END:VEVENT
BEGIN:VEVENT
UID:A0E9B3BE-1D47-428D-8EB5-7807839F7498-10-433_homereminder@45.badmintonne
 rs.net
DTSTAMP:20260420T043557Z
SUMMARY:Thuismatch ingevuld? (Smash 3H (68) - Klein Boom 2H (49))
DESCRIPTION:Je hebt 36 uur na aanvang om een thuismatch op Badmintonvlaande
 ren in te vullen. Match info: Smash 3H (68) - Klein Boom 2H (49) - Link: h
 ttps://www.badmintonvlaanderen.be/sport/teammatch.aspx?id=A0E9B3BE-1D47-42
 8D-8EB5-7807839F7498&match=433
DTSTART;TZID=Europe/Brussels:20251018T080000
DTEND;TZID=Europe/Brussels:20251018T080000
END:VEVENT
BEGIN:VEVENT
UID:A0E9B3BE-1D47-428D-8EB5-7807839F7498-10-423_homereminder@45.badmintonne
 rs.net
DTSTAMP:20260420T043557Z
SUMMARY:Thuismatch ingevuld? (Smash 3H (68) - Rita Serveert 3H (59))
DESCRIPTION:Je hebt 36 uur na aanvang om een thuismatch op Badmintonvlaande
 ren in te vullen. Match info: Smash 3H (68) - Rita Serveert 3H (59) - Link
 : https://www.badmintonvlaanderen.be/sport/teammatch.aspx?id=A0E9B3BE-1D47
 -428D-8EB5-7807839F7498&match=423
DTSTART;TZID=Europe/Brussels:20251129T080000
DTEND;TZID=Europe/Brussels:20251129T080000
END:VEVENT
BEGIN:VEVENT
UID:A0E9B3BE-1D47-428D-8EB5-7807839F7498-10-428_homereminder@45.badmintonne
 rs.net
DTSTAMP:20260420T043557Z
SUMMARY:Thuismatch ingevuld? (Smash 3H (68) - Spinshuttle 2H (59))
DESCRIPTION:Je hebt 36 uur na aanvang om een thuismatch op Badmintonvlaande
 ren in te vullen. Match info: Smash 3H (68) - Spinshuttle 2H (59) - Link: 
 https://www.badmintonvlaanderen.be/sport/teammatch.aspx?id=A0E9B3BE-1D47-4
 28D-8EB5-7807839F7498&match=428
DTSTART;TZID=Europe/Brussels:20260207T080000
DTEND;TZID=Europe/Brussels:20260207T080000
END:VEVENT
BEGIN:VEVENT
UID:A0E9B3BE-1D47-428D-8EB5-7807839F7498-10-438_homereminder@45.badmintonne
 rs.net
DTSTAMP:20260420T043557Z
SUMMARY:Thuismatch ingevuld? (Smash 3H (68) - Zoersel 4H (62))
DESCRIPTION:Je hebt 36 uur na aanvang om een thuismatch op Badmintonvlaande
 ren in te vullen. Match info: Smash 3H (68) - Zoersel 4H (62) - Link: http
 s://www.badmintonvlaanderen.be/sport/teammatch.aspx?id=A0E9B3BE-1D47-428D-
 8EB5-7807839F7498&match=438
DTSTART;TZID=Europe/Brussels:20260404T080000
DTEND;TZID=Europe/Brussels:20260404T080000
END:VEVENT
BEGIN:VEVENT
UID:A0E9B3BE-1D47-428D-8EB5-7807839F7498-10-419_awayreminder@45.badmintonne
 rs.net
DTSTAMP:20260420T043557Z
SUMMARY:Uitmatch bevestigd? (Spinshuttle 2H (59) - Smash 3H (68))
DESCRIPTION:Je hebt 72 uur na aanvang om een uitmatch op Badmintonvlaandere
 n in te vullen. Match info: Spinshuttle 2H (59) - Smash 3H (68) - Link: ht
 tps://www.badmintonvlaanderen.be/sport/teammatch.aspx?id=A0E9B3BE-1D47-428
 D-8EB5-7807839F7498&match=419
DTSTART;TZID=Europe/Brussels:20251128T200000
DTEND;TZID=Europe/Brussels:20251128T200000
END:VEVENT
BEGIN:VEVENT
UID:A0E9B3BE-1D47-428D-8EB5-7807839F7498-10-421_awayreminder@45.badmintonne
 rs.net
DTSTAMP:20260420T043557Z
SUMMARY:Uitmatch bevestigd? (Zoersel 4H (62) - Smash 3H (68))
DESCRIPTION:Je hebt 72 uur na aanvang om een uitmatch op Badmintonvlaandere
 n in te vullen. Match info: Zoersel 4H (62) - Smash 3H (68) - Link: https:
 //www.badmintonvlaanderen.be/sport/teammatch.aspx?id=A0E9B3BE-1D47-428D-8E
 B5-7807839F7498&match=421
DTSTART;TZID=Europe/Brussels:20251216T150000
DTEND;TZID=Europe/Brussels:20251216T150000
END:VEVENT
BEGIN:VEVENT
UID:A0E9B3BE-1D47-428D-8EB5-7807839F7498-10-420_awayreminder@45.badmintonne
 rs.net
DTSTAMP:20260420T043557Z
SUMMARY:Uitmatch bevestigd? (Klein Boom 2H (49) - Smash 3H (68))
DESCRIPTION:Je hebt 72 uur na aanvang om een uitmatch op Badmintonvlaandere
 n in te vullen. Match info: Klein Boom 2H (49) - Smash 3H (68) - Link: htt
 ps://www.badmintonvlaanderen.be/sport/teammatch.aspx?id=A0E9B3BE-1D47-428D
 -8EB5-7807839F7498&match=420
DTSTART;TZID=Europe/Brussels:20260305T200000
DTEND;TZID=Europe/Brussels:20260305T200000
END:VEVENT
BEGIN:VEVENT
UID:A0E9B3BE-1D47-428D-8EB5-7807839F7498-10-418_awayreminder@45.badmintonne
 rs.net
DTSTAMP:20260420T043557Z
SUMMARY:Uitmatch bevestigd? (Rita Serveert 3H (59) - Smash 3H (68))
DESCRIPTION:Je hebt 72 uur na aanvang om een uitmatch op Badmintonvlaandere
 n in te vullen. Match info: Rita Serveert 3H (59) - Smash 3H (68) - Link: 
 https://www.badmintonvlaanderen.be/sport/teammatch.aspx?id=A0E9B3BE-1D47-4
 28D-8EB5-7807839F7498&match=418
DTSTART;TZID=Europe/Brussels:20260311T190000
DTEND;TZID=Europe/Brussels:20260311T190000
END:VEVENT
BEGIN:VEVENT
UID:A0E9B3BE-1D47-428D-8EB5-7807839F7498-10-422_awayreminder@45.badmintonne
 rs.net
DTSTAMP:20260420T043557Z
SUMMARY:Uitmatch bevestigd? (Plumula 2H (57) - Smash 3H (68))
DESCRIPTION:Je hebt 72 uur na aanvang om een uitmatch op Badmintonvlaandere
 n in te vullen. Match info: Plumula 2H (57) - Smash 3H (68) - Link: https:
 //www.badmintonvlaanderen.be/sport/teammatch.aspx?id=A0E9B3BE-1D47-428D-8E
 B5-7807839F7498&match=422
DTSTART;TZID=Europe/Brussels:20260422T173000
DTEND;TZID=Europe/Brussels:20260422T173000
END:VEVENT
END:VCALENDAR