BEGIN:VCALENDAR
VERSION:2.0
PRODID:spatie/icalendar-generator
NAME:spinshuttle_2h_59_reminders
X-WR-CALNAME:spinshuttle_2h_59_reminders
BEGIN:VTIMEZONE
TZID:Europe/Brussels
BEGIN:DAYLIGHT
DTSTART:20250330T010000
TZOFFSETFROM:+0100
TZOFFSETTO:+0200
END:DAYLIGHT
BEGIN:STANDARD
DTSTART:20251026T030000
TZOFFSETFROM:+0200
TZOFFSETTO:+0100
END:STANDARD
BEGIN:DAYLIGHT
DTSTART:20260329T010000
TZOFFSETFROM:+0100
TZOFFSETTO:+0200
END:DAYLIGHT
END:VTIMEZONE
BEGIN:VTIMEZONE
TZID:UTC
BEGIN:STANDARD
DTSTART:20250724T055119
TZOFFSETFROM:+0000
TZOFFSETTO:+0000
END:STANDARD
END:VTIMEZONE
BEGIN:VEVENT
UID:A0E9B3BE-1D47-428D-8EB5-7807839F7498-10-419_homereminder@53.badmintonne
 rs.net
DTSTAMP:20260420T055119Z
SUMMARY:Thuismatch ingevuld? (Spinshuttle 2H (59) - Smash 3H (68))
DESCRIPTION:Je hebt 36 uur na aanvang om een thuismatch op Badmintonvlaande
 ren in te vullen. Match info: Spinshuttle 2H (59) - Smash 3H (68) - Link: 
 https://www.badmintonvlaanderen.be/sport/teammatch.aspx?id=A0E9B3BE-1D47-4
 28D-8EB5-7807839F7498&match=419
DTSTART;TZID=Europe/Brussels:20251127T080000
DTEND;TZID=Europe/Brussels:20251127T080000
END:VEVENT
BEGIN:VEVENT
UID:A0E9B3BE-1D47-428D-8EB5-7807839F7498-10-445_homereminder@53.badmintonne
 rs.net
DTSTAMP:20260420T055119Z
SUMMARY:Thuismatch ingevuld? (Spinshuttle 2H (59) - Plumula 2H (57))
DESCRIPTION:Je hebt 36 uur na aanvang om een thuismatch op Badmintonvlaande
 ren in te vullen. Match info: Spinshuttle 2H (59) - Plumula 2H (57) - Link
 : https://www.badmintonvlaanderen.be/sport/teammatch.aspx?id=A0E9B3BE-1D47
 -428D-8EB5-7807839F7498&match=445
DTSTART;TZID=Europe/Brussels:20251211T080000
DTEND;TZID=Europe/Brussels:20251211T080000
END:VEVENT
BEGIN:VEVENT
UID:A0E9B3BE-1D47-428D-8EB5-7807839F7498-10-440_homereminder@53.badmintonne
 rs.net
DTSTAMP:20260420T055119Z
SUMMARY:Thuismatch ingevuld? (Spinshuttle 2H (59) - Zoersel 4H (62))
DESCRIPTION:Je hebt 36 uur na aanvang om een thuismatch op Badmintonvlaande
 ren in te vullen. Match info: Spinshuttle 2H (59) - Zoersel 4H (62) - Link
 : https://www.badmintonvlaanderen.be/sport/teammatch.aspx?id=A0E9B3BE-1D47
 -428D-8EB5-7807839F7498&match=440
DTSTART;TZID=Europe/Brussels:20260122T080000
DTEND;TZID=Europe/Brussels:20260122T080000
END:VEVENT
BEGIN:VEVENT
UID:A0E9B3BE-1D47-428D-8EB5-7807839F7498-10-424_homereminder@53.badmintonne
 rs.net
DTSTAMP:20260420T055119Z
SUMMARY:Thuismatch ingevuld? (Spinshuttle 2H (59) - Rita Serveert 3H (59))
DESCRIPTION:Je hebt 36 uur na aanvang om een thuismatch op Badmintonvlaande
 ren in te vullen. Match info: Spinshuttle 2H (59) - Rita Serveert 3H (59) 
 - Link: https://www.badmintonvlaanderen.be/sport/teammatch.aspx?id=A0E9B3B
 E-1D47-428D-8EB5-7807839F7498&match=424
DTSTART;TZID=Europe/Brussels:20260305T080000
DTEND;TZID=Europe/Brussels:20260305T080000
END:VEVENT
BEGIN:VEVENT
UID:A0E9B3BE-1D47-428D-8EB5-7807839F7498-10-435_homereminder@53.badmintonne
 rs.net
DTSTAMP:20260420T055119Z
SUMMARY:Thuismatch ingevuld? (Spinshuttle 2H (59) - Klein Boom 2H (49))
DESCRIPTION:Je hebt 36 uur na aanvang om een thuismatch op Badmintonvlaande
 ren in te vullen. Match info: Spinshuttle 2H (59) - Klein Boom 2H (49) - L
 ink: https://www.badmintonvlaanderen.be/sport/teammatch.aspx?id=A0E9B3BE-1
 D47-428D-8EB5-7807839F7498&match=435
DTSTART;TZID=Europe/Brussels:20260416T080000
DTEND;TZID=Europe/Brussels:20260416T080000
END:VEVENT
BEGIN:VEVENT
UID:A0E9B3BE-1D47-428D-8EB5-7807839F7498-10-430_awayreminder@53.badmintonne
 rs.net
DTSTAMP:20260420T055119Z
SUMMARY:Uitmatch bevestigd? (Klein Boom 2H (49) - Spinshuttle 2H (59))
DESCRIPTION:Je hebt 72 uur na aanvang om een uitmatch op Badmintonvlaandere
 n in te vullen. Match info: Klein Boom 2H (49) - Spinshuttle 2H (59) - Lin
 k: https://www.badmintonvlaanderen.be/sport/teammatch.aspx?id=A0E9B3BE-1D4
 7-428D-8EB5-7807839F7498&match=430
DTSTART;TZID=Europe/Brussels:20250918T200000
DTEND;TZID=Europe/Brussels:20250918T200000
END:VEVENT
BEGIN:VEVENT
UID:A0E9B3BE-1D47-428D-8EB5-7807839F7498-10-431_awayreminder@53.badmintonne
 rs.net
DTSTAMP:20260420T055119Z
SUMMARY:Uitmatch bevestigd? (Zoersel 4H (62) - Spinshuttle 2H (59))
DESCRIPTION:Je hebt 72 uur na aanvang om een uitmatch op Badmintonvlaandere
 n in te vullen. Match info: Zoersel 4H (62) - Spinshuttle 2H (59) - Link: 
 https://www.badmintonvlaanderen.be/sport/teammatch.aspx?id=A0E9B3BE-1D47-4
 28D-8EB5-7807839F7498&match=431
DTSTART;TZID=Europe/Brussels:20251008T120000
DTEND;TZID=Europe/Brussels:20251008T120000
END:VEVENT
BEGIN:VEVENT
UID:A0E9B3BE-1D47-428D-8EB5-7807839F7498-10-429_awayreminder@53.badmintonne
 rs.net
DTSTAMP:20260420T055119Z
SUMMARY:Uitmatch bevestigd? (Rita Serveert 3H (59) - Spinshuttle 2H (59))
DESCRIPTION:Je hebt 72 uur na aanvang om een uitmatch op Badmintonvlaandere
 n in te vullen. Match info: Rita Serveert 3H (59) - Spinshuttle 2H (59) - 
 Link: https://www.badmintonvlaanderen.be/sport/teammatch.aspx?id=A0E9B3BE-
 1D47-428D-8EB5-7807839F7498&match=429
DTSTART;TZID=Europe/Brussels:20251029T190000
DTEND;TZID=Europe/Brussels:20251029T190000
END:VEVENT
BEGIN:VEVENT
UID:A0E9B3BE-1D47-428D-8EB5-7807839F7498-10-428_awayreminder@53.badmintonne
 rs.net
DTSTAMP:20260420T055119Z
SUMMARY:Uitmatch bevestigd? (Smash 3H (68) - Spinshuttle 2H (59))
DESCRIPTION:Je hebt 72 uur na aanvang om een uitmatch op Badmintonvlaandere
 n in te vullen. Match info: Smash 3H (68) - Spinshuttle 2H (59) - Link: ht
 tps://www.badmintonvlaanderen.be/sport/teammatch.aspx?id=A0E9B3BE-1D47-428
 D-8EB5-7807839F7498&match=428
DTSTART;TZID=Europe/Brussels:20260208T200000
DTEND;TZID=Europe/Brussels:20260208T200000
END:VEVENT
BEGIN:VEVENT
UID:A0E9B3BE-1D47-428D-8EB5-7807839F7498-10-432_awayreminder@53.badmintonne
 rs.net
DTSTAMP:20260420T055119Z
SUMMARY:Uitmatch bevestigd? (Plumula 2H (57) - Spinshuttle 2H (59))
DESCRIPTION:Je hebt 72 uur na aanvang om een uitmatch op Badmintonvlaandere
 n in te vullen. Match info: Plumula 2H (57) - Spinshuttle 2H (59) - Link: 
 https://www.badmintonvlaanderen.be/sport/teammatch.aspx?id=A0E9B3BE-1D47-4
 28D-8EB5-7807839F7498&match=432
DTSTART;TZID=Europe/Brussels:20260325T173000
DTEND;TZID=Europe/Brussels:20260325T173000
END:VEVENT
END:VCALENDAR