BEGIN:VCALENDAR
VERSION:2.0
PRODID:spatie/icalendar-generator
NAME:zoersel_3h_60_reminders
X-WR-CALNAME:zoersel_3h_60_reminders
BEGIN:VTIMEZONE
TZID:Europe/Brussels
BEGIN:DAYLIGHT
DTSTART:20250330T010000
TZOFFSETFROM:+0100
TZOFFSETTO:+0200
END:DAYLIGHT
BEGIN:STANDARD
DTSTART:20251026T030000
TZOFFSETFROM:+0200
TZOFFSETTO:+0100
END:STANDARD
BEGIN:DAYLIGHT
DTSTART:20260329T010000
TZOFFSETFROM:+0100
TZOFFSETTO:+0200
END:DAYLIGHT
END:VTIMEZONE
BEGIN:VTIMEZONE
TZID:UTC
BEGIN:STANDARD
DTSTART:20250724T042224
TZOFFSETFROM:+0000
TZOFFSETTO:+0000
END:STANDARD
END:VTIMEZONE
BEGIN:VEVENT
UID:A0E9B3BE-1D47-428D-8EB5-7807839F7498-12-503_homereminder@33.badmintonne
 rs.net
DTSTAMP:20260420T042224Z
SUMMARY:Thuismatch ingevuld? (Zoersel 3H (60) - Herentals 4H (60))
DESCRIPTION:Je hebt 36 uur na aanvang om een thuismatch op Badmintonvlaande
 ren in te vullen. Match info: Zoersel 3H (60) - Herentals 4H (60) - Link: 
 https://www.badmintonvlaanderen.be/sport/teammatch.aspx?id=A0E9B3BE-1D47-4
 28D-8EB5-7807839F7498&match=503
DTSTART;TZID=Europe/Brussels:20251027T020000
DTEND;TZID=Europe/Brussels:20251027T020000
END:VEVENT
BEGIN:VEVENT
UID:A0E9B3BE-1D47-428D-8EB5-7807839F7498-12-493_homereminder@33.badmintonne
 rs.net
DTSTAMP:20260420T042224Z
SUMMARY:Thuismatch ingevuld? (Zoersel 3H (60) - Zandhoven 1H (62))
DESCRIPTION:Je hebt 36 uur na aanvang om een thuismatch op Badmintonvlaande
 ren in te vullen. Match info: Zoersel 3H (60) - Zandhoven 1H (62) - Link: 
 https://www.badmintonvlaanderen.be/sport/teammatch.aspx?id=A0E9B3BE-1D47-4
 28D-8EB5-7807839F7498&match=493
DTSTART;TZID=Europe/Brussels:20251201T030000
DTEND;TZID=Europe/Brussels:20251201T030000
END:VEVENT
BEGIN:VEVENT
UID:A0E9B3BE-1D47-428D-8EB5-7807839F7498-12-519_homereminder@33.badmintonne
 rs.net
DTSTAMP:20260420T042224Z
SUMMARY:Thuismatch ingevuld? (Zoersel 3H (60) - Klein Boom 3H (59))
DESCRIPTION:Je hebt 36 uur na aanvang om een thuismatch op Badmintonvlaande
 ren in te vullen. Match info: Zoersel 3H (60) - Klein Boom 3H (59) - Link:
  https://www.badmintonvlaanderen.be/sport/teammatch.aspx?id=A0E9B3BE-1D47-
 428D-8EB5-7807839F7498&match=519
DTSTART;TZID=Europe/Brussels:20260127T000000
DTEND;TZID=Europe/Brussels:20260127T000000
END:VEVENT
BEGIN:VEVENT
UID:A0E9B3BE-1D47-428D-8EB5-7807839F7498-12-498_homereminder@33.badmintonne
 rs.net
DTSTAMP:20260420T042224Z
SUMMARY:Thuismatch ingevuld? (Zoersel 3H (60) - De Pluim 1H (54))
DESCRIPTION:Je hebt 36 uur na aanvang om een thuismatch op Badmintonvlaande
 ren in te vullen. Match info: Zoersel 3H (60) - De Pluim 1H (54) - Link: h
 ttps://www.badmintonvlaanderen.be/sport/teammatch.aspx?id=A0E9B3BE-1D47-42
 8D-8EB5-7807839F7498&match=498
DTSTART;TZID=Europe/Brussels:20260310T000000
DTEND;TZID=Europe/Brussels:20260310T000000
END:VEVENT
BEGIN:VEVENT
UID:A0E9B3BE-1D47-428D-8EB5-7807839F7498-12-508_homereminder@33.badmintonne
 rs.net
DTSTAMP:20260420T042224Z
SUMMARY:Thuismatch ingevuld? (Zoersel 3H (60) - Royal Antwerp 2H (56))
DESCRIPTION:Je hebt 36 uur na aanvang om een thuismatch op Badmintonvlaande
 ren in te vullen. Match info: Zoersel 3H (60) - Royal Antwerp 2H (56) - Li
 nk: https://www.badmintonvlaanderen.be/sport/teammatch.aspx?id=A0E9B3BE-1D
 47-428D-8EB5-7807839F7498&match=508
DTSTART;TZID=Europe/Brussels:20260420T030000
DTEND;TZID=Europe/Brussels:20260420T030000
END:VEVENT
BEGIN:VEVENT
UID:A0E9B3BE-1D47-428D-8EB5-7807839F7498-12-514_awayreminder@33.badmintonne
 rs.net
DTSTAMP:20260420T042224Z
SUMMARY:Uitmatch bevestigd? (Klein Boom 3H (59) - Zoersel 3H (60))
DESCRIPTION:Je hebt 72 uur na aanvang om een uitmatch op Badmintonvlaandere
 n in te vullen. Match info: Klein Boom 3H (59) - Zoersel 3H (60) - Link: h
 ttps://www.badmintonvlaanderen.be/sport/teammatch.aspx?id=A0E9B3BE-1D47-42
 8D-8EB5-7807839F7498&match=514
DTSTART;TZID=Europe/Brussels:20251030T200000
DTEND;TZID=Europe/Brussels:20251030T200000
END:VEVENT
BEGIN:VEVENT
UID:A0E9B3BE-1D47-428D-8EB5-7807839F7498-12-511_awayreminder@33.badmintonne
 rs.net
DTSTAMP:20260420T042224Z
SUMMARY:Uitmatch bevestigd? (De Pluim 1H (54) - Zoersel 3H (60))
DESCRIPTION:Je hebt 72 uur na aanvang om een uitmatch op Badmintonvlaandere
 n in te vullen. Match info: De Pluim 1H (54) - Zoersel 3H (60) - Link: htt
 ps://www.badmintonvlaanderen.be/sport/teammatch.aspx?id=A0E9B3BE-1D47-428D
 -8EB5-7807839F7498&match=511
DTSTART;TZID=Europe/Brussels:20251217T181500
DTEND;TZID=Europe/Brussels:20251217T181500
END:VEVENT
BEGIN:VEVENT
UID:A0E9B3BE-1D47-428D-8EB5-7807839F7498-12-513_awayreminder@33.badmintonne
 rs.net
DTSTAMP:20260420T042224Z
SUMMARY:Uitmatch bevestigd? (Royal Antwerp 2H (56) - Zoersel 3H (60))
DESCRIPTION:Je hebt 72 uur na aanvang om een uitmatch op Badmintonvlaandere
 n in te vullen. Match info: Royal Antwerp 2H (56) - Zoersel 3H (60) - Link
 : https://www.badmintonvlaanderen.be/sport/teammatch.aspx?id=A0E9B3BE-1D47
 -428D-8EB5-7807839F7498&match=513
DTSTART;TZID=Europe/Brussels:20251231T180000
DTEND;TZID=Europe/Brussels:20251231T180000
END:VEVENT
BEGIN:VEVENT
UID:A0E9B3BE-1D47-428D-8EB5-7807839F7498-12-510_awayreminder@33.badmintonne
 rs.net
DTSTAMP:20260420T042224Z
SUMMARY:Uitmatch bevestigd? (Zandhoven 1H (62) - Zoersel 3H (60))
DESCRIPTION:Je hebt 72 uur na aanvang om een uitmatch op Badmintonvlaandere
 n in te vullen. Match info: Zandhoven 1H (62) - Zoersel 3H (60) - Link: ht
 tps://www.badmintonvlaanderen.be/sport/teammatch.aspx?id=A0E9B3BE-1D47-428
 D-8EB5-7807839F7498&match=510
DTSTART;TZID=Europe/Brussels:20260219T200000
DTEND;TZID=Europe/Brussels:20260219T200000
END:VEVENT
BEGIN:VEVENT
UID:A0E9B3BE-1D47-428D-8EB5-7807839F7498-12-512_awayreminder@33.badmintonne
 rs.net
DTSTAMP:20260420T042224Z
SUMMARY:Uitmatch bevestigd? (Herentals 4H (60) - Zoersel 3H (60))
DESCRIPTION:Je hebt 72 uur na aanvang om een uitmatch op Badmintonvlaandere
 n in te vullen. Match info: Herentals 4H (60) - Zoersel 3H (60) - Link: ht
 tps://www.badmintonvlaanderen.be/sport/teammatch.aspx?id=A0E9B3BE-1D47-428
 D-8EB5-7807839F7498&match=512
DTSTART;TZID=Europe/Brussels:20260322T210000
DTEND;TZID=Europe/Brussels:20260322T210000
END:VEVENT
END:VCALENDAR