BEGIN:VCALENDAR
VERSION:2.0
PRODID:spatie/icalendar-generator
NAME:zandhoven_1h_62_reminders
X-WR-CALNAME:zandhoven_1h_62_reminders
BEGIN:VTIMEZONE
TZID:Europe/Brussels
BEGIN:DAYLIGHT
DTSTART:20250330T010000
TZOFFSETFROM:+0100
TZOFFSETTO:+0200
END:DAYLIGHT
BEGIN:STANDARD
DTSTART:20251026T030000
TZOFFSETFROM:+0200
TZOFFSETTO:+0100
END:STANDARD
BEGIN:DAYLIGHT
DTSTART:20260329T010000
TZOFFSETFROM:+0100
TZOFFSETTO:+0200
END:DAYLIGHT
END:VTIMEZONE
BEGIN:VTIMEZONE
TZID:UTC
BEGIN:STANDARD
DTSTART:20250724T041158
TZOFFSETFROM:+0000
TZOFFSETTO:+0000
END:STANDARD
END:VTIMEZONE
BEGIN:VEVENT
UID:A0E9B3BE-1D47-428D-8EB5-7807839F7498-12-495_homereminder@36.badmintonne
 rs.net
DTSTAMP:20260420T041158Z
SUMMARY:Thuismatch ingevuld? (Zandhoven 1H (62) - De Pluim 1H (54))
DESCRIPTION:Je hebt 36 uur na aanvang om een thuismatch op Badmintonvlaande
 ren in te vullen. Match info: Zandhoven 1H (62) - De Pluim 1H (54) - Link:
  https://www.badmintonvlaanderen.be/sport/teammatch.aspx?id=A0E9B3BE-1D47-
 428D-8EB5-7807839F7498&match=495
DTSTART;TZID=Europe/Brussels:20250903T080000
DTEND;TZID=Europe/Brussels:20250903T080000
END:VEVENT
BEGIN:VEVENT
UID:A0E9B3BE-1D47-428D-8EB5-7807839F7498-12-505_homereminder@36.badmintonne
 rs.net
DTSTAMP:20260420T041158Z
SUMMARY:Thuismatch ingevuld? (Zandhoven 1H (62) - Royal Antwerp 2H (56))
DESCRIPTION:Je hebt 36 uur na aanvang om een thuismatch op Badmintonvlaande
 ren in te vullen. Match info: Zandhoven 1H (62) - Royal Antwerp 2H (56) - 
 Link: https://www.badmintonvlaanderen.be/sport/teammatch.aspx?id=A0E9B3BE-
 1D47-428D-8EB5-7807839F7498&match=505
DTSTART;TZID=Europe/Brussels:20251029T080000
DTEND;TZID=Europe/Brussels:20251029T080000
END:VEVENT
BEGIN:VEVENT
UID:A0E9B3BE-1D47-428D-8EB5-7807839F7498-12-515_homereminder@36.badmintonne
 rs.net
DTSTAMP:20260420T041158Z
SUMMARY:Thuismatch ingevuld? (Zandhoven 1H (62) - Klein Boom 3H (59))
DESCRIPTION:Je hebt 36 uur na aanvang om een thuismatch op Badmintonvlaande
 ren in te vullen. Match info: Zandhoven 1H (62) - Klein Boom 3H (59) - Lin
 k: https://www.badmintonvlaanderen.be/sport/teammatch.aspx?id=A0E9B3BE-1D4
 7-428D-8EB5-7807839F7498&match=515
DTSTART;TZID=Europe/Brussels:20251126T080000
DTEND;TZID=Europe/Brussels:20251126T080000
END:VEVENT
BEGIN:VEVENT
UID:A0E9B3BE-1D47-428D-8EB5-7807839F7498-12-510_homereminder@36.badmintonne
 rs.net
DTSTAMP:20260420T041158Z
SUMMARY:Thuismatch ingevuld? (Zandhoven 1H (62) - Zoersel 3H (60))
DESCRIPTION:Je hebt 36 uur na aanvang om een thuismatch op Badmintonvlaande
 ren in te vullen. Match info: Zandhoven 1H (62) - Zoersel 3H (60) - Link: 
 https://www.badmintonvlaanderen.be/sport/teammatch.aspx?id=A0E9B3BE-1D47-4
 28D-8EB5-7807839F7498&match=510
DTSTART;TZID=Europe/Brussels:20260218T080000
DTEND;TZID=Europe/Brussels:20260218T080000
END:VEVENT
BEGIN:VEVENT
UID:A0E9B3BE-1D47-428D-8EB5-7807839F7498-12-500_homereminder@36.badmintonne
 rs.net
DTSTAMP:20260420T041158Z
SUMMARY:Thuismatch ingevuld? (Zandhoven 1H (62) - Herentals 4H (60))
DESCRIPTION:Je hebt 36 uur na aanvang om een thuismatch op Badmintonvlaande
 ren in te vullen. Match info: Zandhoven 1H (62) - Herentals 4H (60) - Link
 : https://www.badmintonvlaanderen.be/sport/teammatch.aspx?id=A0E9B3BE-1D47
 -428D-8EB5-7807839F7498&match=500
DTSTART;TZID=Europe/Brussels:20260415T080000
DTEND;TZID=Europe/Brussels:20260415T080000
END:VEVENT
BEGIN:VEVENT
UID:A0E9B3BE-1D47-428D-8EB5-7807839F7498-12-491_awayreminder@36.badmintonne
 rs.net
DTSTAMP:20260420T041158Z
SUMMARY:Uitmatch bevestigd? (Herentals 4H (60) - Zandhoven 1H (62))
DESCRIPTION:Je hebt 72 uur na aanvang om een uitmatch op Badmintonvlaandere
 n in te vullen. Match info: Herentals 4H (60) - Zandhoven 1H (62) - Link: 
 https://www.badmintonvlaanderen.be/sport/teammatch.aspx?id=A0E9B3BE-1D47-4
 28D-8EB5-7807839F7498&match=491
DTSTART;TZID=Europe/Brussels:20251005T210000
DTEND;TZID=Europe/Brussels:20251005T210000
END:VEVENT
BEGIN:VEVENT
UID:A0E9B3BE-1D47-428D-8EB5-7807839F7498-12-493_awayreminder@36.badmintonne
 rs.net
DTSTAMP:20260420T041158Z
SUMMARY:Uitmatch bevestigd? (Zoersel 3H (60) - Zandhoven 1H (62))
DESCRIPTION:Je hebt 72 uur na aanvang om een uitmatch op Badmintonvlaandere
 n in te vullen. Match info: Zoersel 3H (60) - Zandhoven 1H (62) - Link: ht
 tps://www.badmintonvlaanderen.be/sport/teammatch.aspx?id=A0E9B3BE-1D47-428
 D-8EB5-7807839F7498&match=493
DTSTART;TZID=Europe/Brussels:20251202T150000
DTEND;TZID=Europe/Brussels:20251202T150000
END:VEVENT
BEGIN:VEVENT
UID:A0E9B3BE-1D47-428D-8EB5-7807839F7498-12-492_awayreminder@36.badmintonne
 rs.net
DTSTAMP:20260420T041158Z
SUMMARY:Uitmatch bevestigd? (Royal Antwerp 2H (56) - Zandhoven 1H (62))
DESCRIPTION:Je hebt 72 uur na aanvang om een uitmatch op Badmintonvlaandere
 n in te vullen. Match info: Royal Antwerp 2H (56) - Zandhoven 1H (62) - Li
 nk: https://www.badmintonvlaanderen.be/sport/teammatch.aspx?id=A0E9B3BE-1D
 47-428D-8EB5-7807839F7498&match=492
DTSTART;TZID=Europe/Brussels:20260128T180000
DTEND;TZID=Europe/Brussels:20260128T180000
END:VEVENT
BEGIN:VEVENT
UID:A0E9B3BE-1D47-428D-8EB5-7807839F7498-12-494_awayreminder@36.badmintonne
 rs.net
DTSTAMP:20260420T041158Z
SUMMARY:Uitmatch bevestigd? (Klein Boom 3H (59) - Zandhoven 1H (62))
DESCRIPTION:Je hebt 72 uur na aanvang om een uitmatch op Badmintonvlaandere
 n in te vullen. Match info: Klein Boom 3H (59) - Zandhoven 1H (62) - Link:
  https://www.badmintonvlaanderen.be/sport/teammatch.aspx?id=A0E9B3BE-1D47-
 428D-8EB5-7807839F7498&match=494
DTSTART;TZID=Europe/Brussels:20260311T190000
DTEND;TZID=Europe/Brussels:20260311T190000
END:VEVENT
BEGIN:VEVENT
UID:A0E9B3BE-1D47-428D-8EB5-7807839F7498-12-490_awayreminder@36.badmintonne
 rs.net
DTSTAMP:20260420T041158Z
SUMMARY:Uitmatch bevestigd? (De Pluim 1H (54) - Zandhoven 1H (62))
DESCRIPTION:Je hebt 72 uur na aanvang om een uitmatch op Badmintonvlaandere
 n in te vullen. Match info: De Pluim 1H (54) - Zandhoven 1H (62) - Link: h
 ttps://www.badmintonvlaanderen.be/sport/teammatch.aspx?id=A0E9B3BE-1D47-42
 8D-8EB5-7807839F7498&match=490
DTSTART;TZID=Europe/Brussels:20260325T181500
DTEND;TZID=Europe/Brussels:20260325T181500
END:VEVENT
END:VCALENDAR