BEGIN:VCALENDAR
VERSION:2.0
PRODID:spatie/icalendar-generator
NAME:royal_antwerp_2h_56_reminders
X-WR-CALNAME:royal_antwerp_2h_56_reminders
BEGIN:VTIMEZONE
TZID:Europe/Brussels
BEGIN:DAYLIGHT
DTSTART:20250330T010000
TZOFFSETFROM:+0100
TZOFFSETTO:+0200
END:DAYLIGHT
BEGIN:STANDARD
DTSTART:20251026T030000
TZOFFSETFROM:+0200
TZOFFSETTO:+0100
END:STANDARD
BEGIN:DAYLIGHT
DTSTART:20260329T010000
TZOFFSETFROM:+0100
TZOFFSETTO:+0200
END:DAYLIGHT
END:VTIMEZONE
BEGIN:VTIMEZONE
TZID:UTC
BEGIN:STANDARD
DTSTART:20250724T043557
TZOFFSETFROM:+0000
TZOFFSETTO:+0000
END:STANDARD
END:VTIMEZONE
BEGIN:VEVENT
UID:A0E9B3BE-1D47-428D-8EB5-7807839F7498-12-497_homereminder@37.badmintonne
 rs.net
DTSTAMP:20260420T043557Z
SUMMARY:Thuismatch ingevuld? (Royal Antwerp 2H (56) - De Pluim 1H (54))
DESCRIPTION:Je hebt 36 uur na aanvang om een thuismatch op Badmintonvlaande
 ren in te vullen. Match info: Royal Antwerp 2H (56) - De Pluim 1H (54) - L
 ink: https://www.badmintonvlaanderen.be/sport/teammatch.aspx?id=A0E9B3BE-1
 D47-428D-8EB5-7807839F7498&match=497
DTSTART;TZID=Europe/Brussels:20251111T060000
DTEND;TZID=Europe/Brussels:20251111T060000
END:VEVENT
BEGIN:VEVENT
UID:A0E9B3BE-1D47-428D-8EB5-7807839F7498-12-513_homereminder@37.badmintonne
 rs.net
DTSTAMP:20260420T043557Z
SUMMARY:Thuismatch ingevuld? (Royal Antwerp 2H (56) - Zoersel 3H (60))
DESCRIPTION:Je hebt 36 uur na aanvang om een thuismatch op Badmintonvlaande
 ren in te vullen. Match info: Royal Antwerp 2H (56) - Zoersel 3H (60) - Li
 nk: https://www.badmintonvlaanderen.be/sport/teammatch.aspx?id=A0E9B3BE-1D
 47-428D-8EB5-7807839F7498&match=513
DTSTART;TZID=Europe/Brussels:20251230T060000
DTEND;TZID=Europe/Brussels:20251230T060000
END:VEVENT
BEGIN:VEVENT
UID:A0E9B3BE-1D47-428D-8EB5-7807839F7498-12-518_homereminder@37.badmintonne
 rs.net
DTSTAMP:20260420T043557Z
SUMMARY:Thuismatch ingevuld? (Royal Antwerp 2H (56) - Klein Boom 3H (59))
DESCRIPTION:Je hebt 36 uur na aanvang om een thuismatch op Badmintonvlaande
 ren in te vullen. Match info: Royal Antwerp 2H (56) - Klein Boom 3H (59) -
  Link: https://www.badmintonvlaanderen.be/sport/teammatch.aspx?id=A0E9B3BE
 -1D47-428D-8EB5-7807839F7498&match=518
DTSTART;TZID=Europe/Brussels:20260113T060000
DTEND;TZID=Europe/Brussels:20260113T060000
END:VEVENT
BEGIN:VEVENT
UID:A0E9B3BE-1D47-428D-8EB5-7807839F7498-12-492_homereminder@37.badmintonne
 rs.net
DTSTAMP:20260420T043557Z
SUMMARY:Thuismatch ingevuld? (Royal Antwerp 2H (56) - Zandhoven 1H (62))
DESCRIPTION:Je hebt 36 uur na aanvang om een thuismatch op Badmintonvlaande
 ren in te vullen. Match info: Royal Antwerp 2H (56) - Zandhoven 1H (62) - 
 Link: https://www.badmintonvlaanderen.be/sport/teammatch.aspx?id=A0E9B3BE-
 1D47-428D-8EB5-7807839F7498&match=492
DTSTART;TZID=Europe/Brussels:20260127T060000
DTEND;TZID=Europe/Brussels:20260127T060000
END:VEVENT
BEGIN:VEVENT
UID:A0E9B3BE-1D47-428D-8EB5-7807839F7498-12-502_homereminder@37.badmintonne
 rs.net
DTSTAMP:20260420T043557Z
SUMMARY:Thuismatch ingevuld? (Royal Antwerp 2H (56) - Herentals 4H (60))
DESCRIPTION:Je hebt 36 uur na aanvang om een thuismatch op Badmintonvlaande
 ren in te vullen. Match info: Royal Antwerp 2H (56) - Herentals 4H (60) - 
 Link: https://www.badmintonvlaanderen.be/sport/teammatch.aspx?id=A0E9B3BE-
 1D47-428D-8EB5-7807839F7498&match=502
DTSTART;TZID=Europe/Brussels:20260414T060000
DTEND;TZID=Europe/Brussels:20260414T060000
END:VEVENT
BEGIN:VEVENT
UID:A0E9B3BE-1D47-428D-8EB5-7807839F7498-12-505_awayreminder@37.badmintonne
 rs.net
DTSTAMP:20260420T043557Z
SUMMARY:Uitmatch bevestigd? (Zandhoven 1H (62) - Royal Antwerp 2H (56))
DESCRIPTION:Je hebt 72 uur na aanvang om een uitmatch op Badmintonvlaandere
 n in te vullen. Match info: Zandhoven 1H (62) - Royal Antwerp 2H (56) - Li
 nk: https://www.badmintonvlaanderen.be/sport/teammatch.aspx?id=A0E9B3BE-1D
 47-428D-8EB5-7807839F7498&match=505
DTSTART;TZID=Europe/Brussels:20251030T200000
DTEND;TZID=Europe/Brussels:20251030T200000
END:VEVENT
BEGIN:VEVENT
UID:A0E9B3BE-1D47-428D-8EB5-7807839F7498-12-509_awayreminder@37.badmintonne
 rs.net
DTSTAMP:20260420T043557Z
SUMMARY:Uitmatch bevestigd? (Klein Boom 3H (59) - Royal Antwerp 2H (56))
DESCRIPTION:Je hebt 72 uur na aanvang om een uitmatch op Badmintonvlaandere
 n in te vullen. Match info: Klein Boom 3H (59) - Royal Antwerp 2H (56) - L
 ink: https://www.badmintonvlaanderen.be/sport/teammatch.aspx?id=A0E9B3BE-1
 D47-428D-8EB5-7807839F7498&match=509
DTSTART;TZID=Europe/Brussels:20251119T190000
DTEND;TZID=Europe/Brussels:20251119T190000
END:VEVENT
BEGIN:VEVENT
UID:A0E9B3BE-1D47-428D-8EB5-7807839F7498-12-507_awayreminder@37.badmintonne
 rs.net
DTSTAMP:20260420T043557Z
SUMMARY:Uitmatch bevestigd? (Herentals 4H (60) - Royal Antwerp 2H (56))
DESCRIPTION:Je hebt 72 uur na aanvang om een uitmatch op Badmintonvlaandere
 n in te vullen. Match info: Herentals 4H (60) - Royal Antwerp 2H (56) - Li
 nk: https://www.badmintonvlaanderen.be/sport/teammatch.aspx?id=A0E9B3BE-1D
 47-428D-8EB5-7807839F7498&match=507
DTSTART;TZID=Europe/Brussels:20251214T210000
DTEND;TZID=Europe/Brussels:20251214T210000
END:VEVENT
BEGIN:VEVENT
UID:A0E9B3BE-1D47-428D-8EB5-7807839F7498-12-506_awayreminder@37.badmintonne
 rs.net
DTSTAMP:20260420T043557Z
SUMMARY:Uitmatch bevestigd? (De Pluim 1H (54) - Royal Antwerp 2H (56))
DESCRIPTION:Je hebt 72 uur na aanvang om een uitmatch op Badmintonvlaandere
 n in te vullen. Match info: De Pluim 1H (54) - Royal Antwerp 2H (56) - Lin
 k: https://www.badmintonvlaanderen.be/sport/teammatch.aspx?id=A0E9B3BE-1D4
 7-428D-8EB5-7807839F7498&match=506
DTSTART;TZID=Europe/Brussels:20260225T181500
DTEND;TZID=Europe/Brussels:20260225T181500
END:VEVENT
BEGIN:VEVENT
UID:A0E9B3BE-1D47-428D-8EB5-7807839F7498-12-508_awayreminder@37.badmintonne
 rs.net
DTSTAMP:20260420T043557Z
SUMMARY:Uitmatch bevestigd? (Zoersel 3H (60) - Royal Antwerp 2H (56))
DESCRIPTION:Je hebt 72 uur na aanvang om een uitmatch op Badmintonvlaandere
 n in te vullen. Match info: Zoersel 3H (60) - Royal Antwerp 2H (56) - Link
 : https://www.badmintonvlaanderen.be/sport/teammatch.aspx?id=A0E9B3BE-1D47
 -428D-8EB5-7807839F7498&match=508
DTSTART;TZID=Europe/Brussels:20260421T150000
DTEND;TZID=Europe/Brussels:20260421T150000
END:VEVENT
END:VCALENDAR