BEGIN:VCALENDAR
VERSION:2.0
PRODID:spatie/icalendar-generator
NAME:klein_boom_3h_59_reminders
X-WR-CALNAME:klein_boom_3h_59_reminders
BEGIN:VTIMEZONE
TZID:Europe/Brussels
BEGIN:DAYLIGHT
DTSTART:20250330T010000
TZOFFSETFROM:+0100
TZOFFSETTO:+0200
END:DAYLIGHT
BEGIN:STANDARD
DTSTART:20251026T030000
TZOFFSETFROM:+0200
TZOFFSETTO:+0100
END:STANDARD
BEGIN:DAYLIGHT
DTSTART:20260329T010000
TZOFFSETFROM:+0100
TZOFFSETTO:+0200
END:DAYLIGHT
END:VTIMEZONE
BEGIN:VTIMEZONE
TZID:UTC
BEGIN:STANDARD
DTSTART:20250724T043608
TZOFFSETFROM:+0000
TZOFFSETTO:+0000
END:STANDARD
END:VTIMEZONE
BEGIN:VEVENT
UID:A0E9B3BE-1D47-428D-8EB5-7807839F7498-12-514_homereminder@38.badmintonne
 rs.net
DTSTAMP:20260420T043608Z
SUMMARY:Thuismatch ingevuld? (Klein Boom 3H (59) - Zoersel 3H (60))
DESCRIPTION:Je hebt 36 uur na aanvang om een thuismatch op Badmintonvlaande
 ren in te vullen. Match info: Klein Boom 3H (59) - Zoersel 3H (60) - Link:
  https://www.badmintonvlaanderen.be/sport/teammatch.aspx?id=A0E9B3BE-1D47-
 428D-8EB5-7807839F7498&match=514
DTSTART;TZID=Europe/Brussels:20251029T080000
DTEND;TZID=Europe/Brussels:20251029T080000
END:VEVENT
BEGIN:VEVENT
UID:A0E9B3BE-1D47-428D-8EB5-7807839F7498-12-509_homereminder@38.badmintonne
 rs.net
DTSTAMP:20260420T043608Z
SUMMARY:Thuismatch ingevuld? (Klein Boom 3H (59) - Royal Antwerp 2H (56))
DESCRIPTION:Je hebt 36 uur na aanvang om een thuismatch op Badmintonvlaande
 ren in te vullen. Match info: Klein Boom 3H (59) - Royal Antwerp 2H (56) -
  Link: https://www.badmintonvlaanderen.be/sport/teammatch.aspx?id=A0E9B3BE
 -1D47-428D-8EB5-7807839F7498&match=509
DTSTART;TZID=Europe/Brussels:20251118T070000
DTEND;TZID=Europe/Brussels:20251118T070000
END:VEVENT
BEGIN:VEVENT
UID:A0E9B3BE-1D47-428D-8EB5-7807839F7498-12-504_homereminder@38.badmintonne
 rs.net
DTSTAMP:20260420T043608Z
SUMMARY:Thuismatch ingevuld? (Klein Boom 3H (59) - Herentals 4H (60))
DESCRIPTION:Je hebt 36 uur na aanvang om een thuismatch op Badmintonvlaande
 ren in te vullen. Match info: Klein Boom 3H (59) - Herentals 4H (60) - Lin
 k: https://www.badmintonvlaanderen.be/sport/teammatch.aspx?id=A0E9B3BE-1D4
 7-428D-8EB5-7807839F7498&match=504
DTSTART;TZID=Europe/Brussels:20260210T070000
DTEND;TZID=Europe/Brussels:20260210T070000
END:VEVENT
BEGIN:VEVENT
UID:A0E9B3BE-1D47-428D-8EB5-7807839F7498-12-494_homereminder@38.badmintonne
 rs.net
DTSTAMP:20260420T043608Z
SUMMARY:Thuismatch ingevuld? (Klein Boom 3H (59) - Zandhoven 1H (62))
DESCRIPTION:Je hebt 36 uur na aanvang om een thuismatch op Badmintonvlaande
 ren in te vullen. Match info: Klein Boom 3H (59) - Zandhoven 1H (62) - Lin
 k: https://www.badmintonvlaanderen.be/sport/teammatch.aspx?id=A0E9B3BE-1D4
 7-428D-8EB5-7807839F7498&match=494
DTSTART;TZID=Europe/Brussels:20260310T070000
DTEND;TZID=Europe/Brussels:20260310T070000
END:VEVENT
BEGIN:VEVENT
UID:A0E9B3BE-1D47-428D-8EB5-7807839F7498-12-499_homereminder@38.badmintonne
 rs.net
DTSTAMP:20260420T043608Z
SUMMARY:Thuismatch ingevuld? (Klein Boom 3H (59) - De Pluim 1H (54))
DESCRIPTION:Je hebt 36 uur na aanvang om een thuismatch op Badmintonvlaande
 ren in te vullen. Match info: Klein Boom 3H (59) - De Pluim 1H (54) - Link
 : https://www.badmintonvlaanderen.be/sport/teammatch.aspx?id=A0E9B3BE-1D47
 -428D-8EB5-7807839F7498&match=499
DTSTART;TZID=Europe/Brussels:20260421T070000
DTEND;TZID=Europe/Brussels:20260421T070000
END:VEVENT
BEGIN:VEVENT
UID:A0E9B3BE-1D47-428D-8EB5-7807839F7498-12-516_awayreminder@38.badmintonne
 rs.net
DTSTAMP:20260420T043608Z
SUMMARY:Uitmatch bevestigd? (De Pluim 1H (54) - Klein Boom 3H (59))
DESCRIPTION:Je hebt 72 uur na aanvang om een uitmatch op Badmintonvlaandere
 n in te vullen. Match info: De Pluim 1H (54) - Klein Boom 3H (59) - Link: 
 https://www.badmintonvlaanderen.be/sport/teammatch.aspx?id=A0E9B3BE-1D47-4
 28D-8EB5-7807839F7498&match=516
DTSTART;TZID=Europe/Brussels:20251029T181500
DTEND;TZID=Europe/Brussels:20251029T181500
END:VEVENT
BEGIN:VEVENT
UID:A0E9B3BE-1D47-428D-8EB5-7807839F7498-12-517_awayreminder@38.badmintonne
 rs.net
DTSTAMP:20260420T043608Z
SUMMARY:Uitmatch bevestigd? (Herentals 4H (60) - Klein Boom 3H (59))
DESCRIPTION:Je hebt 72 uur na aanvang om een uitmatch op Badmintonvlaandere
 n in te vullen. Match info: Herentals 4H (60) - Klein Boom 3H (59) - Link:
  https://www.badmintonvlaanderen.be/sport/teammatch.aspx?id=A0E9B3BE-1D47-
 428D-8EB5-7807839F7498&match=517
DTSTART;TZID=Europe/Brussels:20251102T210000
DTEND;TZID=Europe/Brussels:20251102T210000
END:VEVENT
BEGIN:VEVENT
UID:A0E9B3BE-1D47-428D-8EB5-7807839F7498-12-515_awayreminder@38.badmintonne
 rs.net
DTSTAMP:20260420T043608Z
SUMMARY:Uitmatch bevestigd? (Zandhoven 1H (62) - Klein Boom 3H (59))
DESCRIPTION:Je hebt 72 uur na aanvang om een uitmatch op Badmintonvlaandere
 n in te vullen. Match info: Zandhoven 1H (62) - Klein Boom 3H (59) - Link:
  https://www.badmintonvlaanderen.be/sport/teammatch.aspx?id=A0E9B3BE-1D47-
 428D-8EB5-7807839F7498&match=515
DTSTART;TZID=Europe/Brussels:20251127T200000
DTEND;TZID=Europe/Brussels:20251127T200000
END:VEVENT
BEGIN:VEVENT
UID:A0E9B3BE-1D47-428D-8EB5-7807839F7498-12-518_awayreminder@38.badmintonne
 rs.net
DTSTAMP:20260420T043608Z
SUMMARY:Uitmatch bevestigd? (Royal Antwerp 2H (56) - Klein Boom 3H (59))
DESCRIPTION:Je hebt 72 uur na aanvang om een uitmatch op Badmintonvlaandere
 n in te vullen. Match info: Royal Antwerp 2H (56) - Klein Boom 3H (59) - L
 ink: https://www.badmintonvlaanderen.be/sport/teammatch.aspx?id=A0E9B3BE-1
 D47-428D-8EB5-7807839F7498&match=518
DTSTART;TZID=Europe/Brussels:20260114T180000
DTEND;TZID=Europe/Brussels:20260114T180000
END:VEVENT
BEGIN:VEVENT
UID:A0E9B3BE-1D47-428D-8EB5-7807839F7498-12-519_awayreminder@38.badmintonne
 rs.net
DTSTAMP:20260420T043608Z
SUMMARY:Uitmatch bevestigd? (Zoersel 3H (60) - Klein Boom 3H (59))
DESCRIPTION:Je hebt 72 uur na aanvang om een uitmatch op Badmintonvlaandere
 n in te vullen. Match info: Zoersel 3H (60) - Klein Boom 3H (59) - Link: h
 ttps://www.badmintonvlaanderen.be/sport/teammatch.aspx?id=A0E9B3BE-1D47-42
 8D-8EB5-7807839F7498&match=519
DTSTART;TZID=Europe/Brussels:20260128T120000
DTEND;TZID=Europe/Brussels:20260128T120000
END:VEVENT
END:VCALENDAR