BEGIN:VCALENDAR
VERSION:2.0
PRODID:spatie/icalendar-generator
NAME:herentals_4h_60_reminders
X-WR-CALNAME:herentals_4h_60_reminders
BEGIN:VTIMEZONE
TZID:Europe/Brussels
BEGIN:DAYLIGHT
DTSTART:20250330T010000
TZOFFSETFROM:+0100
TZOFFSETTO:+0200
END:DAYLIGHT
BEGIN:STANDARD
DTSTART:20251026T030000
TZOFFSETFROM:+0200
TZOFFSETTO:+0100
END:STANDARD
BEGIN:DAYLIGHT
DTSTART:20260329T010000
TZOFFSETFROM:+0100
TZOFFSETTO:+0200
END:DAYLIGHT
END:VTIMEZONE
BEGIN:VTIMEZONE
TZID:UTC
BEGIN:STANDARD
DTSTART:20250724T042224
TZOFFSETFROM:+0000
TZOFFSETTO:+0000
END:STANDARD
END:VTIMEZONE
BEGIN:VEVENT
UID:A0E9B3BE-1D47-428D-8EB5-7807839F7498-12-491_homereminder@48.badmintonne
 rs.net
DTSTAMP:20260420T042224Z
SUMMARY:Thuismatch ingevuld? (Herentals 4H (60) - Zandhoven 1H (62))
DESCRIPTION:Je hebt 36 uur na aanvang om een thuismatch op Badmintonvlaande
 ren in te vullen. Match info: Herentals 4H (60) - Zandhoven 1H (62) - Link
 : https://www.badmintonvlaanderen.be/sport/teammatch.aspx?id=A0E9B3BE-1D47
 -428D-8EB5-7807839F7498&match=491
DTSTART;TZID=Europe/Brussels:20251004T090000
DTEND;TZID=Europe/Brussels:20251004T090000
END:VEVENT
BEGIN:VEVENT
UID:A0E9B3BE-1D47-428D-8EB5-7807839F7498-12-517_homereminder@48.badmintonne
 rs.net
DTSTAMP:20260420T042224Z
SUMMARY:Thuismatch ingevuld? (Herentals 4H (60) - Klein Boom 3H (59))
DESCRIPTION:Je hebt 36 uur na aanvang om een thuismatch op Badmintonvlaande
 ren in te vullen. Match info: Herentals 4H (60) - Klein Boom 3H (59) - Lin
 k: https://www.badmintonvlaanderen.be/sport/teammatch.aspx?id=A0E9B3BE-1D4
 7-428D-8EB5-7807839F7498&match=517
DTSTART;TZID=Europe/Brussels:20251101T090000
DTEND;TZID=Europe/Brussels:20251101T090000
END:VEVENT
BEGIN:VEVENT
UID:A0E9B3BE-1D47-428D-8EB5-7807839F7498-12-507_homereminder@48.badmintonne
 rs.net
DTSTAMP:20260420T042224Z
SUMMARY:Thuismatch ingevuld? (Herentals 4H (60) - Royal Antwerp 2H (56))
DESCRIPTION:Je hebt 36 uur na aanvang om een thuismatch op Badmintonvlaande
 ren in te vullen. Match info: Herentals 4H (60) - Royal Antwerp 2H (56) - 
 Link: https://www.badmintonvlaanderen.be/sport/teammatch.aspx?id=A0E9B3BE-
 1D47-428D-8EB5-7807839F7498&match=507
DTSTART;TZID=Europe/Brussels:20251213T090000
DTEND;TZID=Europe/Brussels:20251213T090000
END:VEVENT
BEGIN:VEVENT
UID:A0E9B3BE-1D47-428D-8EB5-7807839F7498-12-496_homereminder@48.badmintonne
 rs.net
DTSTAMP:20260420T042224Z
SUMMARY:Thuismatch ingevuld? (Herentals 4H (60) - De Pluim 1H (54))
DESCRIPTION:Je hebt 36 uur na aanvang om een thuismatch op Badmintonvlaande
 ren in te vullen. Match info: Herentals 4H (60) - De Pluim 1H (54) - Link:
  https://www.badmintonvlaanderen.be/sport/teammatch.aspx?id=A0E9B3BE-1D47-
 428D-8EB5-7807839F7498&match=496
DTSTART;TZID=Europe/Brussels:20260124T090000
DTEND;TZID=Europe/Brussels:20260124T090000
END:VEVENT
BEGIN:VEVENT
UID:A0E9B3BE-1D47-428D-8EB5-7807839F7498-12-512_homereminder@48.badmintonne
 rs.net
DTSTAMP:20260420T042224Z
SUMMARY:Thuismatch ingevuld? (Herentals 4H (60) - Zoersel 3H (60))
DESCRIPTION:Je hebt 36 uur na aanvang om een thuismatch op Badmintonvlaande
 ren in te vullen. Match info: Herentals 4H (60) - Zoersel 3H (60) - Link: 
 https://www.badmintonvlaanderen.be/sport/teammatch.aspx?id=A0E9B3BE-1D47-4
 28D-8EB5-7807839F7498&match=512
DTSTART;TZID=Europe/Brussels:20260321T090000
DTEND;TZID=Europe/Brussels:20260321T090000
END:VEVENT
BEGIN:VEVENT
UID:A0E9B3BE-1D47-428D-8EB5-7807839F7498-12-501_awayreminder@48.badmintonne
 rs.net
DTSTAMP:20260420T042224Z
SUMMARY:Uitmatch bevestigd? (De Pluim 1H (54) - Herentals 4H (60))
DESCRIPTION:Je hebt 72 uur na aanvang om een uitmatch op Badmintonvlaandere
 n in te vullen. Match info: De Pluim 1H (54) - Herentals 4H (60) - Link: h
 ttps://www.badmintonvlaanderen.be/sport/teammatch.aspx?id=A0E9B3BE-1D47-42
 8D-8EB5-7807839F7498&match=501
DTSTART;TZID=Europe/Brussels:20251022T181500
DTEND;TZID=Europe/Brussels:20251022T181500
END:VEVENT
BEGIN:VEVENT
UID:A0E9B3BE-1D47-428D-8EB5-7807839F7498-12-503_awayreminder@48.badmintonne
 rs.net
DTSTAMP:20260420T042224Z
SUMMARY:Uitmatch bevestigd? (Zoersel 3H (60) - Herentals 4H (60))
DESCRIPTION:Je hebt 72 uur na aanvang om een uitmatch op Badmintonvlaandere
 n in te vullen. Match info: Zoersel 3H (60) - Herentals 4H (60) - Link: ht
 tps://www.badmintonvlaanderen.be/sport/teammatch.aspx?id=A0E9B3BE-1D47-428
 D-8EB5-7807839F7498&match=503
DTSTART;TZID=Europe/Brussels:20251028T140000
DTEND;TZID=Europe/Brussels:20251028T140000
END:VEVENT
BEGIN:VEVENT
UID:A0E9B3BE-1D47-428D-8EB5-7807839F7498-12-504_awayreminder@48.badmintonne
 rs.net
DTSTAMP:20260420T042224Z
SUMMARY:Uitmatch bevestigd? (Klein Boom 3H (59) - Herentals 4H (60))
DESCRIPTION:Je hebt 72 uur na aanvang om een uitmatch op Badmintonvlaandere
 n in te vullen. Match info: Klein Boom 3H (59) - Herentals 4H (60) - Link:
  https://www.badmintonvlaanderen.be/sport/teammatch.aspx?id=A0E9B3BE-1D47-
 428D-8EB5-7807839F7498&match=504
DTSTART;TZID=Europe/Brussels:20260211T190000
DTEND;TZID=Europe/Brussels:20260211T190000
END:VEVENT
BEGIN:VEVENT
UID:A0E9B3BE-1D47-428D-8EB5-7807839F7498-12-502_awayreminder@48.badmintonne
 rs.net
DTSTAMP:20260420T042224Z
SUMMARY:Uitmatch bevestigd? (Royal Antwerp 2H (56) - Herentals 4H (60))
DESCRIPTION:Je hebt 72 uur na aanvang om een uitmatch op Badmintonvlaandere
 n in te vullen. Match info: Royal Antwerp 2H (56) - Herentals 4H (60) - Li
 nk: https://www.badmintonvlaanderen.be/sport/teammatch.aspx?id=A0E9B3BE-1D
 47-428D-8EB5-7807839F7498&match=502
DTSTART;TZID=Europe/Brussels:20260415T180000
DTEND;TZID=Europe/Brussels:20260415T180000
END:VEVENT
BEGIN:VEVENT
UID:A0E9B3BE-1D47-428D-8EB5-7807839F7498-12-500_awayreminder@48.badmintonne
 rs.net
DTSTAMP:20260420T042224Z
SUMMARY:Uitmatch bevestigd? (Zandhoven 1H (62) - Herentals 4H (60))
DESCRIPTION:Je hebt 72 uur na aanvang om een uitmatch op Badmintonvlaandere
 n in te vullen. Match info: Zandhoven 1H (62) - Herentals 4H (60) - Link: 
 https://www.badmintonvlaanderen.be/sport/teammatch.aspx?id=A0E9B3BE-1D47-4
 28D-8EB5-7807839F7498&match=500
DTSTART;TZID=Europe/Brussels:20260416T200000
DTEND;TZID=Europe/Brussels:20260416T200000
END:VEVENT
END:VCALENDAR