BEGIN:VCALENDAR
VERSION:2.0
PRODID:spatie/icalendar-generator
NAME:de_pluim_1h_54_reminders
X-WR-CALNAME:de_pluim_1h_54_reminders
BEGIN:VTIMEZONE
TZID:Europe/Brussels
BEGIN:DAYLIGHT
DTSTART:20250330T010000
TZOFFSETFROM:+0100
TZOFFSETTO:+0200
END:DAYLIGHT
BEGIN:STANDARD
DTSTART:20251026T030000
TZOFFSETFROM:+0200
TZOFFSETTO:+0100
END:STANDARD
BEGIN:DAYLIGHT
DTSTART:20260329T010000
TZOFFSETFROM:+0100
TZOFFSETTO:+0200
END:DAYLIGHT
END:VTIMEZONE
BEGIN:VTIMEZONE
TZID:UTC
BEGIN:STANDARD
DTSTART:20250724T043630
TZOFFSETFROM:+0000
TZOFFSETTO:+0000
END:STANDARD
END:VTIMEZONE
BEGIN:VEVENT
UID:A0E9B3BE-1D47-428D-8EB5-7807839F7498-12-501_homereminder@51.badmintonne
 rs.net
DTSTAMP:20260420T043630Z
SUMMARY:Thuismatch ingevuld? (De Pluim 1H (54) - Herentals 4H (60))
DESCRIPTION:Je hebt 36 uur na aanvang om een thuismatch op Badmintonvlaande
 ren in te vullen. Match info: De Pluim 1H (54) - Herentals 4H (60) - Link:
  https://www.badmintonvlaanderen.be/sport/teammatch.aspx?id=A0E9B3BE-1D47-
 428D-8EB5-7807839F7498&match=501
DTSTART;TZID=Europe/Brussels:20251021T061500
DTEND;TZID=Europe/Brussels:20251021T061500
END:VEVENT
BEGIN:VEVENT
UID:A0E9B3BE-1D47-428D-8EB5-7807839F7498-12-516_homereminder@51.badmintonne
 rs.net
DTSTAMP:20260420T043630Z
SUMMARY:Thuismatch ingevuld? (De Pluim 1H (54) - Klein Boom 3H (59))
DESCRIPTION:Je hebt 36 uur na aanvang om een thuismatch op Badmintonvlaande
 ren in te vullen. Match info: De Pluim 1H (54) - Klein Boom 3H (59) - Link
 : https://www.badmintonvlaanderen.be/sport/teammatch.aspx?id=A0E9B3BE-1D47
 -428D-8EB5-7807839F7498&match=516
DTSTART;TZID=Europe/Brussels:20251028T061500
DTEND;TZID=Europe/Brussels:20251028T061500
END:VEVENT
BEGIN:VEVENT
UID:A0E9B3BE-1D47-428D-8EB5-7807839F7498-12-511_homereminder@51.badmintonne
 rs.net
DTSTAMP:20260420T043630Z
SUMMARY:Thuismatch ingevuld? (De Pluim 1H (54) - Zoersel 3H (60))
DESCRIPTION:Je hebt 36 uur na aanvang om een thuismatch op Badmintonvlaande
 ren in te vullen. Match info: De Pluim 1H (54) - Zoersel 3H (60) - Link: h
 ttps://www.badmintonvlaanderen.be/sport/teammatch.aspx?id=A0E9B3BE-1D47-42
 8D-8EB5-7807839F7498&match=511
DTSTART;TZID=Europe/Brussels:20251216T061500
DTEND;TZID=Europe/Brussels:20251216T061500
END:VEVENT
BEGIN:VEVENT
UID:A0E9B3BE-1D47-428D-8EB5-7807839F7498-12-506_homereminder@51.badmintonne
 rs.net
DTSTAMP:20260420T043630Z
SUMMARY:Thuismatch ingevuld? (De Pluim 1H (54) - Royal Antwerp 2H (56))
DESCRIPTION:Je hebt 36 uur na aanvang om een thuismatch op Badmintonvlaande
 ren in te vullen. Match info: De Pluim 1H (54) - Royal Antwerp 2H (56) - L
 ink: https://www.badmintonvlaanderen.be/sport/teammatch.aspx?id=A0E9B3BE-1
 D47-428D-8EB5-7807839F7498&match=506
DTSTART;TZID=Europe/Brussels:20260224T061500
DTEND;TZID=Europe/Brussels:20260224T061500
END:VEVENT
BEGIN:VEVENT
UID:A0E9B3BE-1D47-428D-8EB5-7807839F7498-12-490_homereminder@51.badmintonne
 rs.net
DTSTAMP:20260420T043630Z
SUMMARY:Thuismatch ingevuld? (De Pluim 1H (54) - Zandhoven 1H (62))
DESCRIPTION:Je hebt 36 uur na aanvang om een thuismatch op Badmintonvlaande
 ren in te vullen. Match info: De Pluim 1H (54) - Zandhoven 1H (62) - Link:
  https://www.badmintonvlaanderen.be/sport/teammatch.aspx?id=A0E9B3BE-1D47-
 428D-8EB5-7807839F7498&match=490
DTSTART;TZID=Europe/Brussels:20260324T061500
DTEND;TZID=Europe/Brussels:20260324T061500
END:VEVENT
BEGIN:VEVENT
UID:A0E9B3BE-1D47-428D-8EB5-7807839F7498-12-495_awayreminder@51.badmintonne
 rs.net
DTSTAMP:20260420T043630Z
SUMMARY:Uitmatch bevestigd? (Zandhoven 1H (62) - De Pluim 1H (54))
DESCRIPTION:Je hebt 72 uur na aanvang om een uitmatch op Badmintonvlaandere
 n in te vullen. Match info: Zandhoven 1H (62) - De Pluim 1H (54) - Link: h
 ttps://www.badmintonvlaanderen.be/sport/teammatch.aspx?id=A0E9B3BE-1D47-42
 8D-8EB5-7807839F7498&match=495
DTSTART;TZID=Europe/Brussels:20250904T200000
DTEND;TZID=Europe/Brussels:20250904T200000
END:VEVENT
BEGIN:VEVENT
UID:A0E9B3BE-1D47-428D-8EB5-7807839F7498-12-497_awayreminder@51.badmintonne
 rs.net
DTSTAMP:20260420T043630Z
SUMMARY:Uitmatch bevestigd? (Royal Antwerp 2H (56) - De Pluim 1H (54))
DESCRIPTION:Je hebt 72 uur na aanvang om een uitmatch op Badmintonvlaandere
 n in te vullen. Match info: Royal Antwerp 2H (56) - De Pluim 1H (54) - Lin
 k: https://www.badmintonvlaanderen.be/sport/teammatch.aspx?id=A0E9B3BE-1D4
 7-428D-8EB5-7807839F7498&match=497
DTSTART;TZID=Europe/Brussels:20251112T180000
DTEND;TZID=Europe/Brussels:20251112T180000
END:VEVENT
BEGIN:VEVENT
UID:A0E9B3BE-1D47-428D-8EB5-7807839F7498-12-496_awayreminder@51.badmintonne
 rs.net
DTSTAMP:20260420T043630Z
SUMMARY:Uitmatch bevestigd? (Herentals 4H (60) - De Pluim 1H (54))
DESCRIPTION:Je hebt 72 uur na aanvang om een uitmatch op Badmintonvlaandere
 n in te vullen. Match info: Herentals 4H (60) - De Pluim 1H (54) - Link: h
 ttps://www.badmintonvlaanderen.be/sport/teammatch.aspx?id=A0E9B3BE-1D47-42
 8D-8EB5-7807839F7498&match=496
DTSTART;TZID=Europe/Brussels:20260125T210000
DTEND;TZID=Europe/Brussels:20260125T210000
END:VEVENT
BEGIN:VEVENT
UID:A0E9B3BE-1D47-428D-8EB5-7807839F7498-12-498_awayreminder@51.badmintonne
 rs.net
DTSTAMP:20260420T043630Z
SUMMARY:Uitmatch bevestigd? (Zoersel 3H (60) - De Pluim 1H (54))
DESCRIPTION:Je hebt 72 uur na aanvang om een uitmatch op Badmintonvlaandere
 n in te vullen. Match info: Zoersel 3H (60) - De Pluim 1H (54) - Link: htt
 ps://www.badmintonvlaanderen.be/sport/teammatch.aspx?id=A0E9B3BE-1D47-428D
 -8EB5-7807839F7498&match=498
DTSTART;TZID=Europe/Brussels:20260311T120000
DTEND;TZID=Europe/Brussels:20260311T120000
END:VEVENT
BEGIN:VEVENT
UID:A0E9B3BE-1D47-428D-8EB5-7807839F7498-12-499_awayreminder@51.badmintonne
 rs.net
DTSTAMP:20260420T043630Z
SUMMARY:Uitmatch bevestigd? (Klein Boom 3H (59) - De Pluim 1H (54))
DESCRIPTION:Je hebt 72 uur na aanvang om een uitmatch op Badmintonvlaandere
 n in te vullen. Match info: Klein Boom 3H (59) - De Pluim 1H (54) - Link: 
 https://www.badmintonvlaanderen.be/sport/teammatch.aspx?id=A0E9B3BE-1D47-4
 28D-8EB5-7807839F7498&match=499
DTSTART;TZID=Europe/Brussels:20260422T190000
DTEND;TZID=Europe/Brussels:20260422T190000
END:VEVENT
END:VCALENDAR