BEGIN:VCALENDAR
VERSION:2.0
PRODID:spatie/icalendar-generator
NAME:spinshuttle_3h_63_reminders
X-WR-CALNAME:spinshuttle_3h_63_reminders
BEGIN:VTIMEZONE
TZID:Europe/Brussels
BEGIN:DAYLIGHT
DTSTART:20250330T010000
TZOFFSETFROM:+0100
TZOFFSETTO:+0200
END:DAYLIGHT
BEGIN:STANDARD
DTSTART:20251026T030000
TZOFFSETFROM:+0200
TZOFFSETTO:+0100
END:STANDARD
BEGIN:DAYLIGHT
DTSTART:20260329T010000
TZOFFSETFROM:+0100
TZOFFSETTO:+0200
END:DAYLIGHT
END:VTIMEZONE
BEGIN:VTIMEZONE
TZID:UTC
BEGIN:STANDARD
DTSTART:20250724T043608
TZOFFSETFROM:+0000
TZOFFSETTO:+0000
END:STANDARD
END:VTIMEZONE
BEGIN:VEVENT
UID:A0E9B3BE-1D47-428D-8EB5-7807839F7498-14-577_homereminder@58.badmintonne
 rs.net
DTSTAMP:20260420T043608Z
SUMMARY:Thuismatch ingevuld? (Spinshuttle 3H (63) - Rivierenland 4H (68))
DESCRIPTION:Je hebt 36 uur na aanvang om een thuismatch op Badmintonvlaande
 ren in te vullen. Match info: Spinshuttle 3H (63) - Rivierenland 4H (68) -
  Link: https://www.badmintonvlaanderen.be/sport/teammatch.aspx?id=A0E9B3BE
 -1D47-428D-8EB5-7807839F7498&match=577
DTSTART;TZID=Europe/Brussels:20251009T080000
DTEND;TZID=Europe/Brussels:20251009T080000
END:VEVENT
BEGIN:VEVENT
UID:A0E9B3BE-1D47-428D-8EB5-7807839F7498-14-587_homereminder@58.badmintonne
 rs.net
DTSTAMP:20260420T043608Z
SUMMARY:Thuismatch ingevuld? (Spinshuttle 3H (63) - Olve 5H (68))
DESCRIPTION:Je hebt 36 uur na aanvang om een thuismatch op Badmintonvlaande
 ren in te vullen. Match info: Spinshuttle 3H (63) - Olve 5H (68) - Link: h
 ttps://www.badmintonvlaanderen.be/sport/teammatch.aspx?id=A0E9B3BE-1D47-42
 8D-8EB5-7807839F7498&match=587
DTSTART;TZID=Europe/Brussels:20251016T080000
DTEND;TZID=Europe/Brussels:20251016T080000
END:VEVENT
BEGIN:VEVENT
UID:A0E9B3BE-1D47-428D-8EB5-7807839F7498-14-567_homereminder@58.badmintonne
 rs.net
DTSTAMP:20260420T043608Z
SUMMARY:Thuismatch ingevuld? (Spinshuttle 3H (63) - De Nekker 3H (69))
DESCRIPTION:Je hebt 36 uur na aanvang om een thuismatch op Badmintonvlaande
 ren in te vullen. Match info: Spinshuttle 3H (63) - De Nekker 3H (69) - Li
 nk: https://www.badmintonvlaanderen.be/sport/teammatch.aspx?id=A0E9B3BE-1D
 47-428D-8EB5-7807839F7498&match=567
DTSTART;TZID=Europe/Brussels:20251218T080000
DTEND;TZID=Europe/Brussels:20251218T080000
END:VEVENT
BEGIN:VEVENT
UID:A0E9B3BE-1D47-428D-8EB5-7807839F7498-14-572_homereminder@58.badmintonne
 rs.net
DTSTAMP:20260420T043608Z
SUMMARY:Thuismatch ingevuld? (Spinshuttle 3H (63) - Geelse 2H (69))
DESCRIPTION:Je hebt 36 uur na aanvang om een thuismatch op Badmintonvlaande
 ren in te vullen. Match info: Spinshuttle 3H (63) - Geelse 2H (69) - Link:
  https://www.badmintonvlaanderen.be/sport/teammatch.aspx?id=A0E9B3BE-1D47-
 428D-8EB5-7807839F7498&match=572
DTSTART;TZID=Europe/Brussels:20260305T080000
DTEND;TZID=Europe/Brussels:20260305T080000
END:VEVENT
BEGIN:VEVENT
UID:A0E9B3BE-1D47-428D-8EB5-7807839F7498-14-582_homereminder@58.badmintonne
 rs.net
DTSTAMP:20260420T043608Z
SUMMARY:Thuismatch ingevuld? (Spinshuttle 3H (63) - Klein Boom 4H (68))
DESCRIPTION:Je hebt 36 uur na aanvang om een thuismatch op Badmintonvlaande
 ren in te vullen. Match info: Spinshuttle 3H (63) - Klein Boom 4H (68) - L
 ink: https://www.badmintonvlaanderen.be/sport/teammatch.aspx?id=A0E9B3BE-1
 D47-428D-8EB5-7807839F7498&match=582
DTSTART;TZID=Europe/Brussels:20260416T080000
DTEND;TZID=Europe/Brussels:20260416T080000
END:VEVENT
BEGIN:VEVENT
UID:A0E9B3BE-1D47-428D-8EB5-7807839F7498-14-565_awayreminder@58.badmintonne
 rs.net
DTSTAMP:20260420T043608Z
SUMMARY:Uitmatch bevestigd? (Klein Boom 4H (68) - Spinshuttle 3H (63))
DESCRIPTION:Je hebt 72 uur na aanvang om een uitmatch op Badmintonvlaandere
 n in te vullen. Match info: Klein Boom 4H (68) - Spinshuttle 3H (63) - Lin
 k: https://www.badmintonvlaanderen.be/sport/teammatch.aspx?id=A0E9B3BE-1D4
 7-428D-8EB5-7807839F7498&match=565
DTSTART;TZID=Europe/Brussels:20251008T190000
DTEND;TZID=Europe/Brussels:20251008T190000
END:VEVENT
BEGIN:VEVENT
UID:A0E9B3BE-1D47-428D-8EB5-7807839F7498-14-563_awayreminder@58.badmintonne
 rs.net
DTSTAMP:20260420T043608Z
SUMMARY:Uitmatch bevestigd? (Geelse 2H (69) - Spinshuttle 3H (63))
DESCRIPTION:Je hebt 72 uur na aanvang om een uitmatch op Badmintonvlaandere
 n in te vullen. Match info: Geelse 2H (69) - Spinshuttle 3H (63) - Link: h
 ttps://www.badmintonvlaanderen.be/sport/teammatch.aspx?id=A0E9B3BE-1D47-42
 8D-8EB5-7807839F7498&match=563
DTSTART;TZID=Europe/Brussels:20251116T200000
DTEND;TZID=Europe/Brussels:20251116T200000
END:VEVENT
BEGIN:VEVENT
UID:A0E9B3BE-1D47-428D-8EB5-7807839F7498-14-566_awayreminder@58.badmintonne
 rs.net
DTSTAMP:20260420T043608Z
SUMMARY:Uitmatch bevestigd? (Olve 5H (68) - Spinshuttle 3H (63))
DESCRIPTION:Je hebt 72 uur na aanvang om een uitmatch op Badmintonvlaandere
 n in te vullen. Match info: Olve 5H (68) - Spinshuttle 3H (63) - Link: htt
 ps://www.badmintonvlaanderen.be/sport/teammatch.aspx?id=A0E9B3BE-1D47-428D
 -8EB5-7807839F7498&match=566
DTSTART;TZID=Europe/Brussels:20260127T103000
DTEND;TZID=Europe/Brussels:20260127T103000
END:VEVENT
BEGIN:VEVENT
UID:A0E9B3BE-1D47-428D-8EB5-7807839F7498-14-562_awayreminder@58.badmintonne
 rs.net
DTSTAMP:20260420T043608Z
SUMMARY:Uitmatch bevestigd? (De Nekker 3H (69) - Spinshuttle 3H (63))
DESCRIPTION:Je hebt 72 uur na aanvang om een uitmatch op Badmintonvlaandere
 n in te vullen. Match info: De Nekker 3H (69) - Spinshuttle 3H (63) - Link
 : https://www.badmintonvlaanderen.be/sport/teammatch.aspx?id=A0E9B3BE-1D47
 -428D-8EB5-7807839F7498&match=562
DTSTART;TZID=Europe/Brussels:20260206T203000
DTEND;TZID=Europe/Brussels:20260206T203000
END:VEVENT
BEGIN:VEVENT
UID:A0E9B3BE-1D47-428D-8EB5-7807839F7498-14-564_awayreminder@58.badmintonne
 rs.net
DTSTAMP:20260420T043608Z
SUMMARY:Uitmatch bevestigd? (Rivierenland 4H (68) - Spinshuttle 3H (63))
DESCRIPTION:Je hebt 72 uur na aanvang om een uitmatch op Badmintonvlaandere
 n in te vullen. Match info: Rivierenland 4H (68) - Spinshuttle 3H (63) - L
 ink: https://www.badmintonvlaanderen.be/sport/teammatch.aspx?id=A0E9B3BE-1
 D47-428D-8EB5-7807839F7498&match=564
DTSTART;TZID=Europe/Brussels:20260325T140000
DTEND;TZID=Europe/Brussels:20260325T140000
END:VEVENT
END:VCALENDAR