BEGIN:VCALENDAR
VERSION:2.0
PRODID:spatie/icalendar-generator
NAME:olve_5h_68_reminders
X-WR-CALNAME:olve_5h_68_reminders
BEGIN:VTIMEZONE
TZID:Europe/Brussels
BEGIN:DAYLIGHT
DTSTART:20250330T010000
TZOFFSETFROM:+0100
TZOFFSETTO:+0200
END:DAYLIGHT
BEGIN:STANDARD
DTSTART:20251026T030000
TZOFFSETFROM:+0200
TZOFFSETTO:+0100
END:STANDARD
BEGIN:DAYLIGHT
DTSTART:20260329T010000
TZOFFSETFROM:+0100
TZOFFSETTO:+0200
END:DAYLIGHT
END:VTIMEZONE
BEGIN:VTIMEZONE
TZID:UTC
BEGIN:STANDARD
DTSTART:20250724T043608
TZOFFSETFROM:+0000
TZOFFSETTO:+0000
END:STANDARD
END:VTIMEZONE
BEGIN:VEVENT
UID:A0E9B3BE-1D47-428D-8EB5-7807839F7498-14-581_homereminder@61.badmintonne
 rs.net
DTSTAMP:20260420T043608Z
SUMMARY:Thuismatch ingevuld? (Olve 5H (68) - Rivierenland 4H (68))
DESCRIPTION:Je hebt 36 uur na aanvang om een thuismatch op Badmintonvlaande
 ren in te vullen. Match info: Olve 5H (68) - Rivierenland 4H (68) - Link: 
 https://www.badmintonvlaanderen.be/sport/teammatch.aspx?id=A0E9B3BE-1D47-4
 28D-8EB5-7807839F7498&match=581
DTSTART;TZID=Europe/Brussels:20251109T223000
DTEND;TZID=Europe/Brussels:20251109T223000
END:VEVENT
BEGIN:VEVENT
UID:A0E9B3BE-1D47-428D-8EB5-7807839F7498-14-586_homereminder@61.badmintonne
 rs.net
DTSTAMP:20260420T043608Z
SUMMARY:Thuismatch ingevuld? (Olve 5H (68) - Klein Boom 4H (68))
DESCRIPTION:Je hebt 36 uur na aanvang om een thuismatch op Badmintonvlaande
 ren in te vullen. Match info: Olve 5H (68) - Klein Boom 4H (68) - Link: ht
 tps://www.badmintonvlaanderen.be/sport/teammatch.aspx?id=A0E9B3BE-1D47-428
 D-8EB5-7807839F7498&match=586
DTSTART;TZID=Europe/Brussels:20251130T223000
DTEND;TZID=Europe/Brussels:20251130T223000
END:VEVENT
BEGIN:VEVENT
UID:A0E9B3BE-1D47-428D-8EB5-7807839F7498-14-566_homereminder@61.badmintonne
 rs.net
DTSTAMP:20260420T043608Z
SUMMARY:Thuismatch ingevuld? (Olve 5H (68) - Spinshuttle 3H (63))
DESCRIPTION:Je hebt 36 uur na aanvang om een thuismatch op Badmintonvlaande
 ren in te vullen. Match info: Olve 5H (68) - Spinshuttle 3H (63) - Link: h
 ttps://www.badmintonvlaanderen.be/sport/teammatch.aspx?id=A0E9B3BE-1D47-42
 8D-8EB5-7807839F7498&match=566
DTSTART;TZID=Europe/Brussels:20260125T223000
DTEND;TZID=Europe/Brussels:20260125T223000
END:VEVENT
BEGIN:VEVENT
UID:A0E9B3BE-1D47-428D-8EB5-7807839F7498-14-571_homereminder@61.badmintonne
 rs.net
DTSTAMP:20260420T043608Z
SUMMARY:Thuismatch ingevuld? (Olve 5H (68) - De Nekker 3H (69))
DESCRIPTION:Je hebt 36 uur na aanvang om een thuismatch op Badmintonvlaande
 ren in te vullen. Match info: Olve 5H (68) - De Nekker 3H (69) - Link: htt
 ps://www.badmintonvlaanderen.be/sport/teammatch.aspx?id=A0E9B3BE-1D47-428D
 -8EB5-7807839F7498&match=571
DTSTART;TZID=Europe/Brussels:20260308T223000
DTEND;TZID=Europe/Brussels:20260308T223000
END:VEVENT
BEGIN:VEVENT
UID:A0E9B3BE-1D47-428D-8EB5-7807839F7498-14-576_homereminder@61.badmintonne
 rs.net
DTSTAMP:20260420T043608Z
SUMMARY:Thuismatch ingevuld? (Olve 5H (68) - Geelse 2H (69))
DESCRIPTION:Je hebt 36 uur na aanvang om een thuismatch op Badmintonvlaande
 ren in te vullen. Match info: Olve 5H (68) - Geelse 2H (69) - Link: https:
 //www.badmintonvlaanderen.be/sport/teammatch.aspx?id=A0E9B3BE-1D47-428D-8E
 B5-7807839F7498&match=576
DTSTART;TZID=Europe/Brussels:20260419T223000
DTEND;TZID=Europe/Brussels:20260419T223000
END:VEVENT
BEGIN:VEVENT
UID:A0E9B3BE-1D47-428D-8EB5-7807839F7498-14-587_awayreminder@61.badmintonne
 rs.net
DTSTAMP:20260420T043608Z
SUMMARY:Uitmatch bevestigd? (Spinshuttle 3H (63) - Olve 5H (68))
DESCRIPTION:Je hebt 72 uur na aanvang om een uitmatch op Badmintonvlaandere
 n in te vullen. Match info: Spinshuttle 3H (63) - Olve 5H (68) - Link: htt
 ps://www.badmintonvlaanderen.be/sport/teammatch.aspx?id=A0E9B3BE-1D47-428D
 -8EB5-7807839F7498&match=587
DTSTART;TZID=Europe/Brussels:20251017T200000
DTEND;TZID=Europe/Brussels:20251017T200000
END:VEVENT
BEGIN:VEVENT
UID:A0E9B3BE-1D47-428D-8EB5-7807839F7498-14-588_awayreminder@61.badmintonne
 rs.net
DTSTAMP:20260420T043608Z
SUMMARY:Uitmatch bevestigd? (De Nekker 3H (69) - Olve 5H (68))
DESCRIPTION:Je hebt 72 uur na aanvang om een uitmatch op Badmintonvlaandere
 n in te vullen. Match info: De Nekker 3H (69) - Olve 5H (68) - Link: https
 ://www.badmintonvlaanderen.be/sport/teammatch.aspx?id=A0E9B3BE-1D47-428D-8
 EB5-7807839F7498&match=588
DTSTART;TZID=Europe/Brussels:20251031T203000
DTEND;TZID=Europe/Brussels:20251031T203000
END:VEVENT
BEGIN:VEVENT
UID:A0E9B3BE-1D47-428D-8EB5-7807839F7498-14-589_awayreminder@61.badmintonne
 rs.net
DTSTAMP:20260420T043608Z
SUMMARY:Uitmatch bevestigd? (Geelse 2H (69) - Olve 5H (68))
DESCRIPTION:Je hebt 72 uur na aanvang om een uitmatch op Badmintonvlaandere
 n in te vullen. Match info: Geelse 2H (69) - Olve 5H (68) - Link: https://
 www.badmintonvlaanderen.be/sport/teammatch.aspx?id=A0E9B3BE-1D47-428D-8EB5
 -7807839F7498&match=589
DTSTART;TZID=Europe/Brussels:20251214T200000
DTEND;TZID=Europe/Brussels:20251214T200000
END:VEVENT
BEGIN:VEVENT
UID:A0E9B3BE-1D47-428D-8EB5-7807839F7498-14-590_awayreminder@61.badmintonne
 rs.net
DTSTAMP:20260420T043608Z
SUMMARY:Uitmatch bevestigd? (Rivierenland 4H (68) - Olve 5H (68))
DESCRIPTION:Je hebt 72 uur na aanvang om een uitmatch op Badmintonvlaandere
 n in te vullen. Match info: Rivierenland 4H (68) - Olve 5H (68) - Link: ht
 tps://www.badmintonvlaanderen.be/sport/teammatch.aspx?id=A0E9B3BE-1D47-428
 D-8EB5-7807839F7498&match=590
DTSTART;TZID=Europe/Brussels:20260211T163000
DTEND;TZID=Europe/Brussels:20260211T163000
END:VEVENT
BEGIN:VEVENT
UID:A0E9B3BE-1D47-428D-8EB5-7807839F7498-14-591_awayreminder@61.badmintonne
 rs.net
DTSTAMP:20260420T043608Z
SUMMARY:Uitmatch bevestigd? (Klein Boom 4H (68) - Olve 5H (68))
DESCRIPTION:Je hebt 72 uur na aanvang om een uitmatch op Badmintonvlaandere
 n in te vullen. Match info: Klein Boom 4H (68) - Olve 5H (68) - Link: http
 s://www.badmintonvlaanderen.be/sport/teammatch.aspx?id=A0E9B3BE-1D47-428D-
 8EB5-7807839F7498&match=591
DTSTART;TZID=Europe/Brussels:20260325T190000
DTEND;TZID=Europe/Brussels:20260325T190000
END:VEVENT
END:VCALENDAR