BEGIN:VCALENDAR
VERSION:2.0
PRODID:spatie/icalendar-generator
NAME:geelse_2h_69_reminders
X-WR-CALNAME:geelse_2h_69_reminders
BEGIN:VTIMEZONE
TZID:Europe/Brussels
BEGIN:DAYLIGHT
DTSTART:20250330T010000
TZOFFSETFROM:+0100
TZOFFSETTO:+0200
END:DAYLIGHT
BEGIN:STANDARD
DTSTART:20251026T030000
TZOFFSETFROM:+0200
TZOFFSETTO:+0100
END:STANDARD
BEGIN:DAYLIGHT
DTSTART:20260329T010000
TZOFFSETFROM:+0100
TZOFFSETTO:+0200
END:DAYLIGHT
END:VTIMEZONE
BEGIN:VTIMEZONE
TZID:UTC
BEGIN:STANDARD
DTSTART:20250724T043557
TZOFFSETFROM:+0000
TZOFFSETTO:+0000
END:STANDARD
END:VTIMEZONE
BEGIN:VEVENT
UID:A0E9B3BE-1D47-428D-8EB5-7807839F7498-14-579_homereminder@64.badmintonne
 rs.net
DTSTAMP:20260420T043557Z
SUMMARY:Thuismatch ingevuld? (Geelse 2H (69) - Rivierenland 4H (68))
DESCRIPTION:Je hebt 36 uur na aanvang om een thuismatch op Badmintonvlaande
 ren in te vullen. Match info: Geelse 2H (69) - Rivierenland 4H (68) - Link
 : https://www.badmintonvlaanderen.be/sport/teammatch.aspx?id=A0E9B3BE-1D47
 -428D-8EB5-7807839F7498&match=579
DTSTART;TZID=Europe/Brussels:20250927T080000
DTEND;TZID=Europe/Brussels:20250927T080000
END:VEVENT
BEGIN:VEVENT
UID:A0E9B3BE-1D47-428D-8EB5-7807839F7498-14-563_homereminder@64.badmintonne
 rs.net
DTSTAMP:20260420T043557Z
SUMMARY:Thuismatch ingevuld? (Geelse 2H (69) - Spinshuttle 3H (63))
DESCRIPTION:Je hebt 36 uur na aanvang om een thuismatch op Badmintonvlaande
 ren in te vullen. Match info: Geelse 2H (69) - Spinshuttle 3H (63) - Link:
  https://www.badmintonvlaanderen.be/sport/teammatch.aspx?id=A0E9B3BE-1D47-
 428D-8EB5-7807839F7498&match=563
DTSTART;TZID=Europe/Brussels:20251115T080000
DTEND;TZID=Europe/Brussels:20251115T080000
END:VEVENT
BEGIN:VEVENT
UID:A0E9B3BE-1D47-428D-8EB5-7807839F7498-14-589_homereminder@64.badmintonne
 rs.net
DTSTAMP:20260420T043557Z
SUMMARY:Thuismatch ingevuld? (Geelse 2H (69) - Olve 5H (68))
DESCRIPTION:Je hebt 36 uur na aanvang om een thuismatch op Badmintonvlaande
 ren in te vullen. Match info: Geelse 2H (69) - Olve 5H (68) - Link: https:
 //www.badmintonvlaanderen.be/sport/teammatch.aspx?id=A0E9B3BE-1D47-428D-8E
 B5-7807839F7498&match=589
DTSTART;TZID=Europe/Brussels:20251213T080000
DTEND;TZID=Europe/Brussels:20251213T080000
END:VEVENT
BEGIN:VEVENT
UID:A0E9B3BE-1D47-428D-8EB5-7807839F7498-14-584_homereminder@64.badmintonne
 rs.net
DTSTAMP:20260420T043557Z
SUMMARY:Thuismatch ingevuld? (Geelse 2H (69) - Klein Boom 4H (68))
DESCRIPTION:Je hebt 36 uur na aanvang om een thuismatch op Badmintonvlaande
 ren in te vullen. Match info: Geelse 2H (69) - Klein Boom 4H (68) - Link: 
 https://www.badmintonvlaanderen.be/sport/teammatch.aspx?id=A0E9B3BE-1D47-4
 28D-8EB5-7807839F7498&match=584
DTSTART;TZID=Europe/Brussels:20260207T080000
DTEND;TZID=Europe/Brussels:20260207T080000
END:VEVENT
BEGIN:VEVENT
UID:A0E9B3BE-1D47-428D-8EB5-7807839F7498-14-568_homereminder@64.badmintonne
 rs.net
DTSTAMP:20260420T043557Z
SUMMARY:Thuismatch ingevuld? (Geelse 2H (69) - De Nekker 3H (69))
DESCRIPTION:Je hebt 36 uur na aanvang om een thuismatch op Badmintonvlaande
 ren in te vullen. Match info: Geelse 2H (69) - De Nekker 3H (69) - Link: h
 ttps://www.badmintonvlaanderen.be/sport/teammatch.aspx?id=A0E9B3BE-1D47-42
 8D-8EB5-7807839F7498&match=568
DTSTART;TZID=Europe/Brussels:20260404T080000
DTEND;TZID=Europe/Brussels:20260404T080000
END:VEVENT
BEGIN:VEVENT
UID:A0E9B3BE-1D47-428D-8EB5-7807839F7498-14-575_awayreminder@64.badmintonne
 rs.net
DTSTAMP:20260420T043557Z
SUMMARY:Uitmatch bevestigd? (Klein Boom 4H (68) - Geelse 2H (69))
DESCRIPTION:Je hebt 72 uur na aanvang om een uitmatch op Badmintonvlaandere
 n in te vullen. Match info: Klein Boom 4H (68) - Geelse 2H (69) - Link: ht
 tps://www.badmintonvlaanderen.be/sport/teammatch.aspx?id=A0E9B3BE-1D47-428
 D-8EB5-7807839F7498&match=575
DTSTART;TZID=Europe/Brussels:20251029T190000
DTEND;TZID=Europe/Brussels:20251029T190000
END:VEVENT
BEGIN:VEVENT
UID:A0E9B3BE-1D47-428D-8EB5-7807839F7498-14-573_awayreminder@64.badmintonne
 rs.net
DTSTAMP:20260420T043557Z
SUMMARY:Uitmatch bevestigd? (De Nekker 3H (69) - Geelse 2H (69))
DESCRIPTION:Je hebt 72 uur na aanvang om een uitmatch op Badmintonvlaandere
 n in te vullen. Match info: De Nekker 3H (69) - Geelse 2H (69) - Link: htt
 ps://www.badmintonvlaanderen.be/sport/teammatch.aspx?id=A0E9B3BE-1D47-428D
 -8EB5-7807839F7498&match=573
DTSTART;TZID=Europe/Brussels:20251128T203000
DTEND;TZID=Europe/Brussels:20251128T203000
END:VEVENT
BEGIN:VEVENT
UID:A0E9B3BE-1D47-428D-8EB5-7807839F7498-14-574_awayreminder@64.badmintonne
 rs.net
DTSTAMP:20260420T043557Z
SUMMARY:Uitmatch bevestigd? (Rivierenland 4H (68) - Geelse 2H (69))
DESCRIPTION:Je hebt 72 uur na aanvang om een uitmatch op Badmintonvlaandere
 n in te vullen. Match info: Rivierenland 4H (68) - Geelse 2H (69) - Link: 
 https://www.badmintonvlaanderen.be/sport/teammatch.aspx?id=A0E9B3BE-1D47-4
 28D-8EB5-7807839F7498&match=574
DTSTART;TZID=Europe/Brussels:20260128T140000
DTEND;TZID=Europe/Brussels:20260128T140000
END:VEVENT
BEGIN:VEVENT
UID:A0E9B3BE-1D47-428D-8EB5-7807839F7498-14-572_awayreminder@64.badmintonne
 rs.net
DTSTAMP:20260420T043557Z
SUMMARY:Uitmatch bevestigd? (Spinshuttle 3H (63) - Geelse 2H (69))
DESCRIPTION:Je hebt 72 uur na aanvang om een uitmatch op Badmintonvlaandere
 n in te vullen. Match info: Spinshuttle 3H (63) - Geelse 2H (69) - Link: h
 ttps://www.badmintonvlaanderen.be/sport/teammatch.aspx?id=A0E9B3BE-1D47-42
 8D-8EB5-7807839F7498&match=572
DTSTART;TZID=Europe/Brussels:20260306T200000
DTEND;TZID=Europe/Brussels:20260306T200000
END:VEVENT
BEGIN:VEVENT
UID:A0E9B3BE-1D47-428D-8EB5-7807839F7498-14-576_awayreminder@64.badmintonne
 rs.net
DTSTAMP:20260420T043557Z
SUMMARY:Uitmatch bevestigd? (Olve 5H (68) - Geelse 2H (69))
DESCRIPTION:Je hebt 72 uur na aanvang om een uitmatch op Badmintonvlaandere
 n in te vullen. Match info: Olve 5H (68) - Geelse 2H (69) - Link: https://
 www.badmintonvlaanderen.be/sport/teammatch.aspx?id=A0E9B3BE-1D47-428D-8EB5
 -7807839F7498&match=576
DTSTART;TZID=Europe/Brussels:20260421T103000
DTEND;TZID=Europe/Brussels:20260421T103000
END:VEVENT
END:VCALENDAR