BEGIN:VCALENDAR
VERSION:2.0
PRODID:spatie/icalendar-generator
NAME:de_nekker_3h_69_reminders
X-WR-CALNAME:de_nekker_3h_69_reminders
BEGIN:VTIMEZONE
TZID:Europe/Brussels
BEGIN:DAYLIGHT
DTSTART:20250330T010000
TZOFFSETFROM:+0100
TZOFFSETTO:+0200
END:DAYLIGHT
BEGIN:STANDARD
DTSTART:20251026T030000
TZOFFSETFROM:+0200
TZOFFSETTO:+0100
END:STANDARD
BEGIN:DAYLIGHT
DTSTART:20260329T010000
TZOFFSETFROM:+0100
TZOFFSETTO:+0200
END:DAYLIGHT
END:VTIMEZONE
BEGIN:VTIMEZONE
TZID:UTC
BEGIN:STANDARD
DTSTART:20250724T055119
TZOFFSETFROM:+0000
TZOFFSETTO:+0000
END:STANDARD
END:VTIMEZONE
BEGIN:VEVENT
UID:A0E9B3BE-1D47-428D-8EB5-7807839F7498-14-583_homereminder@74.badmintonne
 rs.net
DTSTAMP:20260420T055119Z
SUMMARY:Thuismatch ingevuld? (De Nekker 3H (69) - Klein Boom 4H (68))
DESCRIPTION:Je hebt 36 uur na aanvang om een thuismatch op Badmintonvlaande
 ren in te vullen. Match info: De Nekker 3H (69) - Klein Boom 4H (68) - Lin
 k: https://www.badmintonvlaanderen.be/sport/teammatch.aspx?id=A0E9B3BE-1D4
 7-428D-8EB5-7807839F7498&match=583
DTSTART;TZID=Europe/Brussels:20251002T083000
DTEND;TZID=Europe/Brussels:20251002T083000
END:VEVENT
BEGIN:VEVENT
UID:A0E9B3BE-1D47-428D-8EB5-7807839F7498-14-588_homereminder@74.badmintonne
 rs.net
DTSTAMP:20260420T055119Z
SUMMARY:Thuismatch ingevuld? (De Nekker 3H (69) - Olve 5H (68))
DESCRIPTION:Je hebt 36 uur na aanvang om een thuismatch op Badmintonvlaande
 ren in te vullen. Match info: De Nekker 3H (69) - Olve 5H (68) - Link: htt
 ps://www.badmintonvlaanderen.be/sport/teammatch.aspx?id=A0E9B3BE-1D47-428D
 -8EB5-7807839F7498&match=588
DTSTART;TZID=Europe/Brussels:20251030T083000
DTEND;TZID=Europe/Brussels:20251030T083000
END:VEVENT
BEGIN:VEVENT
UID:A0E9B3BE-1D47-428D-8EB5-7807839F7498-14-573_homereminder@74.badmintonne
 rs.net
DTSTAMP:20260420T055119Z
SUMMARY:Thuismatch ingevuld? (De Nekker 3H (69) - Geelse 2H (69))
DESCRIPTION:Je hebt 36 uur na aanvang om een thuismatch op Badmintonvlaande
 ren in te vullen. Match info: De Nekker 3H (69) - Geelse 2H (69) - Link: h
 ttps://www.badmintonvlaanderen.be/sport/teammatch.aspx?id=A0E9B3BE-1D47-42
 8D-8EB5-7807839F7498&match=573
DTSTART;TZID=Europe/Brussels:20251127T083000
DTEND;TZID=Europe/Brussels:20251127T083000
END:VEVENT
BEGIN:VEVENT
UID:A0E9B3BE-1D47-428D-8EB5-7807839F7498-14-562_homereminder@74.badmintonne
 rs.net
DTSTAMP:20260420T055119Z
SUMMARY:Thuismatch ingevuld? (De Nekker 3H (69) - Spinshuttle 3H (63))
DESCRIPTION:Je hebt 36 uur na aanvang om een thuismatch op Badmintonvlaande
 ren in te vullen. Match info: De Nekker 3H (69) - Spinshuttle 3H (63) - Li
 nk: https://www.badmintonvlaanderen.be/sport/teammatch.aspx?id=A0E9B3BE-1D
 47-428D-8EB5-7807839F7498&match=562
DTSTART;TZID=Europe/Brussels:20260205T083000
DTEND;TZID=Europe/Brussels:20260205T083000
END:VEVENT
BEGIN:VEVENT
UID:A0E9B3BE-1D47-428D-8EB5-7807839F7498-14-578_homereminder@74.badmintonne
 rs.net
DTSTAMP:20260420T055119Z
SUMMARY:Thuismatch ingevuld? (De Nekker 3H (69) - Rivierenland 4H (68))
DESCRIPTION:Je hebt 36 uur na aanvang om een thuismatch op Badmintonvlaande
 ren in te vullen. Match info: De Nekker 3H (69) - Rivierenland 4H (68) - L
 ink: https://www.badmintonvlaanderen.be/sport/teammatch.aspx?id=A0E9B3BE-1
 D47-428D-8EB5-7807839F7498&match=578
DTSTART;TZID=Europe/Brussels:20260326T083000
DTEND;TZID=Europe/Brussels:20260326T083000
END:VEVENT
BEGIN:VEVENT
UID:A0E9B3BE-1D47-428D-8EB5-7807839F7498-14-569_awayreminder@74.badmintonne
 rs.net
DTSTAMP:20260420T055119Z
SUMMARY:Uitmatch bevestigd? (Rivierenland 4H (68) - De Nekker 3H (69))
DESCRIPTION:Je hebt 72 uur na aanvang om een uitmatch op Badmintonvlaandere
 n in te vullen. Match info: Rivierenland 4H (68) - De Nekker 3H (69) - Lin
 k: https://www.badmintonvlaanderen.be/sport/teammatch.aspx?id=A0E9B3BE-1D4
 7-428D-8EB5-7807839F7498&match=569
DTSTART;TZID=Europe/Brussels:20251203T140000
DTEND;TZID=Europe/Brussels:20251203T140000
END:VEVENT
BEGIN:VEVENT
UID:A0E9B3BE-1D47-428D-8EB5-7807839F7498-14-567_awayreminder@74.badmintonne
 rs.net
DTSTAMP:20260420T055119Z
SUMMARY:Uitmatch bevestigd? (Spinshuttle 3H (63) - De Nekker 3H (69))
DESCRIPTION:Je hebt 72 uur na aanvang om een uitmatch op Badmintonvlaandere
 n in te vullen. Match info: Spinshuttle 3H (63) - De Nekker 3H (69) - Link
 : https://www.badmintonvlaanderen.be/sport/teammatch.aspx?id=A0E9B3BE-1D47
 -428D-8EB5-7807839F7498&match=567
DTSTART;TZID=Europe/Brussels:20251219T200000
DTEND;TZID=Europe/Brussels:20251219T200000
END:VEVENT
BEGIN:VEVENT
UID:A0E9B3BE-1D47-428D-8EB5-7807839F7498-14-570_awayreminder@74.badmintonne
 rs.net
DTSTAMP:20260420T055119Z
SUMMARY:Uitmatch bevestigd? (Klein Boom 4H (68) - De Nekker 3H (69))
DESCRIPTION:Je hebt 72 uur na aanvang om een uitmatch op Badmintonvlaandere
 n in te vullen. Match info: Klein Boom 4H (68) - De Nekker 3H (69) - Link:
  https://www.badmintonvlaanderen.be/sport/teammatch.aspx?id=A0E9B3BE-1D47-
 428D-8EB5-7807839F7498&match=570
DTSTART;TZID=Europe/Brussels:20260114T190000
DTEND;TZID=Europe/Brussels:20260114T190000
END:VEVENT
BEGIN:VEVENT
UID:A0E9B3BE-1D47-428D-8EB5-7807839F7498-14-571_awayreminder@74.badmintonne
 rs.net
DTSTAMP:20260420T055119Z
SUMMARY:Uitmatch bevestigd? (Olve 5H (68) - De Nekker 3H (69))
DESCRIPTION:Je hebt 72 uur na aanvang om een uitmatch op Badmintonvlaandere
 n in te vullen. Match info: Olve 5H (68) - De Nekker 3H (69) - Link: https
 ://www.badmintonvlaanderen.be/sport/teammatch.aspx?id=A0E9B3BE-1D47-428D-8
 EB5-7807839F7498&match=571
DTSTART;TZID=Europe/Brussels:20260310T103000
DTEND;TZID=Europe/Brussels:20260310T103000
END:VEVENT
BEGIN:VEVENT
UID:A0E9B3BE-1D47-428D-8EB5-7807839F7498-14-568_awayreminder@74.badmintonne
 rs.net
DTSTAMP:20260420T055119Z
SUMMARY:Uitmatch bevestigd? (Geelse 2H (69) - De Nekker 3H (69))
DESCRIPTION:Je hebt 72 uur na aanvang om een uitmatch op Badmintonvlaandere
 n in te vullen. Match info: Geelse 2H (69) - De Nekker 3H (69) - Link: htt
 ps://www.badmintonvlaanderen.be/sport/teammatch.aspx?id=A0E9B3BE-1D47-428D
 -8EB5-7807839F7498&match=568
DTSTART;TZID=Europe/Brussels:20260405T200000
DTEND;TZID=Europe/Brussels:20260405T200000
END:VEVENT
END:VCALENDAR