BEGIN:VCALENDAR
VERSION:2.0
PRODID:spatie/icalendar-generator
NAME:rivierenland_4h_68_reminders
X-WR-CALNAME:rivierenland_4h_68_reminders
BEGIN:VTIMEZONE
TZID:Europe/Brussels
BEGIN:DAYLIGHT
DTSTART:20250330T010000
TZOFFSETFROM:+0100
TZOFFSETTO:+0200
END:DAYLIGHT
BEGIN:STANDARD
DTSTART:20251026T030000
TZOFFSETFROM:+0200
TZOFFSETTO:+0100
END:STANDARD
BEGIN:DAYLIGHT
DTSTART:20260329T010000
TZOFFSETFROM:+0100
TZOFFSETTO:+0200
END:DAYLIGHT
END:VTIMEZONE
BEGIN:VTIMEZONE
TZID:UTC
BEGIN:STANDARD
DTSTART:20250724T042224
TZOFFSETFROM:+0000
TZOFFSETTO:+0000
END:STANDARD
END:VTIMEZONE
BEGIN:VEVENT
UID:A0E9B3BE-1D47-428D-8EB5-7807839F7498-14-585_homereminder@80.badmintonne
 rs.net
DTSTAMP:20260420T042224Z
SUMMARY:Thuismatch ingevuld? (Rivierenland 4H (68) - Klein Boom 4H (68))
DESCRIPTION:Je hebt 36 uur na aanvang om een thuismatch op Badmintonvlaande
 ren in te vullen. Match info: Rivierenland 4H (68) - Klein Boom 4H (68) - 
 Link: https://www.badmintonvlaanderen.be/sport/teammatch.aspx?id=A0E9B3BE-
 1D47-428D-8EB5-7807839F7498&match=585
DTSTART;TZID=Europe/Brussels:20251118T020000
DTEND;TZID=Europe/Brussels:20251118T020000
END:VEVENT
BEGIN:VEVENT
UID:A0E9B3BE-1D47-428D-8EB5-7807839F7498-14-569_homereminder@80.badmintonne
 rs.net
DTSTAMP:20260420T042224Z
SUMMARY:Thuismatch ingevuld? (Rivierenland 4H (68) - De Nekker 3H (69))
DESCRIPTION:Je hebt 36 uur na aanvang om een thuismatch op Badmintonvlaande
 ren in te vullen. Match info: Rivierenland 4H (68) - De Nekker 3H (69) - L
 ink: https://www.badmintonvlaanderen.be/sport/teammatch.aspx?id=A0E9B3BE-1
 D47-428D-8EB5-7807839F7498&match=569
DTSTART;TZID=Europe/Brussels:20251202T020000
DTEND;TZID=Europe/Brussels:20251202T020000
END:VEVENT
BEGIN:VEVENT
UID:A0E9B3BE-1D47-428D-8EB5-7807839F7498-14-574_homereminder@80.badmintonne
 rs.net
DTSTAMP:20260420T042224Z
SUMMARY:Thuismatch ingevuld? (Rivierenland 4H (68) - Geelse 2H (69))
DESCRIPTION:Je hebt 36 uur na aanvang om een thuismatch op Badmintonvlaande
 ren in te vullen. Match info: Rivierenland 4H (68) - Geelse 2H (69) - Link
 : https://www.badmintonvlaanderen.be/sport/teammatch.aspx?id=A0E9B3BE-1D47
 -428D-8EB5-7807839F7498&match=574
DTSTART;TZID=Europe/Brussels:20260127T020000
DTEND;TZID=Europe/Brussels:20260127T020000
END:VEVENT
BEGIN:VEVENT
UID:A0E9B3BE-1D47-428D-8EB5-7807839F7498-14-590_homereminder@80.badmintonne
 rs.net
DTSTAMP:20260420T042224Z
SUMMARY:Thuismatch ingevuld? (Rivierenland 4H (68) - Olve 5H (68))
DESCRIPTION:Je hebt 36 uur na aanvang om een thuismatch op Badmintonvlaande
 ren in te vullen. Match info: Rivierenland 4H (68) - Olve 5H (68) - Link: 
 https://www.badmintonvlaanderen.be/sport/teammatch.aspx?id=A0E9B3BE-1D47-4
 28D-8EB5-7807839F7498&match=590
DTSTART;TZID=Europe/Brussels:20260210T043000
DTEND;TZID=Europe/Brussels:20260210T043000
END:VEVENT
BEGIN:VEVENT
UID:A0E9B3BE-1D47-428D-8EB5-7807839F7498-14-564_homereminder@80.badmintonne
 rs.net
DTSTAMP:20260420T042224Z
SUMMARY:Thuismatch ingevuld? (Rivierenland 4H (68) - Spinshuttle 3H (63))
DESCRIPTION:Je hebt 36 uur na aanvang om een thuismatch op Badmintonvlaande
 ren in te vullen. Match info: Rivierenland 4H (68) - Spinshuttle 3H (63) -
  Link: https://www.badmintonvlaanderen.be/sport/teammatch.aspx?id=A0E9B3BE
 -1D47-428D-8EB5-7807839F7498&match=564
DTSTART;TZID=Europe/Brussels:20260324T020000
DTEND;TZID=Europe/Brussels:20260324T020000
END:VEVENT
BEGIN:VEVENT
UID:A0E9B3BE-1D47-428D-8EB5-7807839F7498-14-579_awayreminder@80.badmintonne
 rs.net
DTSTAMP:20260420T042224Z
SUMMARY:Uitmatch bevestigd? (Geelse 2H (69) - Rivierenland 4H (68))
DESCRIPTION:Je hebt 72 uur na aanvang om een uitmatch op Badmintonvlaandere
 n in te vullen. Match info: Geelse 2H (69) - Rivierenland 4H (68) - Link: 
 https://www.badmintonvlaanderen.be/sport/teammatch.aspx?id=A0E9B3BE-1D47-4
 28D-8EB5-7807839F7498&match=579
DTSTART;TZID=Europe/Brussels:20250928T200000
DTEND;TZID=Europe/Brussels:20250928T200000
END:VEVENT
BEGIN:VEVENT
UID:A0E9B3BE-1D47-428D-8EB5-7807839F7498-14-577_awayreminder@80.badmintonne
 rs.net
DTSTAMP:20260420T042224Z
SUMMARY:Uitmatch bevestigd? (Spinshuttle 3H (63) - Rivierenland 4H (68))
DESCRIPTION:Je hebt 72 uur na aanvang om een uitmatch op Badmintonvlaandere
 n in te vullen. Match info: Spinshuttle 3H (63) - Rivierenland 4H (68) - L
 ink: https://www.badmintonvlaanderen.be/sport/teammatch.aspx?id=A0E9B3BE-1
 D47-428D-8EB5-7807839F7498&match=577
DTSTART;TZID=Europe/Brussels:20251010T200000
DTEND;TZID=Europe/Brussels:20251010T200000
END:VEVENT
BEGIN:VEVENT
UID:A0E9B3BE-1D47-428D-8EB5-7807839F7498-14-581_awayreminder@80.badmintonne
 rs.net
DTSTAMP:20260420T042224Z
SUMMARY:Uitmatch bevestigd? (Olve 5H (68) - Rivierenland 4H (68))
DESCRIPTION:Je hebt 72 uur na aanvang om een uitmatch op Badmintonvlaandere
 n in te vullen. Match info: Olve 5H (68) - Rivierenland 4H (68) - Link: ht
 tps://www.badmintonvlaanderen.be/sport/teammatch.aspx?id=A0E9B3BE-1D47-428
 D-8EB5-7807839F7498&match=581
DTSTART;TZID=Europe/Brussels:20251111T103000
DTEND;TZID=Europe/Brussels:20251111T103000
END:VEVENT
BEGIN:VEVENT
UID:A0E9B3BE-1D47-428D-8EB5-7807839F7498-14-580_awayreminder@80.badmintonne
 rs.net
DTSTAMP:20260420T042224Z
SUMMARY:Uitmatch bevestigd? (Klein Boom 4H (68) - Rivierenland 4H (68))
DESCRIPTION:Je hebt 72 uur na aanvang om een uitmatch op Badmintonvlaandere
 n in te vullen. Match info: Klein Boom 4H (68) - Rivierenland 4H (68) - Li
 nk: https://www.badmintonvlaanderen.be/sport/teammatch.aspx?id=A0E9B3BE-1D
 47-428D-8EB5-7807839F7498&match=580
DTSTART;TZID=Europe/Brussels:20260311T190000
DTEND;TZID=Europe/Brussels:20260311T190000
END:VEVENT
BEGIN:VEVENT
UID:A0E9B3BE-1D47-428D-8EB5-7807839F7498-14-578_awayreminder@80.badmintonne
 rs.net
DTSTAMP:20260420T042224Z
SUMMARY:Uitmatch bevestigd? (De Nekker 3H (69) - Rivierenland 4H (68))
DESCRIPTION:Je hebt 72 uur na aanvang om een uitmatch op Badmintonvlaandere
 n in te vullen. Match info: De Nekker 3H (69) - Rivierenland 4H (68) - Lin
 k: https://www.badmintonvlaanderen.be/sport/teammatch.aspx?id=A0E9B3BE-1D4
 7-428D-8EB5-7807839F7498&match=578
DTSTART;TZID=Europe/Brussels:20260327T203000
DTEND;TZID=Europe/Brussels:20260327T203000
END:VEVENT
END:VCALENDAR