BEGIN:VCALENDAR
VERSION:2.0
PRODID:spatie/icalendar-generator
NAME:de_nekker_1d_58_reminders
X-WR-CALNAME:de_nekker_1d_58_reminders
BEGIN:VTIMEZONE
TZID:Europe/Brussels
BEGIN:DAYLIGHT
DTSTART:20250330T010000
TZOFFSETFROM:+0100
TZOFFSETTO:+0200
END:DAYLIGHT
BEGIN:STANDARD
DTSTART:20251026T030000
TZOFFSETFROM:+0200
TZOFFSETTO:+0100
END:STANDARD
BEGIN:DAYLIGHT
DTSTART:20260329T010000
TZOFFSETFROM:+0100
TZOFFSETTO:+0200
END:DAYLIGHT
BEGIN:STANDARD
DTSTART:20261025T030000
TZOFFSETFROM:+0200
TZOFFSETTO:+0100
END:STANDARD
END:VTIMEZONE
BEGIN:VTIMEZONE
TZID:UTC
BEGIN:STANDARD
DTSTART:20250724T041159
TZOFFSETFROM:+0000
TZOFFSETTO:+0000
END:STANDARD
END:VTIMEZONE
BEGIN:VEVENT
UID:A0E9B3BE-1D47-428D-8EB5-7807839F7498-2-63_homereminder@110.badmintonner
 s.net
DTSTAMP:20260420T041159Z
SUMMARY:Thuismatch ingevuld? (De Nekker 1D (58) - Amateurs 2D (74))
DESCRIPTION:Je hebt 36 uur na aanvang om een thuismatch op Badmintonvlaande
 ren in te vullen. Match info: De Nekker 1D (58) - Amateurs 2D (74) - Link:
  https://www.badmintonvlaanderen.be/sport/teammatch.aspx?id=A0E9B3BE-1D47-
 428D-8EB5-7807839F7498&match=63
DTSTART;TZID=Europe/Brussels:20250919T081500
DTEND;TZID=Europe/Brussels:20250919T081500
END:VEVENT
BEGIN:VEVENT
UID:A0E9B3BE-1D47-428D-8EB5-7807839F7498-2-87_homereminder@110.badmintonner
 s.net
DTSTAMP:20260420T041159Z
SUMMARY:Thuismatch ingevuld? (De Nekker 1D (58) - Smash 1D (64))
DESCRIPTION:Je hebt 36 uur na aanvang om een thuismatch op Badmintonvlaande
 ren in te vullen. Match info: De Nekker 1D (58) - Smash 1D (64) - Link: ht
 tps://www.badmintonvlaanderen.be/sport/teammatch.aspx?id=A0E9B3BE-1D47-428
 D-8EB5-7807839F7498&match=87
DTSTART;TZID=Europe/Brussels:20251106T083000
DTEND;TZID=Europe/Brussels:20251106T083000
END:VEVENT
BEGIN:VEVENT
UID:A0E9B3BE-1D47-428D-8EB5-7807839F7498-2-75_homereminder@110.badmintonner
 s.net
DTSTAMP:20260420T041159Z
SUMMARY:Thuismatch ingevuld? (De Nekker 1D (58) - Klein Boom 4D (60))
DESCRIPTION:Je hebt 36 uur na aanvang om een thuismatch op Badmintonvlaande
 ren in te vullen. Match info: De Nekker 1D (58) - Klein Boom 4D (60) - Lin
 k: https://www.badmintonvlaanderen.be/sport/teammatch.aspx?id=A0E9B3BE-1D4
 7-428D-8EB5-7807839F7498&match=75
DTSTART;TZID=Europe/Brussels:20251212T081500
DTEND;TZID=Europe/Brussels:20251212T081500
END:VEVENT
BEGIN:VEVENT
UID:A0E9B3BE-1D47-428D-8EB5-7807839F7498-2-81_homereminder@110.badmintonner
 s.net
DTSTAMP:20260420T041159Z
SUMMARY:Thuismatch ingevuld? (De Nekker 1D (58) - Zoersel 2D (64))
DESCRIPTION:Je hebt 36 uur na aanvang om een thuismatch op Badmintonvlaande
 ren in te vullen. Match info: De Nekker 1D (58) - Zoersel 2D (64) - Link: 
 https://www.badmintonvlaanderen.be/sport/teammatch.aspx?id=A0E9B3BE-1D47-4
 28D-8EB5-7807839F7498&match=81
DTSTART;TZID=Europe/Brussels:20260327T083000
DTEND;TZID=Europe/Brussels:20260327T083000
END:VEVENT
BEGIN:VEVENT
UID:A0E9B3BE-1D47-428D-8EB5-7807839F7498-2-93_homereminder@110.badmintonner
 s.net
DTSTAMP:20260420T041159Z
SUMMARY:Thuismatch ingevuld? (De Nekker 1D (58) - Plumula 2D (64))
DESCRIPTION:Je hebt 36 uur na aanvang om een thuismatch op Badmintonvlaande
 ren in te vullen. Match info: De Nekker 1D (58) - Plumula 2D (64) - Link: 
 https://www.badmintonvlaanderen.be/sport/teammatch.aspx?id=A0E9B3BE-1D47-4
 28D-8EB5-7807839F7498&match=93
DTSTART;TZID=Europe/Brussels:20260402T083000
DTEND;TZID=Europe/Brussels:20260402T083000
END:VEVENT
BEGIN:VEVENT
UID:A0E9B3BE-1D47-428D-8EB5-7807839F7498-2-69_homereminder@110.badmintonner
 s.net
DTSTAMP:20260420T041159Z
SUMMARY:Thuismatch ingevuld? (De Nekker 1D (58) - Herentals 1D (57))
DESCRIPTION:Je hebt 36 uur na aanvang om een thuismatch op Badmintonvlaande
 ren in te vullen. Match info: De Nekker 1D (58) - Herentals 1D (57) - Link
 : https://www.badmintonvlaanderen.be/sport/teammatch.aspx?id=A0E9B3BE-1D47
 -428D-8EB5-7807839F7498&match=69
DTSTART;TZID=Europe/Brussels:20260424T081500
DTEND;TZID=Europe/Brussels:20260424T081500
END:VEVENT
BEGIN:VEVENT
UID:A0E9B3BE-1D47-428D-8EB5-7807839F7498-2-58_awayreminder@110.badmintonner
 s.net
DTSTAMP:20260420T041159Z
SUMMARY:Uitmatch bevestigd? (Herentals 1D (57) - De Nekker 1D (58))
DESCRIPTION:Je hebt 72 uur na aanvang om een uitmatch op Badmintonvlaandere
 n in te vullen. Match info: Herentals 1D (57) - De Nekker 1D (58) - Link: 
 https://www.badmintonvlaanderen.be/sport/teammatch.aspx?id=A0E9B3BE-1D47-4
 28D-8EB5-7807839F7498&match=58
DTSTART;TZID=Europe/Brussels:20250908T203000
DTEND;TZID=Europe/Brussels:20250908T203000
END:VEVENT
BEGIN:VEVENT
UID:A0E9B3BE-1D47-428D-8EB5-7807839F7498-2-60_awayreminder@110.badmintonner
 s.net
DTSTAMP:20260420T041159Z
SUMMARY:Uitmatch bevestigd? (Zoersel 2D (64) - De Nekker 1D (58))
DESCRIPTION:Je hebt 72 uur na aanvang om een uitmatch op Badmintonvlaandere
 n in te vullen. Match info: Zoersel 2D (64) - De Nekker 1D (58) - Link: ht
 tps://www.badmintonvlaanderen.be/sport/teammatch.aspx?id=A0E9B3BE-1D47-428
 D-8EB5-7807839F7498&match=60
DTSTART;TZID=Europe/Brussels:20251028T140000
DTEND;TZID=Europe/Brussels:20251028T140000
END:VEVENT
BEGIN:VEVENT
UID:A0E9B3BE-1D47-428D-8EB5-7807839F7498-2-62_awayreminder@110.badmintonner
 s.net
DTSTAMP:20260420T041159Z
SUMMARY:Uitmatch bevestigd? (Plumula 2D (64) - De Nekker 1D (58))
DESCRIPTION:Je hebt 72 uur na aanvang om een uitmatch op Badmintonvlaandere
 n in te vullen. Match info: Plumula 2D (64) - De Nekker 1D (58) - Link: ht
 tps://www.badmintonvlaanderen.be/sport/teammatch.aspx?id=A0E9B3BE-1D47-428
 D-8EB5-7807839F7498&match=62
DTSTART;TZID=Europe/Brussels:20251119T173000
DTEND;TZID=Europe/Brussels:20251119T173000
END:VEVENT
BEGIN:VEVENT
UID:A0E9B3BE-1D47-428D-8EB5-7807839F7498-2-57_awayreminder@110.badmintonner
 s.net
DTSTAMP:20260420T041159Z
SUMMARY:Uitmatch bevestigd? (Amateurs 2D (74) - De Nekker 1D (58))
DESCRIPTION:Je hebt 72 uur na aanvang om een uitmatch op Badmintonvlaandere
 n in te vullen. Match info: Amateurs 2D (74) - De Nekker 1D (58) - Link: h
 ttps://www.badmintonvlaanderen.be/sport/teammatch.aspx?id=A0E9B3BE-1D47-42
 8D-8EB5-7807839F7498&match=57
DTSTART;TZID=Europe/Brussels:20260122T200000
DTEND;TZID=Europe/Brussels:20260122T200000
END:VEVENT
BEGIN:VEVENT
UID:A0E9B3BE-1D47-428D-8EB5-7807839F7498-2-59_awayreminder@110.badmintonner
 s.net
DTSTAMP:20260420T041159Z
SUMMARY:Uitmatch bevestigd? (Klein Boom 4D (60) - De Nekker 1D (58))
DESCRIPTION:Je hebt 72 uur na aanvang om een uitmatch op Badmintonvlaandere
 n in te vullen. Match info: Klein Boom 4D (60) - De Nekker 1D (58) - Link:
  https://www.badmintonvlaanderen.be/sport/teammatch.aspx?id=A0E9B3BE-1D47-
 428D-8EB5-7807839F7498&match=59
DTSTART;TZID=Europe/Brussels:20260225T190000
DTEND;TZID=Europe/Brussels:20260225T190000
END:VEVENT
BEGIN:VEVENT
UID:A0E9B3BE-1D47-428D-8EB5-7807839F7498-2-61_awayreminder@110.badmintonner
 s.net
DTSTAMP:20260420T041159Z
SUMMARY:Uitmatch bevestigd? (Smash 1D (64) - De Nekker 1D (58))
DESCRIPTION:Je hebt 72 uur na aanvang om een uitmatch op Badmintonvlaandere
 n in te vullen. Match info: Smash 1D (64) - De Nekker 1D (58) - Link: http
 s://www.badmintonvlaanderen.be/sport/teammatch.aspx?id=A0E9B3BE-1D47-428D-
 8EB5-7807839F7498&match=61
DTSTART;TZID=Europe/Brussels:20260325T100000
DTEND;TZID=Europe/Brussels:20260325T100000
END:VEVENT
END:VCALENDAR