BEGIN:VCALENDAR
VERSION:2.0
PRODID:spatie/icalendar-generator
NAME:klein_boom_4d_60_reminders
X-WR-CALNAME:klein_boom_4d_60_reminders
BEGIN:VTIMEZONE
TZID:Europe/Brussels
BEGIN:DAYLIGHT
DTSTART:20250330T010000
TZOFFSETFROM:+0100
TZOFFSETTO:+0200
END:DAYLIGHT
BEGIN:STANDARD
DTSTART:20251026T030000
TZOFFSETFROM:+0200
TZOFFSETTO:+0100
END:STANDARD
BEGIN:DAYLIGHT
DTSTART:20260329T010000
TZOFFSETFROM:+0100
TZOFFSETTO:+0200
END:DAYLIGHT
END:VTIMEZONE
BEGIN:VTIMEZONE
TZID:UTC
BEGIN:STANDARD
DTSTART:20250724T041200
TZOFFSETFROM:+0000
TZOFFSETTO:+0000
END:STANDARD
END:VTIMEZONE
BEGIN:VEVENT
UID:A0E9B3BE-1D47-428D-8EB5-7807839F7498-2-96_homereminder@112.badmintonner
 s.net
DTSTAMP:20260420T041200Z
SUMMARY:Thuismatch ingevuld? (Klein Boom 4D (60) - Plumula 2D (64))
DESCRIPTION:Je hebt 36 uur na aanvang om een thuismatch op Badmintonvlaande
 ren in te vullen. Match info: Klein Boom 4D (60) - Plumula 2D (64) - Link:
  https://www.badmintonvlaanderen.be/sport/teammatch.aspx?id=A0E9B3BE-1D47-
 428D-8EB5-7807839F7498&match=96
DTSTART;TZID=Europe/Brussels:20250909T070000
DTEND;TZID=Europe/Brussels:20250909T070000
END:VEVENT
BEGIN:VEVENT
UID:A0E9B3BE-1D47-428D-8EB5-7807839F7498-2-84_homereminder@112.badmintonner
 s.net
DTSTAMP:20260420T041200Z
SUMMARY:Thuismatch ingevuld? (Klein Boom 4D (60) - Zoersel 2D (64))
DESCRIPTION:Je hebt 36 uur na aanvang om een thuismatch op Badmintonvlaande
 ren in te vullen. Match info: Klein Boom 4D (60) - Zoersel 2D (64) - Link:
  https://www.badmintonvlaanderen.be/sport/teammatch.aspx?id=A0E9B3BE-1D47-
 428D-8EB5-7807839F7498&match=84
DTSTART;TZID=Europe/Brussels:20251202T070000
DTEND;TZID=Europe/Brussels:20251202T070000
END:VEVENT
BEGIN:VEVENT
UID:A0E9B3BE-1D47-428D-8EB5-7807839F7498-2-65_homereminder@112.badmintonner
 s.net
DTSTAMP:20260420T041200Z
SUMMARY:Thuismatch ingevuld? (Klein Boom 4D (60) - Amateurs 2D (74))
DESCRIPTION:Je hebt 36 uur na aanvang om een thuismatch op Badmintonvlaande
 ren in te vullen. Match info: Klein Boom 4D (60) - Amateurs 2D (74) - Link
 : https://www.badmintonvlaanderen.be/sport/teammatch.aspx?id=A0E9B3BE-1D47
 -428D-8EB5-7807839F7498&match=65
DTSTART;TZID=Europe/Brussels:20251216T070000
DTEND;TZID=Europe/Brussels:20251216T070000
END:VEVENT
BEGIN:VEVENT
UID:A0E9B3BE-1D47-428D-8EB5-7807839F7498-2-90_homereminder@112.badmintonner
 s.net
DTSTAMP:20260420T041200Z
SUMMARY:Thuismatch ingevuld? (Klein Boom 4D (60) - Smash 1D (64))
DESCRIPTION:Je hebt 36 uur na aanvang om een thuismatch op Badmintonvlaande
 ren in te vullen. Match info: Klein Boom 4D (60) - Smash 1D (64) - Link: h
 ttps://www.badmintonvlaanderen.be/sport/teammatch.aspx?id=A0E9B3BE-1D47-42
 8D-8EB5-7807839F7498&match=90
DTSTART;TZID=Europe/Brussels:20260127T070000
DTEND;TZID=Europe/Brussels:20260127T070000
END:VEVENT
BEGIN:VEVENT
UID:A0E9B3BE-1D47-428D-8EB5-7807839F7498-2-59_homereminder@112.badmintonner
 s.net
DTSTAMP:20260420T041200Z
SUMMARY:Thuismatch ingevuld? (Klein Boom 4D (60) - De Nekker 1D (58))
DESCRIPTION:Je hebt 36 uur na aanvang om een thuismatch op Badmintonvlaande
 ren in te vullen. Match info: Klein Boom 4D (60) - De Nekker 1D (58) - Lin
 k: https://www.badmintonvlaanderen.be/sport/teammatch.aspx?id=A0E9B3BE-1D4
 7-428D-8EB5-7807839F7498&match=59
DTSTART;TZID=Europe/Brussels:20260224T070000
DTEND;TZID=Europe/Brussels:20260224T070000
END:VEVENT
BEGIN:VEVENT
UID:A0E9B3BE-1D47-428D-8EB5-7807839F7498-2-71_homereminder@112.badmintonner
 s.net
DTSTAMP:20260420T041200Z
SUMMARY:Thuismatch ingevuld? (Klein Boom 4D (60) - Herentals 1D (57))
DESCRIPTION:Je hebt 36 uur na aanvang om een thuismatch op Badmintonvlaande
 ren in te vullen. Match info: Klein Boom 4D (60) - Herentals 1D (57) - Lin
 k: https://www.badmintonvlaanderen.be/sport/teammatch.aspx?id=A0E9B3BE-1D4
 7-428D-8EB5-7807839F7498&match=71
DTSTART;TZID=Europe/Brussels:20260324T070000
DTEND;TZID=Europe/Brussels:20260324T070000
END:VEVENT
BEGIN:VEVENT
UID:A0E9B3BE-1D47-428D-8EB5-7807839F7498-2-77_awayreminder@112.badmintonner
 s.net
DTSTAMP:20260420T041200Z
SUMMARY:Uitmatch bevestigd? (Herentals 1D (57) - Klein Boom 4D (60))
DESCRIPTION:Je hebt 72 uur na aanvang om een uitmatch op Badmintonvlaandere
 n in te vullen. Match info: Herentals 1D (57) - Klein Boom 4D (60) - Link:
  https://www.badmintonvlaanderen.be/sport/teammatch.aspx?id=A0E9B3BE-1D47-
 428D-8EB5-7807839F7498&match=77
DTSTART;TZID=Europe/Brussels:20251020T203000
DTEND;TZID=Europe/Brussels:20251020T203000
END:VEVENT
BEGIN:VEVENT
UID:A0E9B3BE-1D47-428D-8EB5-7807839F7498-2-75_awayreminder@112.badmintonner
 s.net
DTSTAMP:20260420T041200Z
SUMMARY:Uitmatch bevestigd? (De Nekker 1D (58) - Klein Boom 4D (60))
DESCRIPTION:Je hebt 72 uur na aanvang om een uitmatch op Badmintonvlaandere
 n in te vullen. Match info: De Nekker 1D (58) - Klein Boom 4D (60) - Link:
  https://www.badmintonvlaanderen.be/sport/teammatch.aspx?id=A0E9B3BE-1D47-
 428D-8EB5-7807839F7498&match=75
DTSTART;TZID=Europe/Brussels:20251213T201500
DTEND;TZID=Europe/Brussels:20251213T201500
END:VEVENT
BEGIN:VEVENT
UID:A0E9B3BE-1D47-428D-8EB5-7807839F7498-2-79_awayreminder@112.badmintonner
 s.net
DTSTAMP:20260420T041200Z
SUMMARY:Uitmatch bevestigd? (Smash 1D (64) - Klein Boom 4D (60))
DESCRIPTION:Je hebt 72 uur na aanvang om een uitmatch op Badmintonvlaandere
 n in te vullen. Match info: Smash 1D (64) - Klein Boom 4D (60) - Link: htt
 ps://www.badmintonvlaanderen.be/sport/teammatch.aspx?id=A0E9B3BE-1D47-428D
 -8EB5-7807839F7498&match=79
DTSTART;TZID=Europe/Brussels:20251217T100000
DTEND;TZID=Europe/Brussels:20251217T100000
END:VEVENT
BEGIN:VEVENT
UID:A0E9B3BE-1D47-428D-8EB5-7807839F7498-2-80_awayreminder@112.badmintonner
 s.net
DTSTAMP:20260420T041200Z
SUMMARY:Uitmatch bevestigd? (Plumula 2D (64) - Klein Boom 4D (60))
DESCRIPTION:Je hebt 72 uur na aanvang om een uitmatch op Badmintonvlaandere
 n in te vullen. Match info: Plumula 2D (64) - Klein Boom 4D (60) - Link: h
 ttps://www.badmintonvlaanderen.be/sport/teammatch.aspx?id=A0E9B3BE-1D47-42
 8D-8EB5-7807839F7498&match=80
DTSTART;TZID=Europe/Brussels:20260211T173000
DTEND;TZID=Europe/Brussels:20260211T173000
END:VEVENT
BEGIN:VEVENT
UID:A0E9B3BE-1D47-428D-8EB5-7807839F7498-2-76_awayreminder@112.badmintonner
 s.net
DTSTAMP:20260420T041200Z
SUMMARY:Uitmatch bevestigd? (Amateurs 2D (74) - Klein Boom 4D (60))
DESCRIPTION:Je hebt 72 uur na aanvang om een uitmatch op Badmintonvlaandere
 n in te vullen. Match info: Amateurs 2D (74) - Klein Boom 4D (60) - Link: 
 https://www.badmintonvlaanderen.be/sport/teammatch.aspx?id=A0E9B3BE-1D47-4
 28D-8EB5-7807839F7498&match=76
DTSTART;TZID=Europe/Brussels:20260305T200000
DTEND;TZID=Europe/Brussels:20260305T200000
END:VEVENT
BEGIN:VEVENT
UID:A0E9B3BE-1D47-428D-8EB5-7807839F7498-2-78_awayreminder@112.badmintonner
 s.net
DTSTAMP:20260420T041200Z
SUMMARY:Uitmatch bevestigd? (Zoersel 2D (64) - Klein Boom 4D (60))
DESCRIPTION:Je hebt 72 uur na aanvang om een uitmatch op Badmintonvlaandere
 n in te vullen. Match info: Zoersel 2D (64) - Klein Boom 4D (60) - Link: h
 ttps://www.badmintonvlaanderen.be/sport/teammatch.aspx?id=A0E9B3BE-1D47-42
 8D-8EB5-7807839F7498&match=78
DTSTART;TZID=Europe/Brussels:20260422T120000
DTEND;TZID=Europe/Brussels:20260422T120000
END:VEVENT
END:VCALENDAR