BEGIN:VCALENDAR
VERSION:2.0
PRODID:spatie/icalendar-generator
NAME:plumula_2d_64_reminders
X-WR-CALNAME:plumula_2d_64_reminders
BEGIN:VTIMEZONE
TZID:Europe/Brussels
BEGIN:DAYLIGHT
DTSTART:20250330T010000
TZOFFSETFROM:+0100
TZOFFSETTO:+0200
END:DAYLIGHT
BEGIN:STANDARD
DTSTART:20251026T030000
TZOFFSETFROM:+0200
TZOFFSETTO:+0100
END:STANDARD
BEGIN:DAYLIGHT
DTSTART:20260329T010000
TZOFFSETFROM:+0100
TZOFFSETTO:+0200
END:DAYLIGHT
END:VTIMEZONE
BEGIN:VTIMEZONE
TZID:UTC
BEGIN:STANDARD
DTSTART:20250724T041159
TZOFFSETFROM:+0000
TZOFFSETTO:+0000
END:STANDARD
END:VTIMEZONE
BEGIN:VEVENT
UID:A0E9B3BE-1D47-428D-8EB5-7807839F7498-2-86_homereminder@113.badmintonner
 s.net
DTSTAMP:20260420T041159Z
SUMMARY:Thuismatch ingevuld? (Plumula 2D (64) - Zoersel 2D (64))
DESCRIPTION:Je hebt 36 uur na aanvang om een thuismatch op Badmintonvlaande
 ren in te vullen. Match info: Plumula 2D (64) - Zoersel 2D (64) - Link: ht
 tps://www.badmintonvlaanderen.be/sport/teammatch.aspx?id=A0E9B3BE-1D47-428
 D-8EB5-7807839F7498&match=86
DTSTART;TZID=Europe/Brussels:20250930T053000
DTEND;TZID=Europe/Brussels:20250930T053000
END:VEVENT
BEGIN:VEVENT
UID:A0E9B3BE-1D47-428D-8EB5-7807839F7498-2-62_homereminder@113.badmintonner
 s.net
DTSTAMP:20260420T041159Z
SUMMARY:Thuismatch ingevuld? (Plumula 2D (64) - De Nekker 1D (58))
DESCRIPTION:Je hebt 36 uur na aanvang om een thuismatch op Badmintonvlaande
 ren in te vullen. Match info: Plumula 2D (64) - De Nekker 1D (58) - Link: 
 https://www.badmintonvlaanderen.be/sport/teammatch.aspx?id=A0E9B3BE-1D47-4
 28D-8EB5-7807839F7498&match=62
DTSTART;TZID=Europe/Brussels:20251118T053000
DTEND;TZID=Europe/Brussels:20251118T053000
END:VEVENT
BEGIN:VEVENT
UID:A0E9B3BE-1D47-428D-8EB5-7807839F7498-2-74_homereminder@113.badmintonner
 s.net
DTSTAMP:20260420T041159Z
SUMMARY:Thuismatch ingevuld? (Plumula 2D (64) - Herentals 1D (57))
DESCRIPTION:Je hebt 36 uur na aanvang om een thuismatch op Badmintonvlaande
 ren in te vullen. Match info: Plumula 2D (64) - Herentals 1D (57) - Link: 
 https://www.badmintonvlaanderen.be/sport/teammatch.aspx?id=A0E9B3BE-1D47-4
 28D-8EB5-7807839F7498&match=74
DTSTART;TZID=Europe/Brussels:20251216T053000
DTEND;TZID=Europe/Brussels:20251216T053000
END:VEVENT
BEGIN:VEVENT
UID:A0E9B3BE-1D47-428D-8EB5-7807839F7498-2-80_homereminder@113.badmintonner
 s.net
DTSTAMP:20260420T041159Z
SUMMARY:Thuismatch ingevuld? (Plumula 2D (64) - Klein Boom 4D (60))
DESCRIPTION:Je hebt 36 uur na aanvang om een thuismatch op Badmintonvlaande
 ren in te vullen. Match info: Plumula 2D (64) - Klein Boom 4D (60) - Link:
  https://www.badmintonvlaanderen.be/sport/teammatch.aspx?id=A0E9B3BE-1D47-
 428D-8EB5-7807839F7498&match=80
DTSTART;TZID=Europe/Brussels:20260210T053000
DTEND;TZID=Europe/Brussels:20260210T053000
END:VEVENT
BEGIN:VEVENT
UID:A0E9B3BE-1D47-428D-8EB5-7807839F7498-2-92_homereminder@113.badmintonner
 s.net
DTSTAMP:20260420T041159Z
SUMMARY:Thuismatch ingevuld? (Plumula 2D (64) - Smash 1D (64))
DESCRIPTION:Je hebt 36 uur na aanvang om een thuismatch op Badmintonvlaande
 ren in te vullen. Match info: Plumula 2D (64) - Smash 1D (64) - Link: http
 s://www.badmintonvlaanderen.be/sport/teammatch.aspx?id=A0E9B3BE-1D47-428D-
 8EB5-7807839F7498&match=92
DTSTART;TZID=Europe/Brussels:20260310T053000
DTEND;TZID=Europe/Brussels:20260310T053000
END:VEVENT
BEGIN:VEVENT
UID:A0E9B3BE-1D47-428D-8EB5-7807839F7498-2-68_homereminder@113.badmintonner
 s.net
DTSTAMP:20260420T041159Z
SUMMARY:Thuismatch ingevuld? (Plumula 2D (64) - Amateurs 2D (74))
DESCRIPTION:Je hebt 36 uur na aanvang om een thuismatch op Badmintonvlaande
 ren in te vullen. Match info: Plumula 2D (64) - Amateurs 2D (74) - Link: h
 ttps://www.badmintonvlaanderen.be/sport/teammatch.aspx?id=A0E9B3BE-1D47-42
 8D-8EB5-7807839F7498&match=68
DTSTART;TZID=Europe/Brussels:20260421T053000
DTEND;TZID=Europe/Brussels:20260421T053000
END:VEVENT
BEGIN:VEVENT
UID:A0E9B3BE-1D47-428D-8EB5-7807839F7498-2-96_awayreminder@113.badmintonner
 s.net
DTSTAMP:20260420T041159Z
SUMMARY:Uitmatch bevestigd? (Klein Boom 4D (60) - Plumula 2D (64))
DESCRIPTION:Je hebt 72 uur na aanvang om een uitmatch op Badmintonvlaandere
 n in te vullen. Match info: Klein Boom 4D (60) - Plumula 2D (64) - Link: h
 ttps://www.badmintonvlaanderen.be/sport/teammatch.aspx?id=A0E9B3BE-1D47-42
 8D-8EB5-7807839F7498&match=96
DTSTART;TZID=Europe/Brussels:20250910T190000
DTEND;TZID=Europe/Brussels:20250910T190000
END:VEVENT
BEGIN:VEVENT
UID:A0E9B3BE-1D47-428D-8EB5-7807839F7498-2-98_awayreminder@113.badmintonner
 s.net
DTSTAMP:20260420T041159Z
SUMMARY:Uitmatch bevestigd? (Smash 1D (64) - Plumula 2D (64))
DESCRIPTION:Je hebt 72 uur na aanvang om een uitmatch op Badmintonvlaandere
 n in te vullen. Match info: Smash 1D (64) - Plumula 2D (64) - Link: https:
 //www.badmintonvlaanderen.be/sport/teammatch.aspx?id=A0E9B3BE-1D47-428D-8E
 B5-7807839F7498&match=98
DTSTART;TZID=Europe/Brussels:20251008T100000
DTEND;TZID=Europe/Brussels:20251008T100000
END:VEVENT
BEGIN:VEVENT
UID:A0E9B3BE-1D47-428D-8EB5-7807839F7498-2-94_awayreminder@113.badmintonner
 s.net
DTSTAMP:20260420T041159Z
SUMMARY:Uitmatch bevestigd? (Amateurs 2D (74) - Plumula 2D (64))
DESCRIPTION:Je hebt 72 uur na aanvang om een uitmatch op Badmintonvlaandere
 n in te vullen. Match info: Amateurs 2D (74) - Plumula 2D (64) - Link: htt
 ps://www.badmintonvlaanderen.be/sport/teammatch.aspx?id=A0E9B3BE-1D47-428D
 -8EB5-7807839F7498&match=94
DTSTART;TZID=Europe/Brussels:20251113T200000
DTEND;TZID=Europe/Brussels:20251113T200000
END:VEVENT
BEGIN:VEVENT
UID:A0E9B3BE-1D47-428D-8EB5-7807839F7498-2-95_awayreminder@113.badmintonner
 s.net
DTSTAMP:20260420T041159Z
SUMMARY:Uitmatch bevestigd? (Herentals 1D (57) - Plumula 2D (64))
DESCRIPTION:Je hebt 72 uur na aanvang om een uitmatch op Badmintonvlaandere
 n in te vullen. Match info: Herentals 1D (57) - Plumula 2D (64) - Link: ht
 tps://www.badmintonvlaanderen.be/sport/teammatch.aspx?id=A0E9B3BE-1D47-428
 D-8EB5-7807839F7498&match=95
DTSTART;TZID=Europe/Brussels:20260126T203000
DTEND;TZID=Europe/Brussels:20260126T203000
END:VEVENT
BEGIN:VEVENT
UID:A0E9B3BE-1D47-428D-8EB5-7807839F7498-2-97_awayreminder@113.badmintonner
 s.net
DTSTAMP:20260420T041159Z
SUMMARY:Uitmatch bevestigd? (Zoersel 2D (64) - Plumula 2D (64))
DESCRIPTION:Je hebt 72 uur na aanvang om een uitmatch op Badmintonvlaandere
 n in te vullen. Match info: Zoersel 2D (64) - Plumula 2D (64) - Link: http
 s://www.badmintonvlaanderen.be/sport/teammatch.aspx?id=A0E9B3BE-1D47-428D-
 8EB5-7807839F7498&match=97
DTSTART;TZID=Europe/Brussels:20260224T150000
DTEND;TZID=Europe/Brussels:20260224T150000
END:VEVENT
BEGIN:VEVENT
UID:A0E9B3BE-1D47-428D-8EB5-7807839F7498-2-93_awayreminder@113.badmintonner
 s.net
DTSTAMP:20260420T041159Z
SUMMARY:Uitmatch bevestigd? (De Nekker 1D (58) - Plumula 2D (64))
DESCRIPTION:Je hebt 72 uur na aanvang om een uitmatch op Badmintonvlaandere
 n in te vullen. Match info: De Nekker 1D (58) - Plumula 2D (64) - Link: ht
 tps://www.badmintonvlaanderen.be/sport/teammatch.aspx?id=A0E9B3BE-1D47-428
 D-8EB5-7807839F7498&match=93
DTSTART;TZID=Europe/Brussels:20260403T203000
DTEND;TZID=Europe/Brussels:20260403T203000
END:VEVENT
END:VCALENDAR