BEGIN:VCALENDAR
VERSION:2.0
PRODID:spatie/icalendar-generator
NAME:amateurs_2d_74_reminders
X-WR-CALNAME:amateurs_2d_74_reminders
BEGIN:VTIMEZONE
TZID:Europe/Brussels
BEGIN:DAYLIGHT
DTSTART:20250330T010000
TZOFFSETFROM:+0100
TZOFFSETTO:+0200
END:DAYLIGHT
BEGIN:STANDARD
DTSTART:20251026T030000
TZOFFSETFROM:+0200
TZOFFSETTO:+0100
END:STANDARD
BEGIN:DAYLIGHT
DTSTART:20260329T010000
TZOFFSETFROM:+0100
TZOFFSETTO:+0200
END:DAYLIGHT
END:VTIMEZONE
BEGIN:VTIMEZONE
TZID:UTC
BEGIN:STANDARD
DTSTART:20250724T041159
TZOFFSETFROM:+0000
TZOFFSETTO:+0000
END:STANDARD
END:VTIMEZONE
BEGIN:VEVENT
UID:A0E9B3BE-1D47-428D-8EB5-7807839F7498-2-70_homereminder@115.badmintonner
 s.net
DTSTAMP:20260420T041159Z
SUMMARY:Thuismatch ingevuld? (Amateurs 2D (74) - Herentals 1D (57))
DESCRIPTION:Je hebt 36 uur na aanvang om een thuismatch op Badmintonvlaande
 ren in te vullen. Match info: Amateurs 2D (74) - Herentals 1D (57) - Link:
  https://www.badmintonvlaanderen.be/sport/teammatch.aspx?id=A0E9B3BE-1D47-
 428D-8EB5-7807839F7498&match=70
DTSTART;TZID=Europe/Brussels:20250917T080000
DTEND;TZID=Europe/Brussels:20250917T080000
END:VEVENT
BEGIN:VEVENT
UID:A0E9B3BE-1D47-428D-8EB5-7807839F7498-2-82_homereminder@115.badmintonner
 s.net
DTSTAMP:20260420T041159Z
SUMMARY:Thuismatch ingevuld? (Amateurs 2D (74) - Zoersel 2D (64))
DESCRIPTION:Je hebt 36 uur na aanvang om een thuismatch op Badmintonvlaande
 ren in te vullen. Match info: Amateurs 2D (74) - Zoersel 2D (64) - Link: h
 ttps://www.badmintonvlaanderen.be/sport/teammatch.aspx?id=A0E9B3BE-1D47-42
 8D-8EB5-7807839F7498&match=82
DTSTART;TZID=Europe/Brussels:20251015T080000
DTEND;TZID=Europe/Brussels:20251015T080000
END:VEVENT
BEGIN:VEVENT
UID:A0E9B3BE-1D47-428D-8EB5-7807839F7498-2-94_homereminder@115.badmintonner
 s.net
DTSTAMP:20260420T041159Z
SUMMARY:Thuismatch ingevuld? (Amateurs 2D (74) - Plumula 2D (64))
DESCRIPTION:Je hebt 36 uur na aanvang om een thuismatch op Badmintonvlaande
 ren in te vullen. Match info: Amateurs 2D (74) - Plumula 2D (64) - Link: h
 ttps://www.badmintonvlaanderen.be/sport/teammatch.aspx?id=A0E9B3BE-1D47-42
 8D-8EB5-7807839F7498&match=94
DTSTART;TZID=Europe/Brussels:20251112T080000
DTEND;TZID=Europe/Brussels:20251112T080000
END:VEVENT
BEGIN:VEVENT
UID:A0E9B3BE-1D47-428D-8EB5-7807839F7498-2-57_homereminder@115.badmintonner
 s.net
DTSTAMP:20260420T041159Z
SUMMARY:Thuismatch ingevuld? (Amateurs 2D (74) - De Nekker 1D (58))
DESCRIPTION:Je hebt 36 uur na aanvang om een thuismatch op Badmintonvlaande
 ren in te vullen. Match info: Amateurs 2D (74) - De Nekker 1D (58) - Link:
  https://www.badmintonvlaanderen.be/sport/teammatch.aspx?id=A0E9B3BE-1D47-
 428D-8EB5-7807839F7498&match=57
DTSTART;TZID=Europe/Brussels:20260121T080000
DTEND;TZID=Europe/Brussels:20260121T080000
END:VEVENT
BEGIN:VEVENT
UID:A0E9B3BE-1D47-428D-8EB5-7807839F7498-2-76_homereminder@115.badmintonner
 s.net
DTSTAMP:20260420T041159Z
SUMMARY:Thuismatch ingevuld? (Amateurs 2D (74) - Klein Boom 4D (60))
DESCRIPTION:Je hebt 36 uur na aanvang om een thuismatch op Badmintonvlaande
 ren in te vullen. Match info: Amateurs 2D (74) - Klein Boom 4D (60) - Link
 : https://www.badmintonvlaanderen.be/sport/teammatch.aspx?id=A0E9B3BE-1D47
 -428D-8EB5-7807839F7498&match=76
DTSTART;TZID=Europe/Brussels:20260304T080000
DTEND;TZID=Europe/Brussels:20260304T080000
END:VEVENT
BEGIN:VEVENT
UID:A0E9B3BE-1D47-428D-8EB5-7807839F7498-2-88_homereminder@115.badmintonner
 s.net
DTSTAMP:20260420T041159Z
SUMMARY:Thuismatch ingevuld? (Amateurs 2D (74) - Smash 1D (64))
DESCRIPTION:Je hebt 36 uur na aanvang om een thuismatch op Badmintonvlaande
 ren in te vullen. Match info: Amateurs 2D (74) - Smash 1D (64) - Link: htt
 ps://www.badmintonvlaanderen.be/sport/teammatch.aspx?id=A0E9B3BE-1D47-428D
 -8EB5-7807839F7498&match=88
DTSTART;TZID=Europe/Brussels:20260318T080000
DTEND;TZID=Europe/Brussels:20260318T080000
END:VEVENT
BEGIN:VEVENT
UID:A0E9B3BE-1D47-428D-8EB5-7807839F7498-2-63_awayreminder@115.badmintonner
 s.net
DTSTAMP:20260420T041159Z
SUMMARY:Uitmatch bevestigd? (De Nekker 1D (58) - Amateurs 2D (74))
DESCRIPTION:Je hebt 72 uur na aanvang om een uitmatch op Badmintonvlaandere
 n in te vullen. Match info: De Nekker 1D (58) - Amateurs 2D (74) - Link: h
 ttps://www.badmintonvlaanderen.be/sport/teammatch.aspx?id=A0E9B3BE-1D47-42
 8D-8EB5-7807839F7498&match=63
DTSTART;TZID=Europe/Brussels:20250920T201500
DTEND;TZID=Europe/Brussels:20250920T201500
END:VEVENT
BEGIN:VEVENT
UID:A0E9B3BE-1D47-428D-8EB5-7807839F7498-2-67_awayreminder@115.badmintonner
 s.net
DTSTAMP:20260420T041159Z
SUMMARY:Uitmatch bevestigd? (Smash 1D (64) - Amateurs 2D (74))
DESCRIPTION:Je hebt 72 uur na aanvang om een uitmatch op Badmintonvlaandere
 n in te vullen. Match info: Smash 1D (64) - Amateurs 2D (74) - Link: https
 ://www.badmintonvlaanderen.be/sport/teammatch.aspx?id=A0E9B3BE-1D47-428D-8
 EB5-7807839F7498&match=67
DTSTART;TZID=Europe/Brussels:20251126T100000
DTEND;TZID=Europe/Brussels:20251126T100000
END:VEVENT
BEGIN:VEVENT
UID:A0E9B3BE-1D47-428D-8EB5-7807839F7498-2-65_awayreminder@115.badmintonner
 s.net
DTSTAMP:20260420T041159Z
SUMMARY:Uitmatch bevestigd? (Klein Boom 4D (60) - Amateurs 2D (74))
DESCRIPTION:Je hebt 72 uur na aanvang om een uitmatch op Badmintonvlaandere
 n in te vullen. Match info: Klein Boom 4D (60) - Amateurs 2D (74) - Link: 
 https://www.badmintonvlaanderen.be/sport/teammatch.aspx?id=A0E9B3BE-1D47-4
 28D-8EB5-7807839F7498&match=65
DTSTART;TZID=Europe/Brussels:20251217T190000
DTEND;TZID=Europe/Brussels:20251217T190000
END:VEVENT
BEGIN:VEVENT
UID:A0E9B3BE-1D47-428D-8EB5-7807839F7498-2-64_awayreminder@115.badmintonner
 s.net
DTSTAMP:20260420T041159Z
SUMMARY:Uitmatch bevestigd? (Herentals 1D (57) - Amateurs 2D (74))
DESCRIPTION:Je hebt 72 uur na aanvang om een uitmatch op Badmintonvlaandere
 n in te vullen. Match info: Herentals 1D (57) - Amateurs 2D (74) - Link: h
 ttps://www.badmintonvlaanderen.be/sport/teammatch.aspx?id=A0E9B3BE-1D47-42
 8D-8EB5-7807839F7498&match=64
DTSTART;TZID=Europe/Brussels:20260309T203000
DTEND;TZID=Europe/Brussels:20260309T203000
END:VEVENT
BEGIN:VEVENT
UID:A0E9B3BE-1D47-428D-8EB5-7807839F7498-2-66_awayreminder@115.badmintonner
 s.net
DTSTAMP:20260420T041159Z
SUMMARY:Uitmatch bevestigd? (Zoersel 2D (64) - Amateurs 2D (74))
DESCRIPTION:Je hebt 72 uur na aanvang om een uitmatch op Badmintonvlaandere
 n in te vullen. Match info: Zoersel 2D (64) - Amateurs 2D (74) - Link: htt
 ps://www.badmintonvlaanderen.be/sport/teammatch.aspx?id=A0E9B3BE-1D47-428D
 -8EB5-7807839F7498&match=66
DTSTART;TZID=Europe/Brussels:20260324T150000
DTEND;TZID=Europe/Brussels:20260324T150000
END:VEVENT
BEGIN:VEVENT
UID:A0E9B3BE-1D47-428D-8EB5-7807839F7498-2-68_awayreminder@115.badmintonner
 s.net
DTSTAMP:20260420T041159Z
SUMMARY:Uitmatch bevestigd? (Plumula 2D (64) - Amateurs 2D (74))
DESCRIPTION:Je hebt 72 uur na aanvang om een uitmatch op Badmintonvlaandere
 n in te vullen. Match info: Plumula 2D (64) - Amateurs 2D (74) - Link: htt
 ps://www.badmintonvlaanderen.be/sport/teammatch.aspx?id=A0E9B3BE-1D47-428D
 -8EB5-7807839F7498&match=68
DTSTART;TZID=Europe/Brussels:20260422T173000
DTEND;TZID=Europe/Brussels:20260422T173000
END:VEVENT
END:VCALENDAR