BEGIN:VCALENDAR
VERSION:2.0
PRODID:spatie/icalendar-generator
NAME:herentals_1d_57_reminders
X-WR-CALNAME:herentals_1d_57_reminders
BEGIN:VTIMEZONE
TZID:Europe/Brussels
BEGIN:DAYLIGHT
DTSTART:20250330T010000
TZOFFSETFROM:+0100
TZOFFSETTO:+0200
END:DAYLIGHT
BEGIN:STANDARD
DTSTART:20251026T030000
TZOFFSETFROM:+0200
TZOFFSETTO:+0100
END:STANDARD
BEGIN:DAYLIGHT
DTSTART:20260329T010000
TZOFFSETFROM:+0100
TZOFFSETTO:+0200
END:DAYLIGHT
BEGIN:STANDARD
DTSTART:20261025T030000
TZOFFSETFROM:+0200
TZOFFSETTO:+0100
END:STANDARD
END:VTIMEZONE
BEGIN:VTIMEZONE
TZID:UTC
BEGIN:STANDARD
DTSTART:20250724T041158
TZOFFSETFROM:+0000
TZOFFSETTO:+0000
END:STANDARD
END:VTIMEZONE
BEGIN:VEVENT
UID:A0E9B3BE-1D47-428D-8EB5-7807839F7498-2-58_homereminder@117.badmintonner
 s.net
DTSTAMP:20260420T041158Z
SUMMARY:Thuismatch ingevuld? (Herentals 1D (57) - De Nekker 1D (58))
DESCRIPTION:Je hebt 36 uur na aanvang om een thuismatch op Badmintonvlaande
 ren in te vullen. Match info: Herentals 1D (57) - De Nekker 1D (58) - Link
 : https://www.badmintonvlaanderen.be/sport/teammatch.aspx?id=A0E9B3BE-1D47
 -428D-8EB5-7807839F7498&match=58
DTSTART;TZID=Europe/Brussels:20250907T083000
DTEND;TZID=Europe/Brussels:20250907T083000
END:VEVENT
BEGIN:VEVENT
UID:A0E9B3BE-1D47-428D-8EB5-7807839F7498-2-77_homereminder@117.badmintonner
 s.net
DTSTAMP:20260420T041158Z
SUMMARY:Thuismatch ingevuld? (Herentals 1D (57) - Klein Boom 4D (60))
DESCRIPTION:Je hebt 36 uur na aanvang om een thuismatch op Badmintonvlaande
 ren in te vullen. Match info: Herentals 1D (57) - Klein Boom 4D (60) - Lin
 k: https://www.badmintonvlaanderen.be/sport/teammatch.aspx?id=A0E9B3BE-1D4
 7-428D-8EB5-7807839F7498&match=77
DTSTART;TZID=Europe/Brussels:20251019T083000
DTEND;TZID=Europe/Brussels:20251019T083000
END:VEVENT
BEGIN:VEVENT
UID:A0E9B3BE-1D47-428D-8EB5-7807839F7498-2-89_homereminder@117.badmintonner
 s.net
DTSTAMP:20260420T041158Z
SUMMARY:Thuismatch ingevuld? (Herentals 1D (57) - Smash 1D (64))
DESCRIPTION:Je hebt 36 uur na aanvang om een thuismatch op Badmintonvlaande
 ren in te vullen. Match info: Herentals 1D (57) - Smash 1D (64) - Link: ht
 tps://www.badmintonvlaanderen.be/sport/teammatch.aspx?id=A0E9B3BE-1D47-428
 D-8EB5-7807839F7498&match=89
DTSTART;TZID=Europe/Brussels:20251214T083000
DTEND;TZID=Europe/Brussels:20251214T083000
END:VEVENT
BEGIN:VEVENT
UID:A0E9B3BE-1D47-428D-8EB5-7807839F7498-2-95_homereminder@117.badmintonner
 s.net
DTSTAMP:20260420T041158Z
SUMMARY:Thuismatch ingevuld? (Herentals 1D (57) - Plumula 2D (64))
DESCRIPTION:Je hebt 36 uur na aanvang om een thuismatch op Badmintonvlaande
 ren in te vullen. Match info: Herentals 1D (57) - Plumula 2D (64) - Link: 
 https://www.badmintonvlaanderen.be/sport/teammatch.aspx?id=A0E9B3BE-1D47-4
 28D-8EB5-7807839F7498&match=95
DTSTART;TZID=Europe/Brussels:20260125T083000
DTEND;TZID=Europe/Brussels:20260125T083000
END:VEVENT
BEGIN:VEVENT
UID:A0E9B3BE-1D47-428D-8EB5-7807839F7498-2-64_homereminder@117.badmintonner
 s.net
DTSTAMP:20260420T041158Z
SUMMARY:Thuismatch ingevuld? (Herentals 1D (57) - Amateurs 2D (74))
DESCRIPTION:Je hebt 36 uur na aanvang om een thuismatch op Badmintonvlaande
 ren in te vullen. Match info: Herentals 1D (57) - Amateurs 2D (74) - Link:
  https://www.badmintonvlaanderen.be/sport/teammatch.aspx?id=A0E9B3BE-1D47-
 428D-8EB5-7807839F7498&match=64
DTSTART;TZID=Europe/Brussels:20260308T083000
DTEND;TZID=Europe/Brussels:20260308T083000
END:VEVENT
BEGIN:VEVENT
UID:A0E9B3BE-1D47-428D-8EB5-7807839F7498-2-83_homereminder@117.badmintonner
 s.net
DTSTAMP:20260420T041158Z
SUMMARY:Thuismatch ingevuld? (Herentals 1D (57) - Zoersel 2D (64))
DESCRIPTION:Je hebt 36 uur na aanvang om een thuismatch op Badmintonvlaande
 ren in te vullen. Match info: Herentals 1D (57) - Zoersel 2D (64) - Link: 
 https://www.badmintonvlaanderen.be/sport/teammatch.aspx?id=A0E9B3BE-1D47-4
 28D-8EB5-7807839F7498&match=83
DTSTART;TZID=Europe/Brussels:20260405T083000
DTEND;TZID=Europe/Brussels:20260405T083000
END:VEVENT
BEGIN:VEVENT
UID:A0E9B3BE-1D47-428D-8EB5-7807839F7498-2-70_awayreminder@117.badmintonner
 s.net
DTSTAMP:20260420T041158Z
SUMMARY:Uitmatch bevestigd? (Amateurs 2D (74) - Herentals 1D (57))
DESCRIPTION:Je hebt 72 uur na aanvang om een uitmatch op Badmintonvlaandere
 n in te vullen. Match info: Amateurs 2D (74) - Herentals 1D (57) - Link: h
 ttps://www.badmintonvlaanderen.be/sport/teammatch.aspx?id=A0E9B3BE-1D47-42
 8D-8EB5-7807839F7498&match=70
DTSTART;TZID=Europe/Brussels:20250918T200000
DTEND;TZID=Europe/Brussels:20250918T200000
END:VEVENT
BEGIN:VEVENT
UID:A0E9B3BE-1D47-428D-8EB5-7807839F7498-2-74_awayreminder@117.badmintonner
 s.net
DTSTAMP:20260420T041158Z
SUMMARY:Uitmatch bevestigd? (Plumula 2D (64) - Herentals 1D (57))
DESCRIPTION:Je hebt 72 uur na aanvang om een uitmatch op Badmintonvlaandere
 n in te vullen. Match info: Plumula 2D (64) - Herentals 1D (57) - Link: ht
 tps://www.badmintonvlaanderen.be/sport/teammatch.aspx?id=A0E9B3BE-1D47-428
 D-8EB5-7807839F7498&match=74
DTSTART;TZID=Europe/Brussels:20251217T173000
DTEND;TZID=Europe/Brussels:20251217T173000
END:VEVENT
BEGIN:VEVENT
UID:A0E9B3BE-1D47-428D-8EB5-7807839F7498-2-72_awayreminder@117.badmintonner
 s.net
DTSTAMP:20260420T041158Z
SUMMARY:Uitmatch bevestigd? (Zoersel 2D (64) - Herentals 1D (57))
DESCRIPTION:Je hebt 72 uur na aanvang om een uitmatch op Badmintonvlaandere
 n in te vullen. Match info: Zoersel 2D (64) - Herentals 1D (57) - Link: ht
 tps://www.badmintonvlaanderen.be/sport/teammatch.aspx?id=A0E9B3BE-1D47-428
 D-8EB5-7807839F7498&match=72
DTSTART;TZID=Europe/Brussels:20251223T150000
DTEND;TZID=Europe/Brussels:20251223T150000
END:VEVENT
BEGIN:VEVENT
UID:A0E9B3BE-1D47-428D-8EB5-7807839F7498-2-71_awayreminder@117.badmintonner
 s.net
DTSTAMP:20260420T041158Z
SUMMARY:Uitmatch bevestigd? (Klein Boom 4D (60) - Herentals 1D (57))
DESCRIPTION:Je hebt 72 uur na aanvang om een uitmatch op Badmintonvlaandere
 n in te vullen. Match info: Klein Boom 4D (60) - Herentals 1D (57) - Link:
  https://www.badmintonvlaanderen.be/sport/teammatch.aspx?id=A0E9B3BE-1D47-
 428D-8EB5-7807839F7498&match=71
DTSTART;TZID=Europe/Brussels:20260325T190000
DTEND;TZID=Europe/Brussels:20260325T190000
END:VEVENT
BEGIN:VEVENT
UID:A0E9B3BE-1D47-428D-8EB5-7807839F7498-2-73_awayreminder@117.badmintonner
 s.net
DTSTAMP:20260420T041158Z
SUMMARY:Uitmatch bevestigd? (Smash 1D (64) - Herentals 1D (57))
DESCRIPTION:Je hebt 72 uur na aanvang om een uitmatch op Badmintonvlaandere
 n in te vullen. Match info: Smash 1D (64) - Herentals 1D (57) - Link: http
 s://www.badmintonvlaanderen.be/sport/teammatch.aspx?id=A0E9B3BE-1D47-428D-
 8EB5-7807839F7498&match=73
DTSTART;TZID=Europe/Brussels:20260422T100000
DTEND;TZID=Europe/Brussels:20260422T100000
END:VEVENT
BEGIN:VEVENT
UID:A0E9B3BE-1D47-428D-8EB5-7807839F7498-2-69_awayreminder@117.badmintonner
 s.net
DTSTAMP:20260420T041158Z
SUMMARY:Uitmatch bevestigd? (De Nekker 1D (58) - Herentals 1D (57))
DESCRIPTION:Je hebt 72 uur na aanvang om een uitmatch op Badmintonvlaandere
 n in te vullen. Match info: De Nekker 1D (58) - Herentals 1D (57) - Link: 
 https://www.badmintonvlaanderen.be/sport/teammatch.aspx?id=A0E9B3BE-1D47-4
 28D-8EB5-7807839F7498&match=69
DTSTART;TZID=Europe/Brussels:20260425T201500
DTEND;TZID=Europe/Brussels:20260425T201500
END:VEVENT
END:VCALENDAR