BEGIN:VCALENDAR
VERSION:2.0
PRODID:spatie/icalendar-generator
NAME:zoersel_2d_64_reminders
X-WR-CALNAME:zoersel_2d_64_reminders
BEGIN:VTIMEZONE
TZID:Europe/Brussels
BEGIN:DAYLIGHT
DTSTART:20250330T010000
TZOFFSETFROM:+0100
TZOFFSETTO:+0200
END:DAYLIGHT
BEGIN:STANDARD
DTSTART:20251026T030000
TZOFFSETFROM:+0200
TZOFFSETTO:+0100
END:STANDARD
BEGIN:DAYLIGHT
DTSTART:20260329T010000
TZOFFSETFROM:+0100
TZOFFSETTO:+0200
END:DAYLIGHT
END:VTIMEZONE
BEGIN:VTIMEZONE
TZID:UTC
BEGIN:STANDARD
DTSTART:20250724T055124
TZOFFSETFROM:+0000
TZOFFSETTO:+0000
END:STANDARD
END:VTIMEZONE
BEGIN:VEVENT
UID:A0E9B3BE-1D47-428D-8EB5-7807839F7498-2-91_homereminder@119.badmintonner
 s.net
DTSTAMP:20260420T055124Z
SUMMARY:Thuismatch ingevuld? (Zoersel 2D (64) - Smash 1D (64))
DESCRIPTION:Je hebt 36 uur na aanvang om een thuismatch op Badmintonvlaande
 ren in te vullen. Match info: Zoersel 2D (64) - Smash 1D (64) - Link: http
 s://www.badmintonvlaanderen.be/sport/teammatch.aspx?id=A0E9B3BE-1D47-428D-
 8EB5-7807839F7498&match=91
DTSTART;TZID=Europe/Brussels:20251020T030000
DTEND;TZID=Europe/Brussels:20251020T030000
END:VEVENT
BEGIN:VEVENT
UID:A0E9B3BE-1D47-428D-8EB5-7807839F7498-2-60_homereminder@119.badmintonner
 s.net
DTSTAMP:20260420T055124Z
SUMMARY:Thuismatch ingevuld? (Zoersel 2D (64) - De Nekker 1D (58))
DESCRIPTION:Je hebt 36 uur na aanvang om een thuismatch op Badmintonvlaande
 ren in te vullen. Match info: Zoersel 2D (64) - De Nekker 1D (58) - Link: 
 https://www.badmintonvlaanderen.be/sport/teammatch.aspx?id=A0E9B3BE-1D47-4
 28D-8EB5-7807839F7498&match=60
DTSTART;TZID=Europe/Brussels:20251027T020000
DTEND;TZID=Europe/Brussels:20251027T020000
END:VEVENT
BEGIN:VEVENT
UID:A0E9B3BE-1D47-428D-8EB5-7807839F7498-2-72_homereminder@119.badmintonner
 s.net
DTSTAMP:20260420T055124Z
SUMMARY:Thuismatch ingevuld? (Zoersel 2D (64) - Herentals 1D (57))
DESCRIPTION:Je hebt 36 uur na aanvang om een thuismatch op Badmintonvlaande
 ren in te vullen. Match info: Zoersel 2D (64) - Herentals 1D (57) - Link: 
 https://www.badmintonvlaanderen.be/sport/teammatch.aspx?id=A0E9B3BE-1D47-4
 28D-8EB5-7807839F7498&match=72
DTSTART;TZID=Europe/Brussels:20251222T030000
DTEND;TZID=Europe/Brussels:20251222T030000
END:VEVENT
BEGIN:VEVENT
UID:A0E9B3BE-1D47-428D-8EB5-7807839F7498-2-97_homereminder@119.badmintonner
 s.net
DTSTAMP:20260420T055124Z
SUMMARY:Thuismatch ingevuld? (Zoersel 2D (64) - Plumula 2D (64))
DESCRIPTION:Je hebt 36 uur na aanvang om een thuismatch op Badmintonvlaande
 ren in te vullen. Match info: Zoersel 2D (64) - Plumula 2D (64) - Link: ht
 tps://www.badmintonvlaanderen.be/sport/teammatch.aspx?id=A0E9B3BE-1D47-428
 D-8EB5-7807839F7498&match=97
DTSTART;TZID=Europe/Brussels:20260223T030000
DTEND;TZID=Europe/Brussels:20260223T030000
END:VEVENT
BEGIN:VEVENT
UID:A0E9B3BE-1D47-428D-8EB5-7807839F7498-2-66_homereminder@119.badmintonner
 s.net
DTSTAMP:20260420T055124Z
SUMMARY:Thuismatch ingevuld? (Zoersel 2D (64) - Amateurs 2D (74))
DESCRIPTION:Je hebt 36 uur na aanvang om een thuismatch op Badmintonvlaande
 ren in te vullen. Match info: Zoersel 2D (64) - Amateurs 2D (74) - Link: h
 ttps://www.badmintonvlaanderen.be/sport/teammatch.aspx?id=A0E9B3BE-1D47-42
 8D-8EB5-7807839F7498&match=66
DTSTART;TZID=Europe/Brussels:20260323T030000
DTEND;TZID=Europe/Brussels:20260323T030000
END:VEVENT
BEGIN:VEVENT
UID:A0E9B3BE-1D47-428D-8EB5-7807839F7498-2-78_homereminder@119.badmintonner
 s.net
DTSTAMP:20260420T055124Z
SUMMARY:Thuismatch ingevuld? (Zoersel 2D (64) - Klein Boom 4D (60))
DESCRIPTION:Je hebt 36 uur na aanvang om een thuismatch op Badmintonvlaande
 ren in te vullen. Match info: Zoersel 2D (64) - Klein Boom 4D (60) - Link:
  https://www.badmintonvlaanderen.be/sport/teammatch.aspx?id=A0E9B3BE-1D47-
 428D-8EB5-7807839F7498&match=78
DTSTART;TZID=Europe/Brussels:20260421T000000
DTEND;TZID=Europe/Brussels:20260421T000000
END:VEVENT
BEGIN:VEVENT
UID:A0E9B3BE-1D47-428D-8EB5-7807839F7498-2-86_awayreminder@119.badmintonner
 s.net
DTSTAMP:20260420T055124Z
SUMMARY:Uitmatch bevestigd? (Plumula 2D (64) - Zoersel 2D (64))
DESCRIPTION:Je hebt 72 uur na aanvang om een uitmatch op Badmintonvlaandere
 n in te vullen. Match info: Plumula 2D (64) - Zoersel 2D (64) - Link: http
 s://www.badmintonvlaanderen.be/sport/teammatch.aspx?id=A0E9B3BE-1D47-428D-
 8EB5-7807839F7498&match=86
DTSTART;TZID=Europe/Brussels:20251001T173000
DTEND;TZID=Europe/Brussels:20251001T173000
END:VEVENT
BEGIN:VEVENT
UID:A0E9B3BE-1D47-428D-8EB5-7807839F7498-2-82_awayreminder@119.badmintonner
 s.net
DTSTAMP:20260420T055124Z
SUMMARY:Uitmatch bevestigd? (Amateurs 2D (74) - Zoersel 2D (64))
DESCRIPTION:Je hebt 72 uur na aanvang om een uitmatch op Badmintonvlaandere
 n in te vullen. Match info: Amateurs 2D (74) - Zoersel 2D (64) - Link: htt
 ps://www.badmintonvlaanderen.be/sport/teammatch.aspx?id=A0E9B3BE-1D47-428D
 -8EB5-7807839F7498&match=82
DTSTART;TZID=Europe/Brussels:20251016T200000
DTEND;TZID=Europe/Brussels:20251016T200000
END:VEVENT
BEGIN:VEVENT
UID:A0E9B3BE-1D47-428D-8EB5-7807839F7498-2-84_awayreminder@119.badmintonner
 s.net
DTSTAMP:20260420T055124Z
SUMMARY:Uitmatch bevestigd? (Klein Boom 4D (60) - Zoersel 2D (64))
DESCRIPTION:Je hebt 72 uur na aanvang om een uitmatch op Badmintonvlaandere
 n in te vullen. Match info: Klein Boom 4D (60) - Zoersel 2D (64) - Link: h
 ttps://www.badmintonvlaanderen.be/sport/teammatch.aspx?id=A0E9B3BE-1D47-42
 8D-8EB5-7807839F7498&match=84
DTSTART;TZID=Europe/Brussels:20251203T190000
DTEND;TZID=Europe/Brussels:20251203T190000
END:VEVENT
BEGIN:VEVENT
UID:A0E9B3BE-1D47-428D-8EB5-7807839F7498-2-85_awayreminder@119.badmintonner
 s.net
DTSTAMP:20260420T055124Z
SUMMARY:Uitmatch bevestigd? (Smash 1D (64) - Zoersel 2D (64))
DESCRIPTION:Je hebt 72 uur na aanvang om een uitmatch op Badmintonvlaandere
 n in te vullen. Match info: Smash 1D (64) - Zoersel 2D (64) - Link: https:
 //www.badmintonvlaanderen.be/sport/teammatch.aspx?id=A0E9B3BE-1D47-428D-8E
 B5-7807839F7498&match=85
DTSTART;TZID=Europe/Brussels:20260211T100000
DTEND;TZID=Europe/Brussels:20260211T100000
END:VEVENT
BEGIN:VEVENT
UID:A0E9B3BE-1D47-428D-8EB5-7807839F7498-2-81_awayreminder@119.badmintonner
 s.net
DTSTAMP:20260420T055124Z
SUMMARY:Uitmatch bevestigd? (De Nekker 1D (58) - Zoersel 2D (64))
DESCRIPTION:Je hebt 72 uur na aanvang om een uitmatch op Badmintonvlaandere
 n in te vullen. Match info: De Nekker 1D (58) - Zoersel 2D (64) - Link: ht
 tps://www.badmintonvlaanderen.be/sport/teammatch.aspx?id=A0E9B3BE-1D47-428
 D-8EB5-7807839F7498&match=81
DTSTART;TZID=Europe/Brussels:20260328T203000
DTEND;TZID=Europe/Brussels:20260328T203000
END:VEVENT
BEGIN:VEVENT
UID:A0E9B3BE-1D47-428D-8EB5-7807839F7498-2-83_awayreminder@119.badmintonner
 s.net
DTSTAMP:20260420T055124Z
SUMMARY:Uitmatch bevestigd? (Herentals 1D (57) - Zoersel 2D (64))
DESCRIPTION:Je hebt 72 uur na aanvang om een uitmatch op Badmintonvlaandere
 n in te vullen. Match info: Herentals 1D (57) - Zoersel 2D (64) - Link: ht
 tps://www.badmintonvlaanderen.be/sport/teammatch.aspx?id=A0E9B3BE-1D47-428
 D-8EB5-7807839F7498&match=83
DTSTART;TZID=Europe/Brussels:20260406T203000
DTEND;TZID=Europe/Brussels:20260406T203000
END:VEVENT
END:VCALENDAR