BEGIN:VCALENDAR
VERSION:2.0
PRODID:spatie/icalendar-generator
NAME:smash_1d_64_reminders
X-WR-CALNAME:smash_1d_64_reminders
BEGIN:VTIMEZONE
TZID:Europe/Brussels
BEGIN:DAYLIGHT
DTSTART:20250330T010000
TZOFFSETFROM:+0100
TZOFFSETTO:+0200
END:DAYLIGHT
BEGIN:STANDARD
DTSTART:20251026T030000
TZOFFSETFROM:+0200
TZOFFSETTO:+0100
END:STANDARD
BEGIN:DAYLIGHT
DTSTART:20260329T010000
TZOFFSETFROM:+0100
TZOFFSETTO:+0200
END:DAYLIGHT
END:VTIMEZONE
BEGIN:VTIMEZONE
TZID:UTC
BEGIN:STANDARD
DTSTART:20250724T041159
TZOFFSETFROM:+0000
TZOFFSETTO:+0000
END:STANDARD
END:VTIMEZONE
BEGIN:VEVENT
UID:A0E9B3BE-1D47-428D-8EB5-7807839F7498-2-98_homereminder@121.badmintonner
 s.net
DTSTAMP:20260420T041159Z
SUMMARY:Thuismatch ingevuld? (Smash 1D (64) - Plumula 2D (64))
DESCRIPTION:Je hebt 36 uur na aanvang om een thuismatch op Badmintonvlaande
 ren in te vullen. Match info: Smash 1D (64) - Plumula 2D (64) - Link: http
 s://www.badmintonvlaanderen.be/sport/teammatch.aspx?id=A0E9B3BE-1D47-428D-
 8EB5-7807839F7498&match=98
DTSTART;TZID=Europe/Brussels:20251006T220000
DTEND;TZID=Europe/Brussels:20251006T220000
END:VEVENT
BEGIN:VEVENT
UID:A0E9B3BE-1D47-428D-8EB5-7807839F7498-2-67_homereminder@121.badmintonner
 s.net
DTSTAMP:20260420T041159Z
SUMMARY:Thuismatch ingevuld? (Smash 1D (64) - Amateurs 2D (74))
DESCRIPTION:Je hebt 36 uur na aanvang om een thuismatch op Badmintonvlaande
 ren in te vullen. Match info: Smash 1D (64) - Amateurs 2D (74) - Link: htt
 ps://www.badmintonvlaanderen.be/sport/teammatch.aspx?id=A0E9B3BE-1D47-428D
 -8EB5-7807839F7498&match=67
DTSTART;TZID=Europe/Brussels:20251124T220000
DTEND;TZID=Europe/Brussels:20251124T220000
END:VEVENT
BEGIN:VEVENT
UID:A0E9B3BE-1D47-428D-8EB5-7807839F7498-2-79_homereminder@121.badmintonner
 s.net
DTSTAMP:20260420T041159Z
SUMMARY:Thuismatch ingevuld? (Smash 1D (64) - Klein Boom 4D (60))
DESCRIPTION:Je hebt 36 uur na aanvang om een thuismatch op Badmintonvlaande
 ren in te vullen. Match info: Smash 1D (64) - Klein Boom 4D (60) - Link: h
 ttps://www.badmintonvlaanderen.be/sport/teammatch.aspx?id=A0E9B3BE-1D47-42
 8D-8EB5-7807839F7498&match=79
DTSTART;TZID=Europe/Brussels:20251215T220000
DTEND;TZID=Europe/Brussels:20251215T220000
END:VEVENT
BEGIN:VEVENT
UID:A0E9B3BE-1D47-428D-8EB5-7807839F7498-2-85_homereminder@121.badmintonner
 s.net
DTSTAMP:20260420T041159Z
SUMMARY:Thuismatch ingevuld? (Smash 1D (64) - Zoersel 2D (64))
DESCRIPTION:Je hebt 36 uur na aanvang om een thuismatch op Badmintonvlaande
 ren in te vullen. Match info: Smash 1D (64) - Zoersel 2D (64) - Link: http
 s://www.badmintonvlaanderen.be/sport/teammatch.aspx?id=A0E9B3BE-1D47-428D-
 8EB5-7807839F7498&match=85
DTSTART;TZID=Europe/Brussels:20260209T220000
DTEND;TZID=Europe/Brussels:20260209T220000
END:VEVENT
BEGIN:VEVENT
UID:A0E9B3BE-1D47-428D-8EB5-7807839F7498-2-61_homereminder@121.badmintonner
 s.net
DTSTAMP:20260420T041159Z
SUMMARY:Thuismatch ingevuld? (Smash 1D (64) - De Nekker 1D (58))
DESCRIPTION:Je hebt 36 uur na aanvang om een thuismatch op Badmintonvlaande
 ren in te vullen. Match info: Smash 1D (64) - De Nekker 1D (58) - Link: ht
 tps://www.badmintonvlaanderen.be/sport/teammatch.aspx?id=A0E9B3BE-1D47-428
 D-8EB5-7807839F7498&match=61
DTSTART;TZID=Europe/Brussels:20260323T220000
DTEND;TZID=Europe/Brussels:20260323T220000
END:VEVENT
BEGIN:VEVENT
UID:A0E9B3BE-1D47-428D-8EB5-7807839F7498-2-73_homereminder@121.badmintonner
 s.net
DTSTAMP:20260420T041159Z
SUMMARY:Thuismatch ingevuld? (Smash 1D (64) - Herentals 1D (57))
DESCRIPTION:Je hebt 36 uur na aanvang om een thuismatch op Badmintonvlaande
 ren in te vullen. Match info: Smash 1D (64) - Herentals 1D (57) - Link: ht
 tps://www.badmintonvlaanderen.be/sport/teammatch.aspx?id=A0E9B3BE-1D47-428
 D-8EB5-7807839F7498&match=73
DTSTART;TZID=Europe/Brussels:20260420T220000
DTEND;TZID=Europe/Brussels:20260420T220000
END:VEVENT
BEGIN:VEVENT
UID:A0E9B3BE-1D47-428D-8EB5-7807839F7498-2-91_awayreminder@121.badmintonner
 s.net
DTSTAMP:20260420T041159Z
SUMMARY:Uitmatch bevestigd? (Zoersel 2D (64) - Smash 1D (64))
DESCRIPTION:Je hebt 72 uur na aanvang om een uitmatch op Badmintonvlaandere
 n in te vullen. Match info: Zoersel 2D (64) - Smash 1D (64) - Link: https:
 //www.badmintonvlaanderen.be/sport/teammatch.aspx?id=A0E9B3BE-1D47-428D-8E
 B5-7807839F7498&match=91
DTSTART;TZID=Europe/Brussels:20251021T150000
DTEND;TZID=Europe/Brussels:20251021T150000
END:VEVENT
BEGIN:VEVENT
UID:A0E9B3BE-1D47-428D-8EB5-7807839F7498-2-87_awayreminder@121.badmintonner
 s.net
DTSTAMP:20260420T041159Z
SUMMARY:Uitmatch bevestigd? (De Nekker 1D (58) - Smash 1D (64))
DESCRIPTION:Je hebt 72 uur na aanvang om een uitmatch op Badmintonvlaandere
 n in te vullen. Match info: De Nekker 1D (58) - Smash 1D (64) - Link: http
 s://www.badmintonvlaanderen.be/sport/teammatch.aspx?id=A0E9B3BE-1D47-428D-
 8EB5-7807839F7498&match=87
DTSTART;TZID=Europe/Brussels:20251107T203000
DTEND;TZID=Europe/Brussels:20251107T203000
END:VEVENT
BEGIN:VEVENT
UID:A0E9B3BE-1D47-428D-8EB5-7807839F7498-2-89_awayreminder@121.badmintonner
 s.net
DTSTAMP:20260420T041159Z
SUMMARY:Uitmatch bevestigd? (Herentals 1D (57) - Smash 1D (64))
DESCRIPTION:Je hebt 72 uur na aanvang om een uitmatch op Badmintonvlaandere
 n in te vullen. Match info: Herentals 1D (57) - Smash 1D (64) - Link: http
 s://www.badmintonvlaanderen.be/sport/teammatch.aspx?id=A0E9B3BE-1D47-428D-
 8EB5-7807839F7498&match=89
DTSTART;TZID=Europe/Brussels:20251215T203000
DTEND;TZID=Europe/Brussels:20251215T203000
END:VEVENT
BEGIN:VEVENT
UID:A0E9B3BE-1D47-428D-8EB5-7807839F7498-2-90_awayreminder@121.badmintonner
 s.net
DTSTAMP:20260420T041159Z
SUMMARY:Uitmatch bevestigd? (Klein Boom 4D (60) - Smash 1D (64))
DESCRIPTION:Je hebt 72 uur na aanvang om een uitmatch op Badmintonvlaandere
 n in te vullen. Match info: Klein Boom 4D (60) - Smash 1D (64) - Link: htt
 ps://www.badmintonvlaanderen.be/sport/teammatch.aspx?id=A0E9B3BE-1D47-428D
 -8EB5-7807839F7498&match=90
DTSTART;TZID=Europe/Brussels:20260128T190000
DTEND;TZID=Europe/Brussels:20260128T190000
END:VEVENT
BEGIN:VEVENT
UID:A0E9B3BE-1D47-428D-8EB5-7807839F7498-2-92_awayreminder@121.badmintonner
 s.net
DTSTAMP:20260420T041159Z
SUMMARY:Uitmatch bevestigd? (Plumula 2D (64) - Smash 1D (64))
DESCRIPTION:Je hebt 72 uur na aanvang om een uitmatch op Badmintonvlaandere
 n in te vullen. Match info: Plumula 2D (64) - Smash 1D (64) - Link: https:
 //www.badmintonvlaanderen.be/sport/teammatch.aspx?id=A0E9B3BE-1D47-428D-8E
 B5-7807839F7498&match=92
DTSTART;TZID=Europe/Brussels:20260311T173000
DTEND;TZID=Europe/Brussels:20260311T173000
END:VEVENT
BEGIN:VEVENT
UID:A0E9B3BE-1D47-428D-8EB5-7807839F7498-2-88_awayreminder@121.badmintonner
 s.net
DTSTAMP:20260420T041159Z
SUMMARY:Uitmatch bevestigd? (Amateurs 2D (74) - Smash 1D (64))
DESCRIPTION:Je hebt 72 uur na aanvang om een uitmatch op Badmintonvlaandere
 n in te vullen. Match info: Amateurs 2D (74) - Smash 1D (64) - Link: https
 ://www.badmintonvlaanderen.be/sport/teammatch.aspx?id=A0E9B3BE-1D47-428D-8
 EB5-7807839F7498&match=88
DTSTART;TZID=Europe/Brussels:20260319T200000
DTEND;TZID=Europe/Brussels:20260319T200000
END:VEVENT
END:VCALENDAR