BEGIN:VCALENDAR
VERSION:2.0
PRODID:spatie/icalendar-generator
NAME:smash_1g_73_reminders
X-WR-CALNAME:smash_1g_73_reminders
BEGIN:VTIMEZONE
TZID:Europe/Brussels
BEGIN:DAYLIGHT
DTSTART:20250330T010000
TZOFFSETFROM:+0100
TZOFFSETTO:+0200
END:DAYLIGHT
BEGIN:STANDARD
DTSTART:20251026T030000
TZOFFSETFROM:+0200
TZOFFSETTO:+0100
END:STANDARD
BEGIN:DAYLIGHT
DTSTART:20260329T010000
TZOFFSETFROM:+0100
TZOFFSETTO:+0200
END:DAYLIGHT
BEGIN:STANDARD
DTSTART:20261025T030000
TZOFFSETFROM:+0200
TZOFFSETTO:+0100
END:STANDARD
END:VTIMEZONE
BEGIN:VTIMEZONE
TZID:UTC
BEGIN:STANDARD
DTSTART:20250724T043625
TZOFFSETFROM:+0000
TZOFFSETTO:+0000
END:STANDARD
END:VTIMEZONE
BEGIN:VEVENT
UID:A0E9B3BE-1D47-428D-8EB5-7807839F7498-20-847_homereminder@124.badmintonn
 ers.net
DTSTAMP:20260420T043625Z
SUMMARY:Thuismatch ingevuld? (Smash 1G (73) - Rivierenland 2G (62))
DESCRIPTION:Je hebt 36 uur na aanvang om een thuismatch op Badmintonvlaande
 ren in te vullen. Match info: Smash 1G (73) - Rivierenland 2G (62) - Link:
  https://www.badmintonvlaanderen.be/sport/teammatch.aspx?id=A0E9B3BE-1D47-
 428D-8EB5-7807839F7498&match=847
DTSTART;TZID=Europe/Brussels:20251004T080000
DTEND;TZID=Europe/Brussels:20251004T080000
END:VEVENT
BEGIN:VEVENT
UID:A0E9B3BE-1D47-428D-8EB5-7807839F7498-20-835_homereminder@124.badmintonn
 ers.net
DTSTAMP:20260420T043625Z
SUMMARY:Thuismatch ingevuld? (Smash 1G (73) - Rita Serveert 1G (61))
DESCRIPTION:Je hebt 36 uur na aanvang om een thuismatch op Badmintonvlaande
 ren in te vullen. Match info: Smash 1G (73) - Rita Serveert 1G (61) - Link
 : https://www.badmintonvlaanderen.be/sport/teammatch.aspx?id=A0E9B3BE-1D47
 -428D-8EB5-7807839F7498&match=835
DTSTART;TZID=Europe/Brussels:20251122T080000
DTEND;TZID=Europe/Brussels:20251122T080000
END:VEVENT
BEGIN:VEVENT
UID:A0E9B3BE-1D47-428D-8EB5-7807839F7498-20-823_homereminder@124.badmintonn
 ers.net
DTSTAMP:20260420T043625Z
SUMMARY:Thuismatch ingevuld? (Smash 1G (73) - Bacss 1G (74))
DESCRIPTION:Je hebt 36 uur na aanvang om een thuismatch op Badmintonvlaande
 ren in te vullen. Match info: Smash 1G (73) - Bacss 1G (74) - Link: https:
 //www.badmintonvlaanderen.be/sport/teammatch.aspx?id=A0E9B3BE-1D47-428D-8E
 B5-7807839F7498&match=823
DTSTART;TZID=Europe/Brussels:20251208T220000
DTEND;TZID=Europe/Brussels:20251208T220000
END:VEVENT
BEGIN:VEVENT
UID:A0E9B3BE-1D47-428D-8EB5-7807839F7498-20-841_homereminder@124.badmintonn
 ers.net
DTSTAMP:20260420T043625Z
SUMMARY:Thuismatch ingevuld? (Smash 1G (73) - Beerke 1G (67))
DESCRIPTION:Je hebt 36 uur na aanvang om een thuismatch op Badmintonvlaande
 ren in te vullen. Match info: Smash 1G (73) - Beerke 1G (67) - Link: https
 ://www.badmintonvlaanderen.be/sport/teammatch.aspx?id=A0E9B3BE-1D47-428D-8
 EB5-7807839F7498&match=841
DTSTART;TZID=Europe/Brussels:20260110T080000
DTEND;TZID=Europe/Brussels:20260110T080000
END:VEVENT
BEGIN:VEVENT
UID:A0E9B3BE-1D47-428D-8EB5-7807839F7498-20-853_homereminder@124.badmintonn
 ers.net
DTSTAMP:20260420T043625Z
SUMMARY:Thuismatch ingevuld? (Smash 1G (73) - Klein Boom 2G (62))
DESCRIPTION:Je hebt 36 uur na aanvang om een thuismatch op Badmintonvlaande
 ren in te vullen. Match info: Smash 1G (73) - Klein Boom 2G (62) - Link: h
 ttps://www.badmintonvlaanderen.be/sport/teammatch.aspx?id=A0E9B3BE-1D47-42
 8D-8EB5-7807839F7498&match=853
DTSTART;TZID=Europe/Brussels:20260302T220000
DTEND;TZID=Europe/Brussels:20260302T220000
END:VEVENT
BEGIN:VEVENT
UID:A0E9B3BE-1D47-428D-8EB5-7807839F7498-20-829_homereminder@124.badmintonn
 ers.net
DTSTAMP:20260420T043625Z
SUMMARY:Thuismatch ingevuld? (Smash 1G (73) - Brasschaat 3G (62))
DESCRIPTION:Je hebt 36 uur na aanvang om een thuismatch op Badmintonvlaande
 ren in te vullen. Match info: Smash 1G (73) - Brasschaat 3G (62) - Link: h
 ttps://www.badmintonvlaanderen.be/sport/teammatch.aspx?id=A0E9B3BE-1D47-42
 8D-8EB5-7807839F7498&match=829
DTSTART;TZID=Europe/Brussels:20260330T220000
DTEND;TZID=Europe/Brussels:20260330T220000
END:VEVENT
BEGIN:VEVENT
UID:A0E9B3BE-1D47-428D-8EB5-7807839F7498-20-859_awayreminder@124.badmintonn
 ers.net
DTSTAMP:20260420T043625Z
SUMMARY:Uitmatch bevestigd? (Klein Boom 2G (62) - Smash 1G (73))
DESCRIPTION:Je hebt 72 uur na aanvang om een uitmatch op Badmintonvlaandere
 n in te vullen. Match info: Klein Boom 2G (62) - Smash 1G (73) - Link: htt
 ps://www.badmintonvlaanderen.be/sport/teammatch.aspx?id=A0E9B3BE-1D47-428D
 -8EB5-7807839F7498&match=859
DTSTART;TZID=Europe/Brussels:20251112T190000
DTEND;TZID=Europe/Brussels:20251112T190000
END:VEVENT
BEGIN:VEVENT
UID:A0E9B3BE-1D47-428D-8EB5-7807839F7498-20-855_awayreminder@124.badmintonn
 ers.net
DTSTAMP:20260420T043625Z
SUMMARY:Uitmatch bevestigd? (Brasschaat 3G (62) - Smash 1G (73))
DESCRIPTION:Je hebt 72 uur na aanvang om een uitmatch op Badmintonvlaandere
 n in te vullen. Match info: Brasschaat 3G (62) - Smash 1G (73) - Link: htt
 ps://www.badmintonvlaanderen.be/sport/teammatch.aspx?id=A0E9B3BE-1D47-428D
 -8EB5-7807839F7498&match=855
DTSTART;TZID=Europe/Brussels:20251119T190000
DTEND;TZID=Europe/Brussels:20251119T190000
END:VEVENT
BEGIN:VEVENT
UID:A0E9B3BE-1D47-428D-8EB5-7807839F7498-20-857_awayreminder@124.badmintonn
 ers.net
DTSTAMP:20260420T043625Z
SUMMARY:Uitmatch bevestigd? (Beerke 1G (67) - Smash 1G (73))
DESCRIPTION:Je hebt 72 uur na aanvang om een uitmatch op Badmintonvlaandere
 n in te vullen. Match info: Beerke 1G (67) - Smash 1G (73) - Link: https:/
 /www.badmintonvlaanderen.be/sport/teammatch.aspx?id=A0E9B3BE-1D47-428D-8EB
 5-7807839F7498&match=857
DTSTART;TZID=Europe/Brussels:20251203T100000
DTEND;TZID=Europe/Brussels:20251203T100000
END:VEVENT
BEGIN:VEVENT
UID:A0E9B3BE-1D47-428D-8EB5-7807839F7498-20-856_awayreminder@124.badmintonn
 ers.net
DTSTAMP:20260420T043625Z
SUMMARY:Uitmatch bevestigd? (Rita Serveert 1G (61) - Smash 1G (73))
DESCRIPTION:Je hebt 72 uur na aanvang om een uitmatch op Badmintonvlaandere
 n in te vullen. Match info: Rita Serveert 1G (61) - Smash 1G (73) - Link: 
 https://www.badmintonvlaanderen.be/sport/teammatch.aspx?id=A0E9B3BE-1D47-4
 28D-8EB5-7807839F7498&match=856
DTSTART;TZID=Europe/Brussels:20260121T190000
DTEND;TZID=Europe/Brussels:20260121T190000
END:VEVENT
BEGIN:VEVENT
UID:A0E9B3BE-1D47-428D-8EB5-7807839F7498-20-858_awayreminder@124.badmintonn
 ers.net
DTSTAMP:20260420T043625Z
SUMMARY:Uitmatch bevestigd? (Rivierenland 2G (62) - Smash 1G (73))
DESCRIPTION:Je hebt 72 uur na aanvang om een uitmatch op Badmintonvlaandere
 n in te vullen. Match info: Rivierenland 2G (62) - Smash 1G (73) - Link: h
 ttps://www.badmintonvlaanderen.be/sport/teammatch.aspx?id=A0E9B3BE-1D47-42
 8D-8EB5-7807839F7498&match=858
DTSTART;TZID=Europe/Brussels:20260204T163000
DTEND;TZID=Europe/Brussels:20260204T163000
END:VEVENT
BEGIN:VEVENT
UID:A0E9B3BE-1D47-428D-8EB5-7807839F7498-20-854_awayreminder@124.badmintonn
 ers.net
DTSTAMP:20260420T043625Z
SUMMARY:Uitmatch bevestigd? (Bacss 1G (74) - Smash 1G (73))
DESCRIPTION:Je hebt 72 uur na aanvang om een uitmatch op Badmintonvlaandere
 n in te vullen. Match info: Bacss 1G (74) - Smash 1G (73) - Link: https://
 www.badmintonvlaanderen.be/sport/teammatch.aspx?id=A0E9B3BE-1D47-428D-8EB5
 -7807839F7498&match=854
DTSTART;TZID=Europe/Brussels:20260427T201500
DTEND;TZID=Europe/Brussels:20260427T201500
END:VEVENT
END:VCALENDAR