BEGIN:VCALENDAR
VERSION:2.0
PRODID:spatie/icalendar-generator
NAME:klein_boom_2g_62_reminders
X-WR-CALNAME:klein_boom_2g_62_reminders
BEGIN:VTIMEZONE
TZID:Europe/Brussels
BEGIN:DAYLIGHT
DTSTART:20250330T010000
TZOFFSETFROM:+0100
TZOFFSETTO:+0200
END:DAYLIGHT
BEGIN:STANDARD
DTSTART:20251026T030000
TZOFFSETFROM:+0200
TZOFFSETTO:+0100
END:STANDARD
BEGIN:DAYLIGHT
DTSTART:20260329T010000
TZOFFSETFROM:+0100
TZOFFSETTO:+0200
END:DAYLIGHT
END:VTIMEZONE
BEGIN:VTIMEZONE
TZID:UTC
BEGIN:STANDARD
DTSTART:20250724T043754
TZOFFSETFROM:+0000
TZOFFSETTO:+0000
END:STANDARD
END:VTIMEZONE
BEGIN:VEVENT
UID:A0E9B3BE-1D47-428D-8EB5-7807839F7498-20-859_homereminder@125.badmintonn
 ers.net
DTSTAMP:20260420T043754Z
SUMMARY:Thuismatch ingevuld? (Klein Boom 2G (62) - Smash 1G (73))
DESCRIPTION:Je hebt 36 uur na aanvang om een thuismatch op Badmintonvlaande
 ren in te vullen. Match info: Klein Boom 2G (62) - Smash 1G (73) - Link: h
 ttps://www.badmintonvlaanderen.be/sport/teammatch.aspx?id=A0E9B3BE-1D47-42
 8D-8EB5-7807839F7498&match=859
DTSTART;TZID=Europe/Brussels:20251111T070000
DTEND;TZID=Europe/Brussels:20251111T070000
END:VEVENT
BEGIN:VEVENT
UID:A0E9B3BE-1D47-428D-8EB5-7807839F7498-20-828_homereminder@125.badmintonn
 ers.net
DTSTAMP:20260420T043754Z
SUMMARY:Thuismatch ingevuld? (Klein Boom 2G (62) - Brasschaat 3G (62))
DESCRIPTION:Je hebt 36 uur na aanvang om een thuismatch op Badmintonvlaande
 ren in te vullen. Match info: Klein Boom 2G (62) - Brasschaat 3G (62) - Li
 nk: https://www.badmintonvlaanderen.be/sport/teammatch.aspx?id=A0E9B3BE-1D
 47-428D-8EB5-7807839F7498&match=828
DTSTART;TZID=Europe/Brussels:20251209T070000
DTEND;TZID=Europe/Brussels:20251209T070000
END:VEVENT
BEGIN:VEVENT
UID:A0E9B3BE-1D47-428D-8EB5-7807839F7498-20-840_homereminder@125.badmintonn
 ers.net
DTSTAMP:20260420T043754Z
SUMMARY:Thuismatch ingevuld? (Klein Boom 2G (62) - Beerke 1G (67))
DESCRIPTION:Je hebt 36 uur na aanvang om een thuismatch op Badmintonvlaande
 ren in te vullen. Match info: Klein Boom 2G (62) - Beerke 1G (67) - Link: 
 https://www.badmintonvlaanderen.be/sport/teammatch.aspx?id=A0E9B3BE-1D47-4
 28D-8EB5-7807839F7498&match=840
DTSTART;TZID=Europe/Brussels:20251216T070000
DTEND;TZID=Europe/Brussels:20251216T070000
END:VEVENT
BEGIN:VEVENT
UID:A0E9B3BE-1D47-428D-8EB5-7807839F7498-20-846_homereminder@125.badmintonn
 ers.net
DTSTAMP:20260420T043754Z
SUMMARY:Thuismatch ingevuld? (Klein Boom 2G (62) - Rivierenland 2G (62))
DESCRIPTION:Je hebt 36 uur na aanvang om een thuismatch op Badmintonvlaande
 ren in te vullen. Match info: Klein Boom 2G (62) - Rivierenland 2G (62) - 
 Link: https://www.badmintonvlaanderen.be/sport/teammatch.aspx?id=A0E9B3BE-
 1D47-428D-8EB5-7807839F7498&match=846
DTSTART;TZID=Europe/Brussels:20260120T070000
DTEND;TZID=Europe/Brussels:20260120T070000
END:VEVENT
BEGIN:VEVENT
UID:A0E9B3BE-1D47-428D-8EB5-7807839F7498-20-834_homereminder@125.badmintonn
 ers.net
DTSTAMP:20260420T043754Z
SUMMARY:Thuismatch ingevuld? (Klein Boom 2G (62) - Rita Serveert 1G (61))
DESCRIPTION:Je hebt 36 uur na aanvang om een thuismatch op Badmintonvlaande
 ren in te vullen. Match info: Klein Boom 2G (62) - Rita Serveert 1G (61) -
  Link: https://www.badmintonvlaanderen.be/sport/teammatch.aspx?id=A0E9B3BE
 -1D47-428D-8EB5-7807839F7498&match=834
DTSTART;TZID=Europe/Brussels:20260331T070000
DTEND;TZID=Europe/Brussels:20260331T070000
END:VEVENT
BEGIN:VEVENT
UID:A0E9B3BE-1D47-428D-8EB5-7807839F7498-20-822_homereminder@125.badmintonn
 ers.net
DTSTAMP:20260420T043754Z
SUMMARY:Thuismatch ingevuld? (Klein Boom 2G (62) - Bacss 1G (74))
DESCRIPTION:Je hebt 36 uur na aanvang om een thuismatch op Badmintonvlaande
 ren in te vullen. Match info: Klein Boom 2G (62) - Bacss 1G (74) - Link: h
 ttps://www.badmintonvlaanderen.be/sport/teammatch.aspx?id=A0E9B3BE-1D47-42
 8D-8EB5-7807839F7498&match=822
DTSTART;TZID=Europe/Brussels:20260421T070000
DTEND;TZID=Europe/Brussels:20260421T070000
END:VEVENT
BEGIN:VEVENT
UID:A0E9B3BE-1D47-428D-8EB5-7807839F7498-20-850_awayreminder@125.badmintonn
 ers.net
DTSTAMP:20260420T043754Z
SUMMARY:Uitmatch bevestigd? (Rita Serveert 1G (61) - Klein Boom 2G (62))
DESCRIPTION:Je hebt 72 uur na aanvang om een uitmatch op Badmintonvlaandere
 n in te vullen. Match info: Rita Serveert 1G (61) - Klein Boom 2G (62) - L
 ink: https://www.badmintonvlaanderen.be/sport/teammatch.aspx?id=A0E9B3BE-1
 D47-428D-8EB5-7807839F7498&match=850
DTSTART;TZID=Europe/Brussels:20250917T190000
DTEND;TZID=Europe/Brussels:20250917T190000
END:VEVENT
BEGIN:VEVENT
UID:A0E9B3BE-1D47-428D-8EB5-7807839F7498-20-848_awayreminder@125.badmintonn
 ers.net
DTSTAMP:20260420T043754Z
SUMMARY:Uitmatch bevestigd? (Bacss 1G (74) - Klein Boom 2G (62))
DESCRIPTION:Je hebt 72 uur na aanvang om een uitmatch op Badmintonvlaandere
 n in te vullen. Match info: Bacss 1G (74) - Klein Boom 2G (62) - Link: htt
 ps://www.badmintonvlaanderen.be/sport/teammatch.aspx?id=A0E9B3BE-1D47-428D
 -8EB5-7807839F7498&match=848
DTSTART;TZID=Europe/Brussels:20251001T100000
DTEND;TZID=Europe/Brussels:20251001T100000
END:VEVENT
BEGIN:VEVENT
UID:A0E9B3BE-1D47-428D-8EB5-7807839F7498-20-852_awayreminder@125.badmintonn
 ers.net
DTSTAMP:20260420T043754Z
SUMMARY:Uitmatch bevestigd? (Rivierenland 2G (62) - Klein Boom 2G (62))
DESCRIPTION:Je hebt 72 uur na aanvang om een uitmatch op Badmintonvlaandere
 n in te vullen. Match info: Rivierenland 2G (62) - Klein Boom 2G (62) - Li
 nk: https://www.badmintonvlaanderen.be/sport/teammatch.aspx?id=A0E9B3BE-1D
 47-428D-8EB5-7807839F7498&match=852
DTSTART;TZID=Europe/Brussels:20251015T163000
DTEND;TZID=Europe/Brussels:20251015T163000
END:VEVENT
BEGIN:VEVENT
UID:A0E9B3BE-1D47-428D-8EB5-7807839F7498-20-849_awayreminder@125.badmintonn
 ers.net
DTSTAMP:20260420T043754Z
SUMMARY:Uitmatch bevestigd? (Brasschaat 3G (62) - Klein Boom 2G (62))
DESCRIPTION:Je hebt 72 uur na aanvang om een uitmatch op Badmintonvlaandere
 n in te vullen. Match info: Brasschaat 3G (62) - Klein Boom 2G (62) - Link
 : https://www.badmintonvlaanderen.be/sport/teammatch.aspx?id=A0E9B3BE-1D47
 -428D-8EB5-7807839F7498&match=849
DTSTART;TZID=Europe/Brussels:20260211T190000
DTEND;TZID=Europe/Brussels:20260211T190000
END:VEVENT
BEGIN:VEVENT
UID:A0E9B3BE-1D47-428D-8EB5-7807839F7498-20-853_awayreminder@125.badmintonn
 ers.net
DTSTAMP:20260420T043754Z
SUMMARY:Uitmatch bevestigd? (Smash 1G (73) - Klein Boom 2G (62))
DESCRIPTION:Je hebt 72 uur na aanvang om een uitmatch op Badmintonvlaandere
 n in te vullen. Match info: Smash 1G (73) - Klein Boom 2G (62) - Link: htt
 ps://www.badmintonvlaanderen.be/sport/teammatch.aspx?id=A0E9B3BE-1D47-428D
 -8EB5-7807839F7498&match=853
DTSTART;TZID=Europe/Brussels:20260304T100000
DTEND;TZID=Europe/Brussels:20260304T100000
END:VEVENT
BEGIN:VEVENT
UID:A0E9B3BE-1D47-428D-8EB5-7807839F7498-20-851_awayreminder@125.badmintonn
 ers.net
DTSTAMP:20260420T043754Z
SUMMARY:Uitmatch bevestigd? (Beerke 1G (67) - Klein Boom 2G (62))
DESCRIPTION:Je hebt 72 uur na aanvang om een uitmatch op Badmintonvlaandere
 n in te vullen. Match info: Beerke 1G (67) - Klein Boom 2G (62) - Link: ht
 tps://www.badmintonvlaanderen.be/sport/teammatch.aspx?id=A0E9B3BE-1D47-428
 D-8EB5-7807839F7498&match=851
DTSTART;TZID=Europe/Brussels:20260318T100000
DTEND;TZID=Europe/Brussels:20260318T100000
END:VEVENT
END:VCALENDAR