BEGIN:VCALENDAR
VERSION:2.0
PRODID:spatie/icalendar-generator
NAME:rivierenland_2g_62_reminders
X-WR-CALNAME:rivierenland_2g_62_reminders
BEGIN:VTIMEZONE
TZID:Europe/Brussels
BEGIN:DAYLIGHT
DTSTART:20250330T010000
TZOFFSETFROM:+0100
TZOFFSETTO:+0200
END:DAYLIGHT
BEGIN:STANDARD
DTSTART:20251026T030000
TZOFFSETFROM:+0200
TZOFFSETTO:+0100
END:STANDARD
BEGIN:DAYLIGHT
DTSTART:20260329T010000
TZOFFSETFROM:+0100
TZOFFSETTO:+0200
END:DAYLIGHT
END:VTIMEZONE
BEGIN:VTIMEZONE
TZID:UTC
BEGIN:STANDARD
DTSTART:20250724T043741
TZOFFSETFROM:+0000
TZOFFSETTO:+0000
END:STANDARD
END:VTIMEZONE
BEGIN:VEVENT
UID:A0E9B3BE-1D47-428D-8EB5-7807839F7498-20-852_homereminder@127.badmintonn
 ers.net
DTSTAMP:20260420T043741Z
SUMMARY:Thuismatch ingevuld? (Rivierenland 2G (62) - Klein Boom 2G (62))
DESCRIPTION:Je hebt 36 uur na aanvang om een thuismatch op Badmintonvlaande
 ren in te vullen. Match info: Rivierenland 2G (62) - Klein Boom 2G (62) - 
 Link: https://www.badmintonvlaanderen.be/sport/teammatch.aspx?id=A0E9B3BE-
 1D47-428D-8EB5-7807839F7498&match=852
DTSTART;TZID=Europe/Brussels:20251014T043000
DTEND;TZID=Europe/Brussels:20251014T043000
END:VEVENT
BEGIN:VEVENT
UID:A0E9B3BE-1D47-428D-8EB5-7807839F7498-20-821_homereminder@127.badmintonn
 ers.net
DTSTAMP:20260420T043741Z
SUMMARY:Thuismatch ingevuld? (Rivierenland 2G (62) - Bacss 1G (74))
DESCRIPTION:Je hebt 36 uur na aanvang om een thuismatch op Badmintonvlaande
 ren in te vullen. Match info: Rivierenland 2G (62) - Bacss 1G (74) - Link:
  https://www.badmintonvlaanderen.be/sport/teammatch.aspx?id=A0E9B3BE-1D47-
 428D-8EB5-7807839F7498&match=821
DTSTART;TZID=Europe/Brussels:20251028T043000
DTEND;TZID=Europe/Brussels:20251028T043000
END:VEVENT
BEGIN:VEVENT
UID:A0E9B3BE-1D47-428D-8EB5-7807839F7498-20-833_homereminder@127.badmintonn
 ers.net
DTSTAMP:20260420T043741Z
SUMMARY:Thuismatch ingevuld? (Rivierenland 2G (62) - Rita Serveert 1G (61))
DESCRIPTION:Je hebt 36 uur na aanvang om een thuismatch op Badmintonvlaande
 ren in te vullen. Match info: Rivierenland 2G (62) - Rita Serveert 1G (61)
  - Link: https://www.badmintonvlaanderen.be/sport/teammatch.aspx?id=A0E9B3
 BE-1D47-428D-8EB5-7807839F7498&match=833
DTSTART;TZID=Europe/Brussels:20251223T043000
DTEND;TZID=Europe/Brussels:20251223T043000
END:VEVENT
BEGIN:VEVENT
UID:A0E9B3BE-1D47-428D-8EB5-7807839F7498-20-858_homereminder@127.badmintonn
 ers.net
DTSTAMP:20260420T043741Z
SUMMARY:Thuismatch ingevuld? (Rivierenland 2G (62) - Smash 1G (73))
DESCRIPTION:Je hebt 36 uur na aanvang om een thuismatch op Badmintonvlaande
 ren in te vullen. Match info: Rivierenland 2G (62) - Smash 1G (73) - Link:
  https://www.badmintonvlaanderen.be/sport/teammatch.aspx?id=A0E9B3BE-1D47-
 428D-8EB5-7807839F7498&match=858
DTSTART;TZID=Europe/Brussels:20260203T043000
DTEND;TZID=Europe/Brussels:20260203T043000
END:VEVENT
BEGIN:VEVENT
UID:A0E9B3BE-1D47-428D-8EB5-7807839F7498-20-827_homereminder@127.badmintonn
 ers.net
DTSTAMP:20260420T043741Z
SUMMARY:Thuismatch ingevuld? (Rivierenland 2G (62) - Brasschaat 3G (62))
DESCRIPTION:Je hebt 36 uur na aanvang om een thuismatch op Badmintonvlaande
 ren in te vullen. Match info: Rivierenland 2G (62) - Brasschaat 3G (62) - 
 Link: https://www.badmintonvlaanderen.be/sport/teammatch.aspx?id=A0E9B3BE-
 1D47-428D-8EB5-7807839F7498&match=827
DTSTART;TZID=Europe/Brussels:20260308T080000
DTEND;TZID=Europe/Brussels:20260308T080000
END:VEVENT
BEGIN:VEVENT
UID:A0E9B3BE-1D47-428D-8EB5-7807839F7498-20-839_homereminder@127.badmintonn
 ers.net
DTSTAMP:20260420T043741Z
SUMMARY:Thuismatch ingevuld? (Rivierenland 2G (62) - Beerke 1G (67))
DESCRIPTION:Je hebt 36 uur na aanvang om een thuismatch op Badmintonvlaande
 ren in te vullen. Match info: Rivierenland 2G (62) - Beerke 1G (67) - Link
 : https://www.badmintonvlaanderen.be/sport/teammatch.aspx?id=A0E9B3BE-1D47
 -428D-8EB5-7807839F7498&match=839
DTSTART;TZID=Europe/Brussels:20260414T043000
DTEND;TZID=Europe/Brussels:20260414T043000
END:VEVENT
BEGIN:VEVENT
UID:A0E9B3BE-1D47-428D-8EB5-7807839F7498-20-847_awayreminder@127.badmintonn
 ers.net
DTSTAMP:20260420T043741Z
SUMMARY:Uitmatch bevestigd? (Smash 1G (73) - Rivierenland 2G (62))
DESCRIPTION:Je hebt 72 uur na aanvang om een uitmatch op Badmintonvlaandere
 n in te vullen. Match info: Smash 1G (73) - Rivierenland 2G (62) - Link: h
 ttps://www.badmintonvlaanderen.be/sport/teammatch.aspx?id=A0E9B3BE-1D47-42
 8D-8EB5-7807839F7498&match=847
DTSTART;TZID=Europe/Brussels:20251005T200000
DTEND;TZID=Europe/Brussels:20251005T200000
END:VEVENT
BEGIN:VEVENT
UID:A0E9B3BE-1D47-428D-8EB5-7807839F7498-20-843_awayreminder@127.badmintonn
 ers.net
DTSTAMP:20260420T043741Z
SUMMARY:Uitmatch bevestigd? (Brasschaat 3G (62) - Rivierenland 2G (62))
DESCRIPTION:Je hebt 72 uur na aanvang om een uitmatch op Badmintonvlaandere
 n in te vullen. Match info: Brasschaat 3G (62) - Rivierenland 2G (62) - Li
 nk: https://www.badmintonvlaanderen.be/sport/teammatch.aspx?id=A0E9B3BE-1D
 47-428D-8EB5-7807839F7498&match=843
DTSTART;TZID=Europe/Brussels:20251126T190000
DTEND;TZID=Europe/Brussels:20251126T190000
END:VEVENT
BEGIN:VEVENT
UID:A0E9B3BE-1D47-428D-8EB5-7807839F7498-20-845_awayreminder@127.badmintonn
 ers.net
DTSTAMP:20260420T043741Z
SUMMARY:Uitmatch bevestigd? (Beerke 1G (67) - Rivierenland 2G (62))
DESCRIPTION:Je hebt 72 uur na aanvang om een uitmatch op Badmintonvlaandere
 n in te vullen. Match info: Beerke 1G (67) - Rivierenland 2G (62) - Link: 
 https://www.badmintonvlaanderen.be/sport/teammatch.aspx?id=A0E9B3BE-1D47-4
 28D-8EB5-7807839F7498&match=845
DTSTART;TZID=Europe/Brussels:20251210T100000
DTEND;TZID=Europe/Brussels:20251210T100000
END:VEVENT
BEGIN:VEVENT
UID:A0E9B3BE-1D47-428D-8EB5-7807839F7498-20-846_awayreminder@127.badmintonn
 ers.net
DTSTAMP:20260420T043741Z
SUMMARY:Uitmatch bevestigd? (Klein Boom 2G (62) - Rivierenland 2G (62))
DESCRIPTION:Je hebt 72 uur na aanvang om een uitmatch op Badmintonvlaandere
 n in te vullen. Match info: Klein Boom 2G (62) - Rivierenland 2G (62) - Li
 nk: https://www.badmintonvlaanderen.be/sport/teammatch.aspx?id=A0E9B3BE-1D
 47-428D-8EB5-7807839F7498&match=846
DTSTART;TZID=Europe/Brussels:20260121T190000
DTEND;TZID=Europe/Brussels:20260121T190000
END:VEVENT
BEGIN:VEVENT
UID:A0E9B3BE-1D47-428D-8EB5-7807839F7498-20-842_awayreminder@127.badmintonn
 ers.net
DTSTAMP:20260420T043741Z
SUMMARY:Uitmatch bevestigd? (Bacss 1G (74) - Rivierenland 2G (62))
DESCRIPTION:Je hebt 72 uur na aanvang om een uitmatch op Badmintonvlaandere
 n in te vullen. Match info: Bacss 1G (74) - Rivierenland 2G (62) - Link: h
 ttps://www.badmintonvlaanderen.be/sport/teammatch.aspx?id=A0E9B3BE-1D47-42
 8D-8EB5-7807839F7498&match=842
DTSTART;TZID=Europe/Brussels:20260302T201500
DTEND;TZID=Europe/Brussels:20260302T201500
END:VEVENT
BEGIN:VEVENT
UID:A0E9B3BE-1D47-428D-8EB5-7807839F7498-20-844_awayreminder@127.badmintonn
 ers.net
DTSTAMP:20260420T043741Z
SUMMARY:Uitmatch bevestigd? (Rita Serveert 1G (61) - Rivierenland 2G (62))
DESCRIPTION:Je hebt 72 uur na aanvang om een uitmatch op Badmintonvlaandere
 n in te vullen. Match info: Rita Serveert 1G (61) - Rivierenland 2G (62) -
  Link: https://www.badmintonvlaanderen.be/sport/teammatch.aspx?id=A0E9B3BE
 -1D47-428D-8EB5-7807839F7498&match=844
DTSTART;TZID=Europe/Brussels:20260304T190000
DTEND;TZID=Europe/Brussels:20260304T190000
END:VEVENT
END:VCALENDAR