BEGIN:VCALENDAR
VERSION:2.0
PRODID:spatie/icalendar-generator
NAME:bacss_1g_74_reminders
X-WR-CALNAME:bacss_1g_74_reminders
BEGIN:VTIMEZONE
TZID:Europe/Brussels
BEGIN:DAYLIGHT
DTSTART:20250330T010000
TZOFFSETFROM:+0100
TZOFFSETTO:+0200
END:DAYLIGHT
BEGIN:STANDARD
DTSTART:20251026T030000
TZOFFSETFROM:+0200
TZOFFSETTO:+0100
END:STANDARD
BEGIN:DAYLIGHT
DTSTART:20260329T010000
TZOFFSETFROM:+0100
TZOFFSETTO:+0200
END:DAYLIGHT
BEGIN:STANDARD
DTSTART:20261025T030000
TZOFFSETFROM:+0200
TZOFFSETTO:+0100
END:STANDARD
END:VTIMEZONE
BEGIN:VTIMEZONE
TZID:UTC
BEGIN:STANDARD
DTSTART:20250724T043608
TZOFFSETFROM:+0000
TZOFFSETTO:+0000
END:STANDARD
END:VTIMEZONE
BEGIN:VEVENT
UID:A0E9B3BE-1D47-428D-8EB5-7807839F7498-20-836_homereminder@129.badmintonn
 ers.net
DTSTAMP:20260420T043608Z
SUMMARY:Thuismatch ingevuld? (Bacss 1G (74) - Beerke 1G (67))
DESCRIPTION:Je hebt 36 uur na aanvang om een thuismatch op Badmintonvlaande
 ren in te vullen. Match info: Bacss 1G (74) - Beerke 1G (67) - Link: https
 ://www.badmintonvlaanderen.be/sport/teammatch.aspx?id=A0E9B3BE-1D47-428D-8
 EB5-7807839F7498&match=836
DTSTART;TZID=Europe/Brussels:20250914T081500
DTEND;TZID=Europe/Brussels:20250914T081500
END:VEVENT
BEGIN:VEVENT
UID:A0E9B3BE-1D47-428D-8EB5-7807839F7498-20-848_homereminder@129.badmintonn
 ers.net
DTSTAMP:20260420T043608Z
SUMMARY:Thuismatch ingevuld? (Bacss 1G (74) - Klein Boom 2G (62))
DESCRIPTION:Je hebt 36 uur na aanvang om een thuismatch op Badmintonvlaande
 ren in te vullen. Match info: Bacss 1G (74) - Klein Boom 2G (62) - Link: h
 ttps://www.badmintonvlaanderen.be/sport/teammatch.aspx?id=A0E9B3BE-1D47-42
 8D-8EB5-7807839F7498&match=848
DTSTART;TZID=Europe/Brussels:20250929T220000
DTEND;TZID=Europe/Brussels:20250929T220000
END:VEVENT
BEGIN:VEVENT
UID:A0E9B3BE-1D47-428D-8EB5-7807839F7498-20-824_homereminder@129.badmintonn
 ers.net
DTSTAMP:20260420T043608Z
SUMMARY:Thuismatch ingevuld? (Bacss 1G (74) - Brasschaat 3G (62))
DESCRIPTION:Je hebt 36 uur na aanvang om een thuismatch op Badmintonvlaande
 ren in te vullen. Match info: Bacss 1G (74) - Brasschaat 3G (62) - Link: h
 ttps://www.badmintonvlaanderen.be/sport/teammatch.aspx?id=A0E9B3BE-1D47-42
 8D-8EB5-7807839F7498&match=824
DTSTART;TZID=Europe/Brussels:20251222T220000
DTEND;TZID=Europe/Brussels:20251222T220000
END:VEVENT
BEGIN:VEVENT
UID:A0E9B3BE-1D47-428D-8EB5-7807839F7498-20-830_homereminder@129.badmintonn
 ers.net
DTSTAMP:20260420T043608Z
SUMMARY:Thuismatch ingevuld? (Bacss 1G (74) - Rita Serveert 1G (61))
DESCRIPTION:Je hebt 36 uur na aanvang om een thuismatch op Badmintonvlaande
 ren in te vullen. Match info: Bacss 1G (74) - Rita Serveert 1G (61) - Link
 : https://www.badmintonvlaanderen.be/sport/teammatch.aspx?id=A0E9B3BE-1D47
 -428D-8EB5-7807839F7498&match=830
DTSTART;TZID=Europe/Brussels:20260125T081500
DTEND;TZID=Europe/Brussels:20260125T081500
END:VEVENT
BEGIN:VEVENT
UID:A0E9B3BE-1D47-428D-8EB5-7807839F7498-20-842_homereminder@129.badmintonn
 ers.net
DTSTAMP:20260420T043608Z
SUMMARY:Thuismatch ingevuld? (Bacss 1G (74) - Rivierenland 2G (62))
DESCRIPTION:Je hebt 36 uur na aanvang om een thuismatch op Badmintonvlaande
 ren in te vullen. Match info: Bacss 1G (74) - Rivierenland 2G (62) - Link:
  https://www.badmintonvlaanderen.be/sport/teammatch.aspx?id=A0E9B3BE-1D47-
 428D-8EB5-7807839F7498&match=842
DTSTART;TZID=Europe/Brussels:20260301T081500
DTEND;TZID=Europe/Brussels:20260301T081500
END:VEVENT
BEGIN:VEVENT
UID:A0E9B3BE-1D47-428D-8EB5-7807839F7498-20-854_homereminder@129.badmintonn
 ers.net
DTSTAMP:20260420T043608Z
SUMMARY:Thuismatch ingevuld? (Bacss 1G (74) - Smash 1G (73))
DESCRIPTION:Je hebt 36 uur na aanvang om een thuismatch op Badmintonvlaande
 ren in te vullen. Match info: Bacss 1G (74) - Smash 1G (73) - Link: https:
 //www.badmintonvlaanderen.be/sport/teammatch.aspx?id=A0E9B3BE-1D47-428D-8E
 B5-7807839F7498&match=854
DTSTART;TZID=Europe/Brussels:20260426T081500
DTEND;TZID=Europe/Brussels:20260426T081500
END:VEVENT
BEGIN:VEVENT
UID:A0E9B3BE-1D47-428D-8EB5-7807839F7498-20-819_awayreminder@129.badmintonn
 ers.net
DTSTAMP:20260420T043608Z
SUMMARY:Uitmatch bevestigd? (Rita Serveert 1G (61) - Bacss 1G (74))
DESCRIPTION:Je hebt 72 uur na aanvang om een uitmatch op Badmintonvlaandere
 n in te vullen. Match info: Rita Serveert 1G (61) - Bacss 1G (74) - Link: 
 https://www.badmintonvlaanderen.be/sport/teammatch.aspx?id=A0E9B3BE-1D47-4
 28D-8EB5-7807839F7498&match=819
DTSTART;TZID=Europe/Brussels:20251015T190000
DTEND;TZID=Europe/Brussels:20251015T190000
END:VEVENT
BEGIN:VEVENT
UID:A0E9B3BE-1D47-428D-8EB5-7807839F7498-20-821_awayreminder@129.badmintonn
 ers.net
DTSTAMP:20260420T043608Z
SUMMARY:Uitmatch bevestigd? (Rivierenland 2G (62) - Bacss 1G (74))
DESCRIPTION:Je hebt 72 uur na aanvang om een uitmatch op Badmintonvlaandere
 n in te vullen. Match info: Rivierenland 2G (62) - Bacss 1G (74) - Link: h
 ttps://www.badmintonvlaanderen.be/sport/teammatch.aspx?id=A0E9B3BE-1D47-42
 8D-8EB5-7807839F7498&match=821
DTSTART;TZID=Europe/Brussels:20251029T163000
DTEND;TZID=Europe/Brussels:20251029T163000
END:VEVENT
BEGIN:VEVENT
UID:A0E9B3BE-1D47-428D-8EB5-7807839F7498-20-823_awayreminder@129.badmintonn
 ers.net
DTSTAMP:20260420T043608Z
SUMMARY:Uitmatch bevestigd? (Smash 1G (73) - Bacss 1G (74))
DESCRIPTION:Je hebt 72 uur na aanvang om een uitmatch op Badmintonvlaandere
 n in te vullen. Match info: Smash 1G (73) - Bacss 1G (74) - Link: https://
 www.badmintonvlaanderen.be/sport/teammatch.aspx?id=A0E9B3BE-1D47-428D-8EB5
 -7807839F7498&match=823
DTSTART;TZID=Europe/Brussels:20251210T100000
DTEND;TZID=Europe/Brussels:20251210T100000
END:VEVENT
BEGIN:VEVENT
UID:A0E9B3BE-1D47-428D-8EB5-7807839F7498-20-820_awayreminder@129.badmintonn
 ers.net
DTSTAMP:20260420T043608Z
SUMMARY:Uitmatch bevestigd? (Beerke 1G (67) - Bacss 1G (74))
DESCRIPTION:Je hebt 72 uur na aanvang om een uitmatch op Badmintonvlaandere
 n in te vullen. Match info: Beerke 1G (67) - Bacss 1G (74) - Link: https:/
 /www.badmintonvlaanderen.be/sport/teammatch.aspx?id=A0E9B3BE-1D47-428D-8EB
 5-7807839F7498&match=820
DTSTART;TZID=Europe/Brussels:20260204T100000
DTEND;TZID=Europe/Brussels:20260204T100000
END:VEVENT
BEGIN:VEVENT
UID:A0E9B3BE-1D47-428D-8EB5-7807839F7498-20-818_awayreminder@129.badmintonn
 ers.net
DTSTAMP:20260420T043608Z
SUMMARY:Uitmatch bevestigd? (Brasschaat 3G (62) - Bacss 1G (74))
DESCRIPTION:Je hebt 72 uur na aanvang om een uitmatch op Badmintonvlaandere
 n in te vullen. Match info: Brasschaat 3G (62) - Bacss 1G (74) - Link: htt
 ps://www.badmintonvlaanderen.be/sport/teammatch.aspx?id=A0E9B3BE-1D47-428D
 -8EB5-7807839F7498&match=818
DTSTART;TZID=Europe/Brussels:20260318T190000
DTEND;TZID=Europe/Brussels:20260318T190000
END:VEVENT
BEGIN:VEVENT
UID:A0E9B3BE-1D47-428D-8EB5-7807839F7498-20-822_awayreminder@129.badmintonn
 ers.net
DTSTAMP:20260420T043608Z
SUMMARY:Uitmatch bevestigd? (Klein Boom 2G (62) - Bacss 1G (74))
DESCRIPTION:Je hebt 72 uur na aanvang om een uitmatch op Badmintonvlaandere
 n in te vullen. Match info: Klein Boom 2G (62) - Bacss 1G (74) - Link: htt
 ps://www.badmintonvlaanderen.be/sport/teammatch.aspx?id=A0E9B3BE-1D47-428D
 -8EB5-7807839F7498&match=822
DTSTART;TZID=Europe/Brussels:20260422T190000
DTEND;TZID=Europe/Brussels:20260422T190000
END:VEVENT
END:VCALENDAR