BEGIN:VCALENDAR
VERSION:2.0
PRODID:spatie/icalendar-generator
NAME:beerke_1g_67_reminders
X-WR-CALNAME:beerke_1g_67_reminders
BEGIN:VTIMEZONE
TZID:Europe/Brussels
BEGIN:DAYLIGHT
DTSTART:20250330T010000
TZOFFSETFROM:+0100
TZOFFSETTO:+0200
END:DAYLIGHT
BEGIN:STANDARD
DTSTART:20251026T030000
TZOFFSETFROM:+0200
TZOFFSETTO:+0100
END:STANDARD
BEGIN:DAYLIGHT
DTSTART:20260329T010000
TZOFFSETFROM:+0100
TZOFFSETTO:+0200
END:DAYLIGHT
END:VTIMEZONE
BEGIN:VTIMEZONE
TZID:UTC
BEGIN:STANDARD
DTSTART:20250724T043741
TZOFFSETFROM:+0000
TZOFFSETTO:+0000
END:STANDARD
END:VTIMEZONE
BEGIN:VEVENT
UID:A0E9B3BE-1D47-428D-8EB5-7807839F7498-20-826_homereminder@130.badmintonn
 ers.net
DTSTAMP:20260420T043741Z
SUMMARY:Thuismatch ingevuld? (Beerke 1G (67) - Brasschaat 3G (62))
DESCRIPTION:Je hebt 36 uur na aanvang om een thuismatch op Badmintonvlaande
 ren in te vullen. Match info: Beerke 1G (67) - Brasschaat 3G (62) - Link: 
 https://www.badmintonvlaanderen.be/sport/teammatch.aspx?id=A0E9B3BE-1D47-4
 28D-8EB5-7807839F7498&match=826
DTSTART;TZID=Europe/Brussels:20251027T220000
DTEND;TZID=Europe/Brussels:20251027T220000
END:VEVENT
BEGIN:VEVENT
UID:A0E9B3BE-1D47-428D-8EB5-7807839F7498-20-857_homereminder@130.badmintonn
 ers.net
DTSTAMP:20260420T043741Z
SUMMARY:Thuismatch ingevuld? (Beerke 1G (67) - Smash 1G (73))
DESCRIPTION:Je hebt 36 uur na aanvang om een thuismatch op Badmintonvlaande
 ren in te vullen. Match info: Beerke 1G (67) - Smash 1G (73) - Link: https
 ://www.badmintonvlaanderen.be/sport/teammatch.aspx?id=A0E9B3BE-1D47-428D-8
 EB5-7807839F7498&match=857
DTSTART;TZID=Europe/Brussels:20251201T220000
DTEND;TZID=Europe/Brussels:20251201T220000
END:VEVENT
BEGIN:VEVENT
UID:A0E9B3BE-1D47-428D-8EB5-7807839F7498-20-845_homereminder@130.badmintonn
 ers.net
DTSTAMP:20260420T043741Z
SUMMARY:Thuismatch ingevuld? (Beerke 1G (67) - Rivierenland 2G (62))
DESCRIPTION:Je hebt 36 uur na aanvang om een thuismatch op Badmintonvlaande
 ren in te vullen. Match info: Beerke 1G (67) - Rivierenland 2G (62) - Link
 : https://www.badmintonvlaanderen.be/sport/teammatch.aspx?id=A0E9B3BE-1D47
 -428D-8EB5-7807839F7498&match=845
DTSTART;TZID=Europe/Brussels:20251208T220000
DTEND;TZID=Europe/Brussels:20251208T220000
END:VEVENT
BEGIN:VEVENT
UID:A0E9B3BE-1D47-428D-8EB5-7807839F7498-20-820_homereminder@130.badmintonn
 ers.net
DTSTAMP:20260420T043741Z
SUMMARY:Thuismatch ingevuld? (Beerke 1G (67) - Bacss 1G (74))
DESCRIPTION:Je hebt 36 uur na aanvang om een thuismatch op Badmintonvlaande
 ren in te vullen. Match info: Beerke 1G (67) - Bacss 1G (74) - Link: https
 ://www.badmintonvlaanderen.be/sport/teammatch.aspx?id=A0E9B3BE-1D47-428D-8
 EB5-7807839F7498&match=820
DTSTART;TZID=Europe/Brussels:20260202T220000
DTEND;TZID=Europe/Brussels:20260202T220000
END:VEVENT
BEGIN:VEVENT
UID:A0E9B3BE-1D47-428D-8EB5-7807839F7498-20-832_homereminder@130.badmintonn
 ers.net
DTSTAMP:20260420T043741Z
SUMMARY:Thuismatch ingevuld? (Beerke 1G (67) - Rita Serveert 1G (61))
DESCRIPTION:Je hebt 36 uur na aanvang om een thuismatch op Badmintonvlaande
 ren in te vullen. Match info: Beerke 1G (67) - Rita Serveert 1G (61) - Lin
 k: https://www.badmintonvlaanderen.be/sport/teammatch.aspx?id=A0E9B3BE-1D4
 7-428D-8EB5-7807839F7498&match=832
DTSTART;TZID=Europe/Brussels:20260216T220000
DTEND;TZID=Europe/Brussels:20260216T220000
END:VEVENT
BEGIN:VEVENT
UID:A0E9B3BE-1D47-428D-8EB5-7807839F7498-20-851_homereminder@130.badmintonn
 ers.net
DTSTAMP:20260420T043741Z
SUMMARY:Thuismatch ingevuld? (Beerke 1G (67) - Klein Boom 2G (62))
DESCRIPTION:Je hebt 36 uur na aanvang om een thuismatch op Badmintonvlaande
 ren in te vullen. Match info: Beerke 1G (67) - Klein Boom 2G (62) - Link: 
 https://www.badmintonvlaanderen.be/sport/teammatch.aspx?id=A0E9B3BE-1D47-4
 28D-8EB5-7807839F7498&match=851
DTSTART;TZID=Europe/Brussels:20260316T220000
DTEND;TZID=Europe/Brussels:20260316T220000
END:VEVENT
BEGIN:VEVENT
UID:A0E9B3BE-1D47-428D-8EB5-7807839F7498-20-836_awayreminder@130.badmintonn
 ers.net
DTSTAMP:20260420T043741Z
SUMMARY:Uitmatch bevestigd? (Bacss 1G (74) - Beerke 1G (67))
DESCRIPTION:Je hebt 72 uur na aanvang om een uitmatch op Badmintonvlaandere
 n in te vullen. Match info: Bacss 1G (74) - Beerke 1G (67) - Link: https:/
 /www.badmintonvlaanderen.be/sport/teammatch.aspx?id=A0E9B3BE-1D47-428D-8EB
 5-7807839F7498&match=836
DTSTART;TZID=Europe/Brussels:20250915T201500
DTEND;TZID=Europe/Brussels:20250915T201500
END:VEVENT
BEGIN:VEVENT
UID:A0E9B3BE-1D47-428D-8EB5-7807839F7498-20-838_awayreminder@130.badmintonn
 ers.net
DTSTAMP:20260420T043741Z
SUMMARY:Uitmatch bevestigd? (Rita Serveert 1G (61) - Beerke 1G (67))
DESCRIPTION:Je hebt 72 uur na aanvang om een uitmatch op Badmintonvlaandere
 n in te vullen. Match info: Rita Serveert 1G (61) - Beerke 1G (67) - Link:
  https://www.badmintonvlaanderen.be/sport/teammatch.aspx?id=A0E9B3BE-1D47-
 428D-8EB5-7807839F7498&match=838
DTSTART;TZID=Europe/Brussels:20251126T190000
DTEND;TZID=Europe/Brussels:20251126T190000
END:VEVENT
BEGIN:VEVENT
UID:A0E9B3BE-1D47-428D-8EB5-7807839F7498-20-840_awayreminder@130.badmintonn
 ers.net
DTSTAMP:20260420T043741Z
SUMMARY:Uitmatch bevestigd? (Klein Boom 2G (62) - Beerke 1G (67))
DESCRIPTION:Je hebt 72 uur na aanvang om een uitmatch op Badmintonvlaandere
 n in te vullen. Match info: Klein Boom 2G (62) - Beerke 1G (67) - Link: ht
 tps://www.badmintonvlaanderen.be/sport/teammatch.aspx?id=A0E9B3BE-1D47-428
 D-8EB5-7807839F7498&match=840
DTSTART;TZID=Europe/Brussels:20251217T190000
DTEND;TZID=Europe/Brussels:20251217T190000
END:VEVENT
BEGIN:VEVENT
UID:A0E9B3BE-1D47-428D-8EB5-7807839F7498-20-841_awayreminder@130.badmintonn
 ers.net
DTSTAMP:20260420T043741Z
SUMMARY:Uitmatch bevestigd? (Smash 1G (73) - Beerke 1G (67))
DESCRIPTION:Je hebt 72 uur na aanvang om een uitmatch op Badmintonvlaandere
 n in te vullen. Match info: Smash 1G (73) - Beerke 1G (67) - Link: https:/
 /www.badmintonvlaanderen.be/sport/teammatch.aspx?id=A0E9B3BE-1D47-428D-8EB
 5-7807839F7498&match=841
DTSTART;TZID=Europe/Brussels:20260111T200000
DTEND;TZID=Europe/Brussels:20260111T200000
END:VEVENT
BEGIN:VEVENT
UID:A0E9B3BE-1D47-428D-8EB5-7807839F7498-20-837_awayreminder@130.badmintonn
 ers.net
DTSTAMP:20260420T043741Z
SUMMARY:Uitmatch bevestigd? (Brasschaat 3G (62) - Beerke 1G (67))
DESCRIPTION:Je hebt 72 uur na aanvang om een uitmatch op Badmintonvlaandere
 n in te vullen. Match info: Brasschaat 3G (62) - Beerke 1G (67) - Link: ht
 tps://www.badmintonvlaanderen.be/sport/teammatch.aspx?id=A0E9B3BE-1D47-428
 D-8EB5-7807839F7498&match=837
DTSTART;TZID=Europe/Brussels:20260304T190000
DTEND;TZID=Europe/Brussels:20260304T190000
END:VEVENT
BEGIN:VEVENT
UID:A0E9B3BE-1D47-428D-8EB5-7807839F7498-20-839_awayreminder@130.badmintonn
 ers.net
DTSTAMP:20260420T043741Z
SUMMARY:Uitmatch bevestigd? (Rivierenland 2G (62) - Beerke 1G (67))
DESCRIPTION:Je hebt 72 uur na aanvang om een uitmatch op Badmintonvlaandere
 n in te vullen. Match info: Rivierenland 2G (62) - Beerke 1G (67) - Link: 
 https://www.badmintonvlaanderen.be/sport/teammatch.aspx?id=A0E9B3BE-1D47-4
 28D-8EB5-7807839F7498&match=839
DTSTART;TZID=Europe/Brussels:20260415T163000
DTEND;TZID=Europe/Brussels:20260415T163000
END:VEVENT
END:VCALENDAR