BEGIN:VCALENDAR
VERSION:2.0
PRODID:spatie/icalendar-generator
NAME:rita_serveert_1g_61_reminders
X-WR-CALNAME:rita_serveert_1g_61_reminders
BEGIN:VTIMEZONE
TZID:Europe/Brussels
BEGIN:DAYLIGHT
DTSTART:20250330T010000
TZOFFSETFROM:+0100
TZOFFSETTO:+0200
END:DAYLIGHT
BEGIN:STANDARD
DTSTART:20251026T030000
TZOFFSETFROM:+0200
TZOFFSETTO:+0100
END:STANDARD
BEGIN:DAYLIGHT
DTSTART:20260329T010000
TZOFFSETFROM:+0100
TZOFFSETTO:+0200
END:DAYLIGHT
END:VTIMEZONE
BEGIN:VTIMEZONE
TZID:UTC
BEGIN:STANDARD
DTSTART:20250724T055114
TZOFFSETFROM:+0000
TZOFFSETTO:+0000
END:STANDARD
END:VTIMEZONE
BEGIN:VEVENT
UID:A0E9B3BE-1D47-428D-8EB5-7807839F7498-20-850_homereminder@131.badmintonn
 ers.net
DTSTAMP:20260420T055114Z
SUMMARY:Thuismatch ingevuld? (Rita Serveert 1G (61) - Klein Boom 2G (62))
DESCRIPTION:Je hebt 36 uur na aanvang om een thuismatch op Badmintonvlaande
 ren in te vullen. Match info: Rita Serveert 1G (61) - Klein Boom 2G (62) -
  Link: https://www.badmintonvlaanderen.be/sport/teammatch.aspx?id=A0E9B3BE
 -1D47-428D-8EB5-7807839F7498&match=850
DTSTART;TZID=Europe/Brussels:20250916T070000
DTEND;TZID=Europe/Brussels:20250916T070000
END:VEVENT
BEGIN:VEVENT
UID:A0E9B3BE-1D47-428D-8EB5-7807839F7498-20-819_homereminder@131.badmintonn
 ers.net
DTSTAMP:20260420T055114Z
SUMMARY:Thuismatch ingevuld? (Rita Serveert 1G (61) - Bacss 1G (74))
DESCRIPTION:Je hebt 36 uur na aanvang om een thuismatch op Badmintonvlaande
 ren in te vullen. Match info: Rita Serveert 1G (61) - Bacss 1G (74) - Link
 : https://www.badmintonvlaanderen.be/sport/teammatch.aspx?id=A0E9B3BE-1D47
 -428D-8EB5-7807839F7498&match=819
DTSTART;TZID=Europe/Brussels:20251014T070000
DTEND;TZID=Europe/Brussels:20251014T070000
END:VEVENT
BEGIN:VEVENT
UID:A0E9B3BE-1D47-428D-8EB5-7807839F7498-20-838_homereminder@131.badmintonn
 ers.net
DTSTAMP:20260420T055114Z
SUMMARY:Thuismatch ingevuld? (Rita Serveert 1G (61) - Beerke 1G (67))
DESCRIPTION:Je hebt 36 uur na aanvang om een thuismatch op Badmintonvlaande
 ren in te vullen. Match info: Rita Serveert 1G (61) - Beerke 1G (67) - Lin
 k: https://www.badmintonvlaanderen.be/sport/teammatch.aspx?id=A0E9B3BE-1D4
 7-428D-8EB5-7807839F7498&match=838
DTSTART;TZID=Europe/Brussels:20251125T070000
DTEND;TZID=Europe/Brussels:20251125T070000
END:VEVENT
BEGIN:VEVENT
UID:A0E9B3BE-1D47-428D-8EB5-7807839F7498-20-856_homereminder@131.badmintonn
 ers.net
DTSTAMP:20260420T055114Z
SUMMARY:Thuismatch ingevuld? (Rita Serveert 1G (61) - Smash 1G (73))
DESCRIPTION:Je hebt 36 uur na aanvang om een thuismatch op Badmintonvlaande
 ren in te vullen. Match info: Rita Serveert 1G (61) - Smash 1G (73) - Link
 : https://www.badmintonvlaanderen.be/sport/teammatch.aspx?id=A0E9B3BE-1D47
 -428D-8EB5-7807839F7498&match=856
DTSTART;TZID=Europe/Brussels:20260120T070000
DTEND;TZID=Europe/Brussels:20260120T070000
END:VEVENT
BEGIN:VEVENT
UID:A0E9B3BE-1D47-428D-8EB5-7807839F7498-20-825_homereminder@131.badmintonn
 ers.net
DTSTAMP:20260420T055114Z
SUMMARY:Thuismatch ingevuld? (Rita Serveert 1G (61) - Brasschaat 3G (62))
DESCRIPTION:Je hebt 36 uur na aanvang om een thuismatch op Badmintonvlaande
 ren in te vullen. Match info: Rita Serveert 1G (61) - Brasschaat 3G (62) -
  Link: https://www.badmintonvlaanderen.be/sport/teammatch.aspx?id=A0E9B3BE
 -1D47-428D-8EB5-7807839F7498&match=825
DTSTART;TZID=Europe/Brussels:20260203T070000
DTEND;TZID=Europe/Brussels:20260203T070000
END:VEVENT
BEGIN:VEVENT
UID:A0E9B3BE-1D47-428D-8EB5-7807839F7498-20-844_homereminder@131.badmintonn
 ers.net
DTSTAMP:20260420T055114Z
SUMMARY:Thuismatch ingevuld? (Rita Serveert 1G (61) - Rivierenland 2G (62))
DESCRIPTION:Je hebt 36 uur na aanvang om een thuismatch op Badmintonvlaande
 ren in te vullen. Match info: Rita Serveert 1G (61) - Rivierenland 2G (62)
  - Link: https://www.badmintonvlaanderen.be/sport/teammatch.aspx?id=A0E9B3
 BE-1D47-428D-8EB5-7807839F7498&match=844
DTSTART;TZID=Europe/Brussels:20260303T070000
DTEND;TZID=Europe/Brussels:20260303T070000
END:VEVENT
BEGIN:VEVENT
UID:A0E9B3BE-1D47-428D-8EB5-7807839F7498-20-831_awayreminder@131.badmintonn
 ers.net
DTSTAMP:20260420T055114Z
SUMMARY:Uitmatch bevestigd? (Brasschaat 3G (62) - Rita Serveert 1G (61))
DESCRIPTION:Je hebt 72 uur na aanvang om een uitmatch op Badmintonvlaandere
 n in te vullen. Match info: Brasschaat 3G (62) - Rita Serveert 1G (61) - L
 ink: https://www.badmintonvlaanderen.be/sport/teammatch.aspx?id=A0E9B3BE-1
 D47-428D-8EB5-7807839F7498&match=831
DTSTART;TZID=Europe/Brussels:20251112T190000
DTEND;TZID=Europe/Brussels:20251112T190000
END:VEVENT
BEGIN:VEVENT
UID:A0E9B3BE-1D47-428D-8EB5-7807839F7498-20-835_awayreminder@131.badmintonn
 ers.net
DTSTAMP:20260420T055114Z
SUMMARY:Uitmatch bevestigd? (Smash 1G (73) - Rita Serveert 1G (61))
DESCRIPTION:Je hebt 72 uur na aanvang om een uitmatch op Badmintonvlaandere
 n in te vullen. Match info: Smash 1G (73) - Rita Serveert 1G (61) - Link: 
 https://www.badmintonvlaanderen.be/sport/teammatch.aspx?id=A0E9B3BE-1D47-4
 28D-8EB5-7807839F7498&match=835
DTSTART;TZID=Europe/Brussels:20251123T200000
DTEND;TZID=Europe/Brussels:20251123T200000
END:VEVENT
BEGIN:VEVENT
UID:A0E9B3BE-1D47-428D-8EB5-7807839F7498-20-833_awayreminder@131.badmintonn
 ers.net
DTSTAMP:20260420T055114Z
SUMMARY:Uitmatch bevestigd? (Rivierenland 2G (62) - Rita Serveert 1G (61))
DESCRIPTION:Je hebt 72 uur na aanvang om een uitmatch op Badmintonvlaandere
 n in te vullen. Match info: Rivierenland 2G (62) - Rita Serveert 1G (61) -
  Link: https://www.badmintonvlaanderen.be/sport/teammatch.aspx?id=A0E9B3BE
 -1D47-428D-8EB5-7807839F7498&match=833
DTSTART;TZID=Europe/Brussels:20251224T163000
DTEND;TZID=Europe/Brussels:20251224T163000
END:VEVENT
BEGIN:VEVENT
UID:A0E9B3BE-1D47-428D-8EB5-7807839F7498-20-830_awayreminder@131.badmintonn
 ers.net
DTSTAMP:20260420T055114Z
SUMMARY:Uitmatch bevestigd? (Bacss 1G (74) - Rita Serveert 1G (61))
DESCRIPTION:Je hebt 72 uur na aanvang om een uitmatch op Badmintonvlaandere
 n in te vullen. Match info: Bacss 1G (74) - Rita Serveert 1G (61) - Link: 
 https://www.badmintonvlaanderen.be/sport/teammatch.aspx?id=A0E9B3BE-1D47-4
 28D-8EB5-7807839F7498&match=830
DTSTART;TZID=Europe/Brussels:20260126T201500
DTEND;TZID=Europe/Brussels:20260126T201500
END:VEVENT
BEGIN:VEVENT
UID:A0E9B3BE-1D47-428D-8EB5-7807839F7498-20-832_awayreminder@131.badmintonn
 ers.net
DTSTAMP:20260420T055114Z
SUMMARY:Uitmatch bevestigd? (Beerke 1G (67) - Rita Serveert 1G (61))
DESCRIPTION:Je hebt 72 uur na aanvang om een uitmatch op Badmintonvlaandere
 n in te vullen. Match info: Beerke 1G (67) - Rita Serveert 1G (61) - Link:
  https://www.badmintonvlaanderen.be/sport/teammatch.aspx?id=A0E9B3BE-1D47-
 428D-8EB5-7807839F7498&match=832
DTSTART;TZID=Europe/Brussels:20260218T100000
DTEND;TZID=Europe/Brussels:20260218T100000
END:VEVENT
BEGIN:VEVENT
UID:A0E9B3BE-1D47-428D-8EB5-7807839F7498-20-834_awayreminder@131.badmintonn
 ers.net
DTSTAMP:20260420T055114Z
SUMMARY:Uitmatch bevestigd? (Klein Boom 2G (62) - Rita Serveert 1G (61))
DESCRIPTION:Je hebt 72 uur na aanvang om een uitmatch op Badmintonvlaandere
 n in te vullen. Match info: Klein Boom 2G (62) - Rita Serveert 1G (61) - L
 ink: https://www.badmintonvlaanderen.be/sport/teammatch.aspx?id=A0E9B3BE-1
 D47-428D-8EB5-7807839F7498&match=834
DTSTART;TZID=Europe/Brussels:20260401T190000
DTEND;TZID=Europe/Brussels:20260401T190000
END:VEVENT
END:VCALENDAR