BEGIN:VCALENDAR
VERSION:2.0
PRODID:spatie/icalendar-generator
NAME:zoersel_4g_87_reminders
X-WR-CALNAME:zoersel_4g_87_reminders
BEGIN:VTIMEZONE
TZID:Europe/Brussels
BEGIN:DAYLIGHT
DTSTART:20250330T010000
TZOFFSETFROM:+0100
TZOFFSETTO:+0200
END:DAYLIGHT
BEGIN:STANDARD
DTSTART:20251026T030000
TZOFFSETFROM:+0200
TZOFFSETTO:+0100
END:STANDARD
BEGIN:DAYLIGHT
DTSTART:20260329T010000
TZOFFSETFROM:+0100
TZOFFSETTO:+0200
END:DAYLIGHT
END:VTIMEZONE
BEGIN:VTIMEZONE
TZID:UTC
BEGIN:STANDARD
DTSTART:20250724T042236
TZOFFSETFROM:+0000
TZOFFSETTO:+0000
END:STANDARD
END:VTIMEZONE
BEGIN:VEVENT
UID:A0E9B3BE-1D47-428D-8EB5-7807839F7498-25-1062_homereminder@149.badminton
 ners.net
DTSTAMP:20260420T042236Z
SUMMARY:Thuismatch ingevuld? (Zoersel 4G (87) - Merksplas 2G (91))
DESCRIPTION:Je hebt 36 uur na aanvang om een thuismatch op Badmintonvlaande
 ren in te vullen. Match info: Zoersel 4G (87) - Merksplas 2G (91) - Link: 
 https://www.badmintonvlaanderen.be/sport/teammatch.aspx?id=A0E9B3BE-1D47-4
 28D-8EB5-7807839F7498&match=1062
DTSTART;TZID=Europe/Brussels:20251007T000000
DTEND;TZID=Europe/Brussels:20251007T000000
END:VEVENT
BEGIN:VEVENT
UID:A0E9B3BE-1D47-428D-8EB5-7807839F7498-25-1057_homereminder@149.badminton
 ners.net
DTSTAMP:20260420T042236Z
SUMMARY:Thuismatch ingevuld? (Zoersel 4G (87) - Beerke 3G (86))
DESCRIPTION:Je hebt 36 uur na aanvang om een thuismatch op Badmintonvlaande
 ren in te vullen. Match info: Zoersel 4G (87) - Beerke 3G (86) - Link: htt
 ps://www.badmintonvlaanderen.be/sport/teammatch.aspx?id=A0E9B3BE-1D47-428D
 -8EB5-7807839F7498&match=1057
DTSTART;TZID=Europe/Brussels:20251014T000000
DTEND;TZID=Europe/Brussels:20251014T000000
END:VEVENT
BEGIN:VEVENT
UID:A0E9B3BE-1D47-428D-8EB5-7807839F7498-25-1047_homereminder@149.badminton
 ners.net
DTSTAMP:20260420T042236Z
SUMMARY:Thuismatch ingevuld? (Zoersel 4G (87) - Turnhout 1G (89))
DESCRIPTION:Je hebt 36 uur na aanvang om een thuismatch op Badmintonvlaande
 ren in te vullen. Match info: Zoersel 4G (87) - Turnhout 1G (89) - Link: h
 ttps://www.badmintonvlaanderen.be/sport/teammatch.aspx?id=A0E9B3BE-1D47-42
 8D-8EB5-7807839F7498&match=1047
DTSTART;TZID=Europe/Brussels:20251125T000000
DTEND;TZID=Europe/Brussels:20251125T000000
END:VEVENT
BEGIN:VEVENT
UID:A0E9B3BE-1D47-428D-8EB5-7807839F7498-25-1052_homereminder@149.badminton
 ners.net
DTSTAMP:20260420T042236Z
SUMMARY:Thuismatch ingevuld? (Zoersel 4G (87) - Klein Boom 3G (83))
DESCRIPTION:Je hebt 36 uur na aanvang om een thuismatch op Badmintonvlaande
 ren in te vullen. Match info: Zoersel 4G (87) - Klein Boom 3G (83) - Link:
  https://www.badmintonvlaanderen.be/sport/teammatch.aspx?id=A0E9B3BE-1D47-
 428D-8EB5-7807839F7498&match=1052
DTSTART;TZID=Europe/Brussels:20260303T000000
DTEND;TZID=Europe/Brussels:20260303T000000
END:VEVENT
BEGIN:VEVENT
UID:A0E9B3BE-1D47-428D-8EB5-7807839F7498-25-1036_homereminder@149.badminton
 ners.net
DTSTAMP:20260420T042236Z
SUMMARY:Thuismatch ingevuld? (Zoersel 4G (87) - Brasschaat 5G (89))
DESCRIPTION:Je hebt 36 uur na aanvang om een thuismatch op Badmintonvlaande
 ren in te vullen. Match info: Zoersel 4G (87) - Brasschaat 5G (89) - Link:
  https://www.badmintonvlaanderen.be/sport/teammatch.aspx?id=A0E9B3BE-1D47-
 428D-8EB5-7807839F7498&match=1036
DTSTART;TZID=Europe/Brussels:20260414T000000
DTEND;TZID=Europe/Brussels:20260414T000000
END:VEVENT
BEGIN:VEVENT
UID:A0E9B3BE-1D47-428D-8EB5-7807839F7498-25-1043_awayreminder@149.badminton
 ners.net
DTSTAMP:20260420T042236Z
SUMMARY:Uitmatch bevestigd? (Klein Boom 3G (83) - Zoersel 4G (87))
DESCRIPTION:Je hebt 72 uur na aanvang om een uitmatch op Badmintonvlaandere
 n in te vullen. Match info: Klein Boom 3G (83) - Zoersel 4G (87) - Link: h
 ttps://www.badmintonvlaanderen.be/sport/teammatch.aspx?id=A0E9B3BE-1D47-42
 8D-8EB5-7807839F7498&match=1043
DTSTART;TZID=Europe/Brussels:20250925T200000
DTEND;TZID=Europe/Brussels:20250925T200000
END:VEVENT
BEGIN:VEVENT
UID:A0E9B3BE-1D47-428D-8EB5-7807839F7498-25-1041_awayreminder@149.badminton
 ners.net
DTSTAMP:20260420T042236Z
SUMMARY:Uitmatch bevestigd? (Brasschaat 5G (89) - Zoersel 4G (87))
DESCRIPTION:Je hebt 72 uur na aanvang om een uitmatch op Badmintonvlaandere
 n in te vullen. Match info: Brasschaat 5G (89) - Zoersel 4G (87) - Link: h
 ttps://www.badmintonvlaanderen.be/sport/teammatch.aspx?id=A0E9B3BE-1D47-42
 8D-8EB5-7807839F7498&match=1041
DTSTART;TZID=Europe/Brussels:20251112T190000
DTEND;TZID=Europe/Brussels:20251112T190000
END:VEVENT
BEGIN:VEVENT
UID:A0E9B3BE-1D47-428D-8EB5-7807839F7498-25-1045_awayreminder@149.badminton
 ners.net
DTSTAMP:20260420T042236Z
SUMMARY:Uitmatch bevestigd? (Merksplas 2G (91) - Zoersel 4G (87))
DESCRIPTION:Je hebt 72 uur na aanvang om een uitmatch op Badmintonvlaandere
 n in te vullen. Match info: Merksplas 2G (91) - Zoersel 4G (87) - Link: ht
 tps://www.badmintonvlaanderen.be/sport/teammatch.aspx?id=A0E9B3BE-1D47-428
 D-8EB5-7807839F7498&match=1045
DTSTART;TZID=Europe/Brussels:20260121T183000
DTEND;TZID=Europe/Brussels:20260121T183000
END:VEVENT
BEGIN:VEVENT
UID:A0E9B3BE-1D47-428D-8EB5-7807839F7498-25-1042_awayreminder@149.badminton
 ners.net
DTSTAMP:20260420T042236Z
SUMMARY:Uitmatch bevestigd? (Turnhout 1G (89) - Zoersel 4G (87))
DESCRIPTION:Je hebt 72 uur na aanvang om een uitmatch op Badmintonvlaandere
 n in te vullen. Match info: Turnhout 1G (89) - Zoersel 4G (87) - Link: htt
 ps://www.badmintonvlaanderen.be/sport/teammatch.aspx?id=A0E9B3BE-1D47-428D
 -8EB5-7807839F7498&match=1042
DTSTART;TZID=Europe/Brussels:20260303T140000
DTEND;TZID=Europe/Brussels:20260303T140000
END:VEVENT
BEGIN:VEVENT
UID:A0E9B3BE-1D47-428D-8EB5-7807839F7498-25-1044_awayreminder@149.badminton
 ners.net
DTSTAMP:20260420T042236Z
SUMMARY:Uitmatch bevestigd? (Beerke 3G (86) - Zoersel 4G (87))
DESCRIPTION:Je hebt 72 uur na aanvang om een uitmatch op Badmintonvlaandere
 n in te vullen. Match info: Beerke 3G (86) - Zoersel 4G (87) - Link: https
 ://www.badmintonvlaanderen.be/sport/teammatch.aspx?id=A0E9B3BE-1D47-428D-8
 EB5-7807839F7498&match=1044
DTSTART;TZID=Europe/Brussels:20260401T100000
DTEND;TZID=Europe/Brussels:20260401T100000
END:VEVENT
END:VCALENDAR