BEGIN:VCALENDAR
VERSION:2.0
PRODID:spatie/icalendar-generator
NAME:brasschaat_5g_89_reminders
X-WR-CALNAME:brasschaat_5g_89_reminders
BEGIN:VTIMEZONE
TZID:Europe/Brussels
BEGIN:DAYLIGHT
DTSTART:20250330T010000
TZOFFSETFROM:+0100
TZOFFSETTO:+0200
END:DAYLIGHT
BEGIN:STANDARD
DTSTART:20251026T030000
TZOFFSETFROM:+0200
TZOFFSETTO:+0100
END:STANDARD
BEGIN:DAYLIGHT
DTSTART:20260329T010000
TZOFFSETFROM:+0100
TZOFFSETTO:+0200
END:DAYLIGHT
END:VTIMEZONE
BEGIN:VTIMEZONE
TZID:UTC
BEGIN:STANDARD
DTSTART:20250724T043630
TZOFFSETFROM:+0000
TZOFFSETTO:+0000
END:STANDARD
END:VTIMEZONE
BEGIN:VEVENT
UID:A0E9B3BE-1D47-428D-8EB5-7807839F7498-25-1061_homereminder@158.badminton
 ners.net
DTSTAMP:20260420T043630Z
SUMMARY:Thuismatch ingevuld? (Brasschaat 5G (89) - Merksplas 2G (91))
DESCRIPTION:Je hebt 36 uur na aanvang om een thuismatch op Badmintonvlaande
 ren in te vullen. Match info: Brasschaat 5G (89) - Merksplas 2G (91) - Lin
 k: https://www.badmintonvlaanderen.be/sport/teammatch.aspx?id=A0E9B3BE-1D4
 7-428D-8EB5-7807839F7498&match=1061
DTSTART;TZID=Europe/Brussels:20251014T070000
DTEND;TZID=Europe/Brussels:20251014T070000
END:VEVENT
BEGIN:VEVENT
UID:A0E9B3BE-1D47-428D-8EB5-7807839F7498-25-1051_homereminder@158.badminton
 ners.net
DTSTAMP:20260420T043630Z
SUMMARY:Thuismatch ingevuld? (Brasschaat 5G (89) - Klein Boom 3G (83))
DESCRIPTION:Je hebt 36 uur na aanvang om een thuismatch op Badmintonvlaande
 ren in te vullen. Match info: Brasschaat 5G (89) - Klein Boom 3G (83) - Li
 nk: https://www.badmintonvlaanderen.be/sport/teammatch.aspx?id=A0E9B3BE-1D
 47-428D-8EB5-7807839F7498&match=1051
DTSTART;TZID=Europe/Brussels:20251101T080000
DTEND;TZID=Europe/Brussels:20251101T080000
END:VEVENT
BEGIN:VEVENT
UID:A0E9B3BE-1D47-428D-8EB5-7807839F7498-25-1041_homereminder@158.badminton
 ners.net
DTSTAMP:20260420T043630Z
SUMMARY:Thuismatch ingevuld? (Brasschaat 5G (89) - Zoersel 4G (87))
DESCRIPTION:Je hebt 36 uur na aanvang om een thuismatch op Badmintonvlaande
 ren in te vullen. Match info: Brasschaat 5G (89) - Zoersel 4G (87) - Link:
  https://www.badmintonvlaanderen.be/sport/teammatch.aspx?id=A0E9B3BE-1D47-
 428D-8EB5-7807839F7498&match=1041
DTSTART;TZID=Europe/Brussels:20251111T070000
DTEND;TZID=Europe/Brussels:20251111T070000
END:VEVENT
BEGIN:VEVENT
UID:A0E9B3BE-1D47-428D-8EB5-7807839F7498-25-1046_homereminder@158.badminton
 ners.net
DTSTAMP:20260420T043630Z
SUMMARY:Thuismatch ingevuld? (Brasschaat 5G (89) - Turnhout 1G (89))
DESCRIPTION:Je hebt 36 uur na aanvang om een thuismatch op Badmintonvlaande
 ren in te vullen. Match info: Brasschaat 5G (89) - Turnhout 1G (89) - Link
 : https://www.badmintonvlaanderen.be/sport/teammatch.aspx?id=A0E9B3BE-1D47
 -428D-8EB5-7807839F7498&match=1046
DTSTART;TZID=Europe/Brussels:20260120T070000
DTEND;TZID=Europe/Brussels:20260120T070000
END:VEVENT
BEGIN:VEVENT
UID:A0E9B3BE-1D47-428D-8EB5-7807839F7498-25-1056_homereminder@158.badminton
 ners.net
DTSTAMP:20260420T043630Z
SUMMARY:Thuismatch ingevuld? (Brasschaat 5G (89) - Beerke 3G (86))
DESCRIPTION:Je hebt 36 uur na aanvang om een thuismatch op Badmintonvlaande
 ren in te vullen. Match info: Brasschaat 5G (89) - Beerke 3G (86) - Link: 
 https://www.badmintonvlaanderen.be/sport/teammatch.aspx?id=A0E9B3BE-1D47-4
 28D-8EB5-7807839F7498&match=1056
DTSTART;TZID=Europe/Brussels:20260303T070000
DTEND;TZID=Europe/Brussels:20260303T070000
END:VEVENT
BEGIN:VEVENT
UID:A0E9B3BE-1D47-428D-8EB5-7807839F7498-25-1039_awayreminder@158.badminton
 ners.net
DTSTAMP:20260420T043630Z
SUMMARY:Uitmatch bevestigd? (Beerke 3G (86) - Brasschaat 5G (89))
DESCRIPTION:Je hebt 72 uur na aanvang om een uitmatch op Badmintonvlaandere
 n in te vullen. Match info: Beerke 3G (86) - Brasschaat 5G (89) - Link: ht
 tps://www.badmintonvlaanderen.be/sport/teammatch.aspx?id=A0E9B3BE-1D47-428
 D-8EB5-7807839F7498&match=1039
DTSTART;TZID=Europe/Brussels:20251001T100000
DTEND;TZID=Europe/Brussels:20251001T100000
END:VEVENT
BEGIN:VEVENT
UID:A0E9B3BE-1D47-428D-8EB5-7807839F7498-25-1037_awayreminder@158.badminton
 ners.net
DTSTAMP:20260420T043630Z
SUMMARY:Uitmatch bevestigd? (Turnhout 1G (89) - Brasschaat 5G (89))
DESCRIPTION:Je hebt 72 uur na aanvang om een uitmatch op Badmintonvlaandere
 n in te vullen. Match info: Turnhout 1G (89) - Brasschaat 5G (89) - Link: 
 https://www.badmintonvlaanderen.be/sport/teammatch.aspx?id=A0E9B3BE-1D47-4
 28D-8EB5-7807839F7498&match=1037
DTSTART;TZID=Europe/Brussels:20251223T140000
DTEND;TZID=Europe/Brussels:20251223T140000
END:VEVENT
BEGIN:VEVENT
UID:A0E9B3BE-1D47-428D-8EB5-7807839F7498-25-1038_awayreminder@158.badminton
 ners.net
DTSTAMP:20260420T043630Z
SUMMARY:Uitmatch bevestigd? (Klein Boom 3G (83) - Brasschaat 5G (89))
DESCRIPTION:Je hebt 72 uur na aanvang om een uitmatch op Badmintonvlaandere
 n in te vullen. Match info: Klein Boom 3G (83) - Brasschaat 5G (89) - Link
 : https://www.badmintonvlaanderen.be/sport/teammatch.aspx?id=A0E9B3BE-1D47
 -428D-8EB5-7807839F7498&match=1038
DTSTART;TZID=Europe/Brussels:20260204T190000
DTEND;TZID=Europe/Brussels:20260204T190000
END:VEVENT
BEGIN:VEVENT
UID:A0E9B3BE-1D47-428D-8EB5-7807839F7498-25-1040_awayreminder@158.badminton
 ners.net
DTSTAMP:20260420T043630Z
SUMMARY:Uitmatch bevestigd? (Merksplas 2G (91) - Brasschaat 5G (89))
DESCRIPTION:Je hebt 72 uur na aanvang om een uitmatch op Badmintonvlaandere
 n in te vullen. Match info: Merksplas 2G (91) - Brasschaat 5G (89) - Link:
  https://www.badmintonvlaanderen.be/sport/teammatch.aspx?id=A0E9B3BE-1D47-
 428D-8EB5-7807839F7498&match=1040
DTSTART;TZID=Europe/Brussels:20260401T183000
DTEND;TZID=Europe/Brussels:20260401T183000
END:VEVENT
BEGIN:VEVENT
UID:A0E9B3BE-1D47-428D-8EB5-7807839F7498-25-1036_awayreminder@158.badminton
 ners.net
DTSTAMP:20260420T043630Z
SUMMARY:Uitmatch bevestigd? (Zoersel 4G (87) - Brasschaat 5G (89))
DESCRIPTION:Je hebt 72 uur na aanvang om een uitmatch op Badmintonvlaandere
 n in te vullen. Match info: Zoersel 4G (87) - Brasschaat 5G (89) - Link: h
 ttps://www.badmintonvlaanderen.be/sport/teammatch.aspx?id=A0E9B3BE-1D47-42
 8D-8EB5-7807839F7498&match=1036
DTSTART;TZID=Europe/Brussels:20260415T120000
DTEND;TZID=Europe/Brussels:20260415T120000
END:VEVENT
END:VCALENDAR