BEGIN:VCALENDAR
VERSION:2.0
PRODID:spatie/icalendar-generator
NAME:beerke_3g_86_reminders
X-WR-CALNAME:beerke_3g_86_reminders
BEGIN:VTIMEZONE
TZID:Europe/Brussels
BEGIN:DAYLIGHT
DTSTART:20250330T010000
TZOFFSETFROM:+0100
TZOFFSETTO:+0200
END:DAYLIGHT
BEGIN:STANDARD
DTSTART:20251026T030000
TZOFFSETFROM:+0200
TZOFFSETTO:+0100
END:STANDARD
BEGIN:DAYLIGHT
DTSTART:20260329T010000
TZOFFSETFROM:+0100
TZOFFSETTO:+0200
END:DAYLIGHT
BEGIN:STANDARD
DTSTART:20261025T030000
TZOFFSETFROM:+0200
TZOFFSETTO:+0100
END:STANDARD
END:VTIMEZONE
BEGIN:VTIMEZONE
TZID:UTC
BEGIN:STANDARD
DTSTART:20250724T043747
TZOFFSETFROM:+0000
TZOFFSETTO:+0000
END:STANDARD
END:VTIMEZONE
BEGIN:VEVENT
UID:A0E9B3BE-1D47-428D-8EB5-7807839F7498-25-1039_homereminder@159.badminton
 ners.net
DTSTAMP:20260420T043747Z
SUMMARY:Thuismatch ingevuld? (Beerke 3G (86) - Brasschaat 5G (89))
DESCRIPTION:Je hebt 36 uur na aanvang om een thuismatch op Badmintonvlaande
 ren in te vullen. Match info: Beerke 3G (86) - Brasschaat 5G (89) - Link: 
 https://www.badmintonvlaanderen.be/sport/teammatch.aspx?id=A0E9B3BE-1D47-4
 28D-8EB5-7807839F7498&match=1039
DTSTART;TZID=Europe/Brussels:20250929T220000
DTEND;TZID=Europe/Brussels:20250929T220000
END:VEVENT
BEGIN:VEVENT
UID:A0E9B3BE-1D47-428D-8EB5-7807839F7498-25-1049_homereminder@159.badminton
 ners.net
DTSTAMP:20260420T043747Z
SUMMARY:Thuismatch ingevuld? (Beerke 3G (86) - Turnhout 1G (89))
DESCRIPTION:Je hebt 36 uur na aanvang om een thuismatch op Badmintonvlaande
 ren in te vullen. Match info: Beerke 3G (86) - Turnhout 1G (89) - Link: ht
 tps://www.badmintonvlaanderen.be/sport/teammatch.aspx?id=A0E9B3BE-1D47-428
 D-8EB5-7807839F7498&match=1049
DTSTART;TZID=Europe/Brussels:20251110T220000
DTEND;TZID=Europe/Brussels:20251110T220000
END:VEVENT
BEGIN:VEVENT
UID:A0E9B3BE-1D47-428D-8EB5-7807839F7498-25-1054_homereminder@159.badminton
 ners.net
DTSTAMP:20260420T043747Z
SUMMARY:Thuismatch ingevuld? (Beerke 3G (86) - Klein Boom 3G (83))
DESCRIPTION:Je hebt 36 uur na aanvang om een thuismatch op Badmintonvlaande
 ren in te vullen. Match info: Beerke 3G (86) - Klein Boom 3G (83) - Link: 
 https://www.badmintonvlaanderen.be/sport/teammatch.aspx?id=A0E9B3BE-1D47-4
 28D-8EB5-7807839F7498&match=1054
DTSTART;TZID=Europe/Brussels:20260119T220000
DTEND;TZID=Europe/Brussels:20260119T220000
END:VEVENT
BEGIN:VEVENT
UID:A0E9B3BE-1D47-428D-8EB5-7807839F7498-25-1065_homereminder@159.badminton
 ners.net
DTSTAMP:20260420T043747Z
SUMMARY:Thuismatch ingevuld? (Beerke 3G (86) - Merksplas 2G (91))
DESCRIPTION:Je hebt 36 uur na aanvang om een thuismatch op Badmintonvlaande
 ren in te vullen. Match info: Beerke 3G (86) - Merksplas 2G (91) - Link: h
 ttps://www.badmintonvlaanderen.be/sport/teammatch.aspx?id=A0E9B3BE-1D47-42
 8D-8EB5-7807839F7498&match=1065
DTSTART;TZID=Europe/Brussels:20260216T220000
DTEND;TZID=Europe/Brussels:20260216T220000
END:VEVENT
BEGIN:VEVENT
UID:A0E9B3BE-1D47-428D-8EB5-7807839F7498-25-1044_homereminder@159.badminton
 ners.net
DTSTAMP:20260420T043747Z
SUMMARY:Thuismatch ingevuld? (Beerke 3G (86) - Zoersel 4G (87))
DESCRIPTION:Je hebt 36 uur na aanvang om een thuismatch op Badmintonvlaande
 ren in te vullen. Match info: Beerke 3G (86) - Zoersel 4G (87) - Link: htt
 ps://www.badmintonvlaanderen.be/sport/teammatch.aspx?id=A0E9B3BE-1D47-428D
 -8EB5-7807839F7498&match=1044
DTSTART;TZID=Europe/Brussels:20260330T220000
DTEND;TZID=Europe/Brussels:20260330T220000
END:VEVENT
BEGIN:VEVENT
UID:A0E9B3BE-1D47-428D-8EB5-7807839F7498-25-1057_awayreminder@159.badminton
 ners.net
DTSTAMP:20260420T043747Z
SUMMARY:Uitmatch bevestigd? (Zoersel 4G (87) - Beerke 3G (86))
DESCRIPTION:Je hebt 72 uur na aanvang om een uitmatch op Badmintonvlaandere
 n in te vullen. Match info: Zoersel 4G (87) - Beerke 3G (86) - Link: https
 ://www.badmintonvlaanderen.be/sport/teammatch.aspx?id=A0E9B3BE-1D47-428D-8
 EB5-7807839F7498&match=1057
DTSTART;TZID=Europe/Brussels:20251015T120000
DTEND;TZID=Europe/Brussels:20251015T120000
END:VEVENT
BEGIN:VEVENT
UID:A0E9B3BE-1D47-428D-8EB5-7807839F7498-25-1060_awayreminder@159.badminton
 ners.net
DTSTAMP:20260420T043747Z
SUMMARY:Uitmatch bevestigd? (Merksplas 2G (91) - Beerke 3G (86))
DESCRIPTION:Je hebt 72 uur na aanvang om een uitmatch op Badmintonvlaandere
 n in te vullen. Match info: Merksplas 2G (91) - Beerke 3G (86) - Link: htt
 ps://www.badmintonvlaanderen.be/sport/teammatch.aspx?id=A0E9B3BE-1D47-428D
 -8EB5-7807839F7498&match=1060
DTSTART;TZID=Europe/Brussels:20251126T183000
DTEND;TZID=Europe/Brussels:20251126T183000
END:VEVENT
BEGIN:VEVENT
UID:A0E9B3BE-1D47-428D-8EB5-7807839F7498-25-1059_awayreminder@159.badminton
 ners.net
DTSTAMP:20260420T043747Z
SUMMARY:Uitmatch bevestigd? (Klein Boom 3G (83) - Beerke 3G (86))
DESCRIPTION:Je hebt 72 uur na aanvang om een uitmatch op Badmintonvlaandere
 n in te vullen. Match info: Klein Boom 3G (83) - Beerke 3G (86) - Link: ht
 tps://www.badmintonvlaanderen.be/sport/teammatch.aspx?id=A0E9B3BE-1D47-428
 D-8EB5-7807839F7498&match=1059
DTSTART;TZID=Europe/Brussels:20251224T190000
DTEND;TZID=Europe/Brussels:20251224T190000
END:VEVENT
BEGIN:VEVENT
UID:A0E9B3BE-1D47-428D-8EB5-7807839F7498-25-1056_awayreminder@159.badminton
 ners.net
DTSTAMP:20260420T043747Z
SUMMARY:Uitmatch bevestigd? (Brasschaat 5G (89) - Beerke 3G (86))
DESCRIPTION:Je hebt 72 uur na aanvang om een uitmatch op Badmintonvlaandere
 n in te vullen. Match info: Brasschaat 5G (89) - Beerke 3G (86) - Link: ht
 tps://www.badmintonvlaanderen.be/sport/teammatch.aspx?id=A0E9B3BE-1D47-428
 D-8EB5-7807839F7498&match=1056
DTSTART;TZID=Europe/Brussels:20260304T190000
DTEND;TZID=Europe/Brussels:20260304T190000
END:VEVENT
BEGIN:VEVENT
UID:A0E9B3BE-1D47-428D-8EB5-7807839F7498-25-1058_awayreminder@159.badminton
 ners.net
DTSTAMP:20260420T043747Z
SUMMARY:Uitmatch bevestigd? (Turnhout 1G (89) - Beerke 3G (86))
DESCRIPTION:Je hebt 72 uur na aanvang om een uitmatch op Badmintonvlaandere
 n in te vullen. Match info: Turnhout 1G (89) - Beerke 3G (86) - Link: http
 s://www.badmintonvlaanderen.be/sport/teammatch.aspx?id=A0E9B3BE-1D47-428D-
 8EB5-7807839F7498&match=1058
DTSTART;TZID=Europe/Brussels:20260428T140000
DTEND;TZID=Europe/Brussels:20260428T140000
END:VEVENT
END:VCALENDAR