BEGIN:VCALENDAR
VERSION:2.0
PRODID:spatie/icalendar-generator
NAME:merksplas_2g_91_reminders
X-WR-CALNAME:merksplas_2g_91_reminders
BEGIN:VTIMEZONE
TZID:Europe/Brussels
BEGIN:DAYLIGHT
DTSTART:20250330T010000
TZOFFSETFROM:+0100
TZOFFSETTO:+0200
END:DAYLIGHT
BEGIN:STANDARD
DTSTART:20251026T030000
TZOFFSETFROM:+0200
TZOFFSETTO:+0100
END:STANDARD
BEGIN:DAYLIGHT
DTSTART:20260329T010000
TZOFFSETFROM:+0100
TZOFFSETTO:+0200
END:DAYLIGHT
END:VTIMEZONE
BEGIN:VTIMEZONE
TZID:UTC
BEGIN:STANDARD
DTSTART:20250724T055107
TZOFFSETFROM:+0000
TZOFFSETTO:+0000
END:STANDARD
END:VTIMEZONE
BEGIN:VEVENT
UID:A0E9B3BE-1D47-428D-8EB5-7807839F7498-25-1060_homereminder@161.badminton
 ners.net
DTSTAMP:20260420T055107Z
SUMMARY:Thuismatch ingevuld? (Merksplas 2G (91) - Beerke 3G (86))
DESCRIPTION:Je hebt 36 uur na aanvang om een thuismatch op Badmintonvlaande
 ren in te vullen. Match info: Merksplas 2G (91) - Beerke 3G (86) - Link: h
 ttps://www.badmintonvlaanderen.be/sport/teammatch.aspx?id=A0E9B3BE-1D47-42
 8D-8EB5-7807839F7498&match=1060
DTSTART;TZID=Europe/Brussels:20251125T063000
DTEND;TZID=Europe/Brussels:20251125T063000
END:VEVENT
BEGIN:VEVENT
UID:A0E9B3BE-1D47-428D-8EB5-7807839F7498-25-1045_homereminder@161.badminton
 ners.net
DTSTAMP:20260420T055107Z
SUMMARY:Thuismatch ingevuld? (Merksplas 2G (91) - Zoersel 4G (87))
DESCRIPTION:Je hebt 36 uur na aanvang om een thuismatch op Badmintonvlaande
 ren in te vullen. Match info: Merksplas 2G (91) - Zoersel 4G (87) - Link: 
 https://www.badmintonvlaanderen.be/sport/teammatch.aspx?id=A0E9B3BE-1D47-4
 28D-8EB5-7807839F7498&match=1045
DTSTART;TZID=Europe/Brussels:20260120T063000
DTEND;TZID=Europe/Brussels:20260120T063000
END:VEVENT
BEGIN:VEVENT
UID:A0E9B3BE-1D47-428D-8EB5-7807839F7498-25-1050_homereminder@161.badminton
 ners.net
DTSTAMP:20260420T055107Z
SUMMARY:Thuismatch ingevuld? (Merksplas 2G (91) - Turnhout 1G (89))
DESCRIPTION:Je hebt 36 uur na aanvang om een thuismatch op Badmintonvlaande
 ren in te vullen. Match info: Merksplas 2G (91) - Turnhout 1G (89) - Link:
  https://www.badmintonvlaanderen.be/sport/teammatch.aspx?id=A0E9B3BE-1D47-
 428D-8EB5-7807839F7498&match=1050
DTSTART;TZID=Europe/Brussels:20260317T063000
DTEND;TZID=Europe/Brussels:20260317T063000
END:VEVENT
BEGIN:VEVENT
UID:A0E9B3BE-1D47-428D-8EB5-7807839F7498-25-1040_homereminder@161.badminton
 ners.net
DTSTAMP:20260420T055107Z
SUMMARY:Thuismatch ingevuld? (Merksplas 2G (91) - Brasschaat 5G (89))
DESCRIPTION:Je hebt 36 uur na aanvang om een thuismatch op Badmintonvlaande
 ren in te vullen. Match info: Merksplas 2G (91) - Brasschaat 5G (89) - Lin
 k: https://www.badmintonvlaanderen.be/sport/teammatch.aspx?id=A0E9B3BE-1D4
 7-428D-8EB5-7807839F7498&match=1040
DTSTART;TZID=Europe/Brussels:20260331T063000
DTEND;TZID=Europe/Brussels:20260331T063000
END:VEVENT
BEGIN:VEVENT
UID:A0E9B3BE-1D47-428D-8EB5-7807839F7498-25-1055_homereminder@161.badminton
 ners.net
DTSTAMP:20260420T055107Z
SUMMARY:Thuismatch ingevuld? (Merksplas 2G (91) - Klein Boom 3G (83))
DESCRIPTION:Je hebt 36 uur na aanvang om een thuismatch op Badmintonvlaande
 ren in te vullen. Match info: Merksplas 2G (91) - Klein Boom 3G (83) - Lin
 k: https://www.badmintonvlaanderen.be/sport/teammatch.aspx?id=A0E9B3BE-1D4
 7-428D-8EB5-7807839F7498&match=1055
DTSTART;TZID=Europe/Brussels:20260414T063000
DTEND;TZID=Europe/Brussels:20260414T063000
END:VEVENT
BEGIN:VEVENT
UID:A0E9B3BE-1D47-428D-8EB5-7807839F7498-25-1064_awayreminder@161.badminton
 ners.net
DTSTAMP:20260420T055107Z
SUMMARY:Uitmatch bevestigd? (Klein Boom 3G (83) - Merksplas 2G (91))
DESCRIPTION:Je hebt 72 uur na aanvang om een uitmatch op Badmintonvlaandere
 n in te vullen. Match info: Klein Boom 3G (83) - Merksplas 2G (91) - Link:
  https://www.badmintonvlaanderen.be/sport/teammatch.aspx?id=A0E9B3BE-1D47-
 428D-8EB5-7807839F7498&match=1064
DTSTART;TZID=Europe/Brussels:20251002T200000
DTEND;TZID=Europe/Brussels:20251002T200000
END:VEVENT
BEGIN:VEVENT
UID:A0E9B3BE-1D47-428D-8EB5-7807839F7498-25-1062_awayreminder@161.badminton
 ners.net
DTSTAMP:20260420T055107Z
SUMMARY:Uitmatch bevestigd? (Zoersel 4G (87) - Merksplas 2G (91))
DESCRIPTION:Je hebt 72 uur na aanvang om een uitmatch op Badmintonvlaandere
 n in te vullen. Match info: Zoersel 4G (87) - Merksplas 2G (91) - Link: ht
 tps://www.badmintonvlaanderen.be/sport/teammatch.aspx?id=A0E9B3BE-1D47-428
 D-8EB5-7807839F7498&match=1062
DTSTART;TZID=Europe/Brussels:20251008T120000
DTEND;TZID=Europe/Brussels:20251008T120000
END:VEVENT
BEGIN:VEVENT
UID:A0E9B3BE-1D47-428D-8EB5-7807839F7498-25-1063_awayreminder@161.badminton
 ners.net
DTSTAMP:20260420T055107Z
SUMMARY:Uitmatch bevestigd? (Turnhout 1G (89) - Merksplas 2G (91))
DESCRIPTION:Je hebt 72 uur na aanvang om een uitmatch op Badmintonvlaandere
 n in te vullen. Match info: Turnhout 1G (89) - Merksplas 2G (91) - Link: h
 ttps://www.badmintonvlaanderen.be/sport/teammatch.aspx?id=A0E9B3BE-1D47-42
 8D-8EB5-7807839F7498&match=1063
DTSTART;TZID=Europe/Brussels:20251014T140000
DTEND;TZID=Europe/Brussels:20251014T140000
END:VEVENT
BEGIN:VEVENT
UID:A0E9B3BE-1D47-428D-8EB5-7807839F7498-25-1061_awayreminder@161.badminton
 ners.net
DTSTAMP:20260420T055107Z
SUMMARY:Uitmatch bevestigd? (Brasschaat 5G (89) - Merksplas 2G (91))
DESCRIPTION:Je hebt 72 uur na aanvang om een uitmatch op Badmintonvlaandere
 n in te vullen. Match info: Brasschaat 5G (89) - Merksplas 2G (91) - Link:
  https://www.badmintonvlaanderen.be/sport/teammatch.aspx?id=A0E9B3BE-1D47-
 428D-8EB5-7807839F7498&match=1061
DTSTART;TZID=Europe/Brussels:20251015T190000
DTEND;TZID=Europe/Brussels:20251015T190000
END:VEVENT
BEGIN:VEVENT
UID:A0E9B3BE-1D47-428D-8EB5-7807839F7498-25-1065_awayreminder@161.badminton
 ners.net
DTSTAMP:20260420T055107Z
SUMMARY:Uitmatch bevestigd? (Beerke 3G (86) - Merksplas 2G (91))
DESCRIPTION:Je hebt 72 uur na aanvang om een uitmatch op Badmintonvlaandere
 n in te vullen. Match info: Beerke 3G (86) - Merksplas 2G (91) - Link: htt
 ps://www.badmintonvlaanderen.be/sport/teammatch.aspx?id=A0E9B3BE-1D47-428D
 -8EB5-7807839F7498&match=1065
DTSTART;TZID=Europe/Brussels:20260218T100000
DTEND;TZID=Europe/Brussels:20260218T100000
END:VEVENT
END:VCALENDAR