BEGIN:VCALENDAR
VERSION:2.0
PRODID:spatie/icalendar-generator
NAME:klein_boom_3g_83_reminders
X-WR-CALNAME:klein_boom_3g_83_reminders
BEGIN:VTIMEZONE
TZID:Europe/Brussels
BEGIN:DAYLIGHT
DTSTART:20250330T010000
TZOFFSETFROM:+0100
TZOFFSETTO:+0200
END:DAYLIGHT
BEGIN:STANDARD
DTSTART:20251026T030000
TZOFFSETFROM:+0200
TZOFFSETTO:+0100
END:STANDARD
BEGIN:DAYLIGHT
DTSTART:20260329T010000
TZOFFSETFROM:+0100
TZOFFSETTO:+0200
END:DAYLIGHT
END:VTIMEZONE
BEGIN:VTIMEZONE
TZID:UTC
BEGIN:STANDARD
DTSTART:20250724T055119
TZOFFSETFROM:+0000
TZOFFSETTO:+0000
END:STANDARD
END:VTIMEZONE
BEGIN:VEVENT
UID:A0E9B3BE-1D47-428D-8EB5-7807839F7498-25-1043_homereminder@166.badminton
 ners.net
DTSTAMP:20260420T055119Z
SUMMARY:Thuismatch ingevuld? (Klein Boom 3G (83) - Zoersel 4G (87))
DESCRIPTION:Je hebt 36 uur na aanvang om een thuismatch op Badmintonvlaande
 ren in te vullen. Match info: Klein Boom 3G (83) - Zoersel 4G (87) - Link:
  https://www.badmintonvlaanderen.be/sport/teammatch.aspx?id=A0E9B3BE-1D47-
 428D-8EB5-7807839F7498&match=1043
DTSTART;TZID=Europe/Brussels:20250924T080000
DTEND;TZID=Europe/Brussels:20250924T080000
END:VEVENT
BEGIN:VEVENT
UID:A0E9B3BE-1D47-428D-8EB5-7807839F7498-25-1064_homereminder@166.badminton
 ners.net
DTSTAMP:20260420T055119Z
SUMMARY:Thuismatch ingevuld? (Klein Boom 3G (83) - Merksplas 2G (91))
DESCRIPTION:Je hebt 36 uur na aanvang om een thuismatch op Badmintonvlaande
 ren in te vullen. Match info: Klein Boom 3G (83) - Merksplas 2G (91) - Lin
 k: https://www.badmintonvlaanderen.be/sport/teammatch.aspx?id=A0E9B3BE-1D4
 7-428D-8EB5-7807839F7498&match=1064
DTSTART;TZID=Europe/Brussels:20251001T080000
DTEND;TZID=Europe/Brussels:20251001T080000
END:VEVENT
BEGIN:VEVENT
UID:A0E9B3BE-1D47-428D-8EB5-7807839F7498-25-1048_homereminder@166.badminton
 ners.net
DTSTAMP:20260420T055119Z
SUMMARY:Thuismatch ingevuld? (Klein Boom 3G (83) - Turnhout 1G (89))
DESCRIPTION:Je hebt 36 uur na aanvang om een thuismatch op Badmintonvlaande
 ren in te vullen. Match info: Klein Boom 3G (83) - Turnhout 1G (89) - Link
 : https://www.badmintonvlaanderen.be/sport/teammatch.aspx?id=A0E9B3BE-1D47
 -428D-8EB5-7807839F7498&match=1048
DTSTART;TZID=Europe/Brussels:20251014T070000
DTEND;TZID=Europe/Brussels:20251014T070000
END:VEVENT
BEGIN:VEVENT
UID:A0E9B3BE-1D47-428D-8EB5-7807839F7498-25-1059_homereminder@166.badminton
 ners.net
DTSTAMP:20260420T055119Z
SUMMARY:Thuismatch ingevuld? (Klein Boom 3G (83) - Beerke 3G (86))
DESCRIPTION:Je hebt 36 uur na aanvang om een thuismatch op Badmintonvlaande
 ren in te vullen. Match info: Klein Boom 3G (83) - Beerke 3G (86) - Link: 
 https://www.badmintonvlaanderen.be/sport/teammatch.aspx?id=A0E9B3BE-1D47-4
 28D-8EB5-7807839F7498&match=1059
DTSTART;TZID=Europe/Brussels:20251223T070000
DTEND;TZID=Europe/Brussels:20251223T070000
END:VEVENT
BEGIN:VEVENT
UID:A0E9B3BE-1D47-428D-8EB5-7807839F7498-25-1038_homereminder@166.badminton
 ners.net
DTSTAMP:20260420T055119Z
SUMMARY:Thuismatch ingevuld? (Klein Boom 3G (83) - Brasschaat 5G (89))
DESCRIPTION:Je hebt 36 uur na aanvang om een thuismatch op Badmintonvlaande
 ren in te vullen. Match info: Klein Boom 3G (83) - Brasschaat 5G (89) - Li
 nk: https://www.badmintonvlaanderen.be/sport/teammatch.aspx?id=A0E9B3BE-1D
 47-428D-8EB5-7807839F7498&match=1038
DTSTART;TZID=Europe/Brussels:20260203T070000
DTEND;TZID=Europe/Brussels:20260203T070000
END:VEVENT
BEGIN:VEVENT
UID:A0E9B3BE-1D47-428D-8EB5-7807839F7498-25-1051_awayreminder@166.badminton
 ners.net
DTSTAMP:20260420T055119Z
SUMMARY:Uitmatch bevestigd? (Brasschaat 5G (89) - Klein Boom 3G (83))
DESCRIPTION:Je hebt 72 uur na aanvang om een uitmatch op Badmintonvlaandere
 n in te vullen. Match info: Brasschaat 5G (89) - Klein Boom 3G (83) - Link
 : https://www.badmintonvlaanderen.be/sport/teammatch.aspx?id=A0E9B3BE-1D47
 -428D-8EB5-7807839F7498&match=1051
DTSTART;TZID=Europe/Brussels:20251102T200000
DTEND;TZID=Europe/Brussels:20251102T200000
END:VEVENT
BEGIN:VEVENT
UID:A0E9B3BE-1D47-428D-8EB5-7807839F7498-25-1054_awayreminder@166.badminton
 ners.net
DTSTAMP:20260420T055119Z
SUMMARY:Uitmatch bevestigd? (Beerke 3G (86) - Klein Boom 3G (83))
DESCRIPTION:Je hebt 72 uur na aanvang om een uitmatch op Badmintonvlaandere
 n in te vullen. Match info: Beerke 3G (86) - Klein Boom 3G (83) - Link: ht
 tps://www.badmintonvlaanderen.be/sport/teammatch.aspx?id=A0E9B3BE-1D47-428
 D-8EB5-7807839F7498&match=1054
DTSTART;TZID=Europe/Brussels:20260121T100000
DTEND;TZID=Europe/Brussels:20260121T100000
END:VEVENT
BEGIN:VEVENT
UID:A0E9B3BE-1D47-428D-8EB5-7807839F7498-25-1052_awayreminder@166.badminton
 ners.net
DTSTAMP:20260420T055119Z
SUMMARY:Uitmatch bevestigd? (Zoersel 4G (87) - Klein Boom 3G (83))
DESCRIPTION:Je hebt 72 uur na aanvang om een uitmatch op Badmintonvlaandere
 n in te vullen. Match info: Zoersel 4G (87) - Klein Boom 3G (83) - Link: h
 ttps://www.badmintonvlaanderen.be/sport/teammatch.aspx?id=A0E9B3BE-1D47-42
 8D-8EB5-7807839F7498&match=1052
DTSTART;TZID=Europe/Brussels:20260304T120000
DTEND;TZID=Europe/Brussels:20260304T120000
END:VEVENT
BEGIN:VEVENT
UID:A0E9B3BE-1D47-428D-8EB5-7807839F7498-25-1053_awayreminder@166.badminton
 ners.net
DTSTAMP:20260420T055119Z
SUMMARY:Uitmatch bevestigd? (Turnhout 1G (89) - Klein Boom 3G (83))
DESCRIPTION:Je hebt 72 uur na aanvang om een uitmatch op Badmintonvlaandere
 n in te vullen. Match info: Turnhout 1G (89) - Klein Boom 3G (83) - Link: 
 https://www.badmintonvlaanderen.be/sport/teammatch.aspx?id=A0E9B3BE-1D47-4
 28D-8EB5-7807839F7498&match=1053
DTSTART;TZID=Europe/Brussels:20260324T140000
DTEND;TZID=Europe/Brussels:20260324T140000
END:VEVENT
BEGIN:VEVENT
UID:A0E9B3BE-1D47-428D-8EB5-7807839F7498-25-1055_awayreminder@166.badminton
 ners.net
DTSTAMP:20260420T055119Z
SUMMARY:Uitmatch bevestigd? (Merksplas 2G (91) - Klein Boom 3G (83))
DESCRIPTION:Je hebt 72 uur na aanvang om een uitmatch op Badmintonvlaandere
 n in te vullen. Match info: Merksplas 2G (91) - Klein Boom 3G (83) - Link:
  https://www.badmintonvlaanderen.be/sport/teammatch.aspx?id=A0E9B3BE-1D47-
 428D-8EB5-7807839F7498&match=1055
DTSTART;TZID=Europe/Brussels:20260415T183000
DTEND;TZID=Europe/Brussels:20260415T183000
END:VEVENT
END:VCALENDAR