BEGIN:VCALENDAR
VERSION:2.0
PRODID:spatie/icalendar-generator
NAME:turnhout_1g_89_reminders
X-WR-CALNAME:turnhout_1g_89_reminders
BEGIN:VTIMEZONE
TZID:Europe/Brussels
BEGIN:DAYLIGHT
DTSTART:20250330T010000
TZOFFSETFROM:+0100
TZOFFSETTO:+0200
END:DAYLIGHT
BEGIN:STANDARD
DTSTART:20251026T030000
TZOFFSETFROM:+0200
TZOFFSETTO:+0100
END:STANDARD
BEGIN:DAYLIGHT
DTSTART:20260329T010000
TZOFFSETFROM:+0100
TZOFFSETTO:+0200
END:DAYLIGHT
BEGIN:STANDARD
DTSTART:20261025T030000
TZOFFSETFROM:+0200
TZOFFSETTO:+0100
END:STANDARD
END:VTIMEZONE
BEGIN:VTIMEZONE
TZID:UTC
BEGIN:STANDARD
DTSTART:20250724T043753
TZOFFSETFROM:+0000
TZOFFSETTO:+0000
END:STANDARD
END:VTIMEZONE
BEGIN:VEVENT
UID:A0E9B3BE-1D47-428D-8EB5-7807839F7498-25-1063_homereminder@168.badminton
 ners.net
DTSTAMP:20260420T043753Z
SUMMARY:Thuismatch ingevuld? (Turnhout 1G (89) - Merksplas 2G (91))
DESCRIPTION:Je hebt 36 uur na aanvang om een thuismatch op Badmintonvlaande
 ren in te vullen. Match info: Turnhout 1G (89) - Merksplas 2G (91) - Link:
  https://www.badmintonvlaanderen.be/sport/teammatch.aspx?id=A0E9B3BE-1D47-
 428D-8EB5-7807839F7498&match=1063
DTSTART;TZID=Europe/Brussels:20251013T020000
DTEND;TZID=Europe/Brussels:20251013T020000
END:VEVENT
BEGIN:VEVENT
UID:A0E9B3BE-1D47-428D-8EB5-7807839F7498-25-1037_homereminder@168.badminton
 ners.net
DTSTAMP:20260420T043753Z
SUMMARY:Thuismatch ingevuld? (Turnhout 1G (89) - Brasschaat 5G (89))
DESCRIPTION:Je hebt 36 uur na aanvang om een thuismatch op Badmintonvlaande
 ren in te vullen. Match info: Turnhout 1G (89) - Brasschaat 5G (89) - Link
 : https://www.badmintonvlaanderen.be/sport/teammatch.aspx?id=A0E9B3BE-1D47
 -428D-8EB5-7807839F7498&match=1037
DTSTART;TZID=Europe/Brussels:20251222T020000
DTEND;TZID=Europe/Brussels:20251222T020000
END:VEVENT
BEGIN:VEVENT
UID:A0E9B3BE-1D47-428D-8EB5-7807839F7498-25-1042_homereminder@168.badminton
 ners.net
DTSTAMP:20260420T043753Z
SUMMARY:Thuismatch ingevuld? (Turnhout 1G (89) - Zoersel 4G (87))
DESCRIPTION:Je hebt 36 uur na aanvang om een thuismatch op Badmintonvlaande
 ren in te vullen. Match info: Turnhout 1G (89) - Zoersel 4G (87) - Link: h
 ttps://www.badmintonvlaanderen.be/sport/teammatch.aspx?id=A0E9B3BE-1D47-42
 8D-8EB5-7807839F7498&match=1042
DTSTART;TZID=Europe/Brussels:20260302T020000
DTEND;TZID=Europe/Brussels:20260302T020000
END:VEVENT
BEGIN:VEVENT
UID:A0E9B3BE-1D47-428D-8EB5-7807839F7498-25-1053_homereminder@168.badminton
 ners.net
DTSTAMP:20260420T043753Z
SUMMARY:Thuismatch ingevuld? (Turnhout 1G (89) - Klein Boom 3G (83))
DESCRIPTION:Je hebt 36 uur na aanvang om een thuismatch op Badmintonvlaande
 ren in te vullen. Match info: Turnhout 1G (89) - Klein Boom 3G (83) - Link
 : https://www.badmintonvlaanderen.be/sport/teammatch.aspx?id=A0E9B3BE-1D47
 -428D-8EB5-7807839F7498&match=1053
DTSTART;TZID=Europe/Brussels:20260323T020000
DTEND;TZID=Europe/Brussels:20260323T020000
END:VEVENT
BEGIN:VEVENT
UID:A0E9B3BE-1D47-428D-8EB5-7807839F7498-25-1058_homereminder@168.badminton
 ners.net
DTSTAMP:20260420T043753Z
SUMMARY:Thuismatch ingevuld? (Turnhout 1G (89) - Beerke 3G (86))
DESCRIPTION:Je hebt 36 uur na aanvang om een thuismatch op Badmintonvlaande
 ren in te vullen. Match info: Turnhout 1G (89) - Beerke 3G (86) - Link: ht
 tps://www.badmintonvlaanderen.be/sport/teammatch.aspx?id=A0E9B3BE-1D47-428
 D-8EB5-7807839F7498&match=1058
DTSTART;TZID=Europe/Brussels:20260427T020000
DTEND;TZID=Europe/Brussels:20260427T020000
END:VEVENT
BEGIN:VEVENT
UID:A0E9B3BE-1D47-428D-8EB5-7807839F7498-25-1048_awayreminder@168.badminton
 ners.net
DTSTAMP:20260420T043753Z
SUMMARY:Uitmatch bevestigd? (Klein Boom 3G (83) - Turnhout 1G (89))
DESCRIPTION:Je hebt 72 uur na aanvang om een uitmatch op Badmintonvlaandere
 n in te vullen. Match info: Klein Boom 3G (83) - Turnhout 1G (89) - Link: 
 https://www.badmintonvlaanderen.be/sport/teammatch.aspx?id=A0E9B3BE-1D47-4
 28D-8EB5-7807839F7498&match=1048
DTSTART;TZID=Europe/Brussels:20251015T190000
DTEND;TZID=Europe/Brussels:20251015T190000
END:VEVENT
BEGIN:VEVENT
UID:A0E9B3BE-1D47-428D-8EB5-7807839F7498-25-1049_awayreminder@168.badminton
 ners.net
DTSTAMP:20260420T043753Z
SUMMARY:Uitmatch bevestigd? (Beerke 3G (86) - Turnhout 1G (89))
DESCRIPTION:Je hebt 72 uur na aanvang om een uitmatch op Badmintonvlaandere
 n in te vullen. Match info: Beerke 3G (86) - Turnhout 1G (89) - Link: http
 s://www.badmintonvlaanderen.be/sport/teammatch.aspx?id=A0E9B3BE-1D47-428D-
 8EB5-7807839F7498&match=1049
DTSTART;TZID=Europe/Brussels:20251112T100000
DTEND;TZID=Europe/Brussels:20251112T100000
END:VEVENT
BEGIN:VEVENT
UID:A0E9B3BE-1D47-428D-8EB5-7807839F7498-25-1047_awayreminder@168.badminton
 ners.net
DTSTAMP:20260420T043753Z
SUMMARY:Uitmatch bevestigd? (Zoersel 4G (87) - Turnhout 1G (89))
DESCRIPTION:Je hebt 72 uur na aanvang om een uitmatch op Badmintonvlaandere
 n in te vullen. Match info: Zoersel 4G (87) - Turnhout 1G (89) - Link: htt
 ps://www.badmintonvlaanderen.be/sport/teammatch.aspx?id=A0E9B3BE-1D47-428D
 -8EB5-7807839F7498&match=1047
DTSTART;TZID=Europe/Brussels:20251126T120000
DTEND;TZID=Europe/Brussels:20251126T120000
END:VEVENT
BEGIN:VEVENT
UID:A0E9B3BE-1D47-428D-8EB5-7807839F7498-25-1046_awayreminder@168.badminton
 ners.net
DTSTAMP:20260420T043753Z
SUMMARY:Uitmatch bevestigd? (Brasschaat 5G (89) - Turnhout 1G (89))
DESCRIPTION:Je hebt 72 uur na aanvang om een uitmatch op Badmintonvlaandere
 n in te vullen. Match info: Brasschaat 5G (89) - Turnhout 1G (89) - Link: 
 https://www.badmintonvlaanderen.be/sport/teammatch.aspx?id=A0E9B3BE-1D47-4
 28D-8EB5-7807839F7498&match=1046
DTSTART;TZID=Europe/Brussels:20260121T190000
DTEND;TZID=Europe/Brussels:20260121T190000
END:VEVENT
BEGIN:VEVENT
UID:A0E9B3BE-1D47-428D-8EB5-7807839F7498-25-1050_awayreminder@168.badminton
 ners.net
DTSTAMP:20260420T043753Z
SUMMARY:Uitmatch bevestigd? (Merksplas 2G (91) - Turnhout 1G (89))
DESCRIPTION:Je hebt 72 uur na aanvang om een uitmatch op Badmintonvlaandere
 n in te vullen. Match info: Merksplas 2G (91) - Turnhout 1G (89) - Link: h
 ttps://www.badmintonvlaanderen.be/sport/teammatch.aspx?id=A0E9B3BE-1D47-42
 8D-8EB5-7807839F7498&match=1050
DTSTART;TZID=Europe/Brussels:20260318T183000
DTEND;TZID=Europe/Brussels:20260318T183000
END:VEVENT
END:VCALENDAR