BEGIN:VCALENDAR
VERSION:2.0
PRODID:spatie/icalendar-generator
NAME:olve_5g_84_reminders
X-WR-CALNAME:olve_5g_84_reminders
BEGIN:VTIMEZONE
TZID:Europe/Brussels
BEGIN:DAYLIGHT
DTSTART:20250330T010000
TZOFFSETFROM:+0100
TZOFFSETTO:+0200
END:DAYLIGHT
BEGIN:STANDARD
DTSTART:20251026T030000
TZOFFSETFROM:+0200
TZOFFSETTO:+0100
END:STANDARD
BEGIN:DAYLIGHT
DTSTART:20260329T010000
TZOFFSETFROM:+0100
TZOFFSETTO:+0200
END:DAYLIGHT
BEGIN:STANDARD
DTSTART:20261025T030000
TZOFFSETFROM:+0200
TZOFFSETTO:+0100
END:STANDARD
END:VTIMEZONE
BEGIN:VTIMEZONE
TZID:UTC
BEGIN:STANDARD
DTSTART:20250724T043556
TZOFFSETFROM:+0000
TZOFFSETTO:+0000
END:STANDARD
END:VTIMEZONE
BEGIN:VEVENT
UID:A0E9B3BE-1D47-428D-8EB5-7807839F7498-26-1091_homereminder@152.badminton
 ners.net
DTSTAMP:20260420T043556Z
SUMMARY:Thuismatch ingevuld? (Olve 5G (84) - Spinshuttle 2G (91))
DESCRIPTION:Je hebt 36 uur na aanvang om een thuismatch op Badmintonvlaande
 ren in te vullen. Match info: Olve 5G (84) - Spinshuttle 2G (91) - Link: h
 ttps://www.badmintonvlaanderen.be/sport/teammatch.aspx?id=A0E9B3BE-1D47-42
 8D-8EB5-7807839F7498&match=1091
DTSTART;TZID=Europe/Brussels:20251130T223000
DTEND;TZID=Europe/Brussels:20251130T223000
END:VEVENT
BEGIN:VEVENT
UID:A0E9B3BE-1D47-428D-8EB5-7807839F7498-26-1096_homereminder@152.badminton
 ners.net
DTSTAMP:20260420T043556Z
SUMMARY:Thuismatch ingevuld? (Olve 5G (84) - Herentals 3G (84))
DESCRIPTION:Je hebt 36 uur na aanvang om een thuismatch op Badmintonvlaande
 ren in te vullen. Match info: Olve 5G (84) - Herentals 3G (84) - Link: htt
 ps://www.badmintonvlaanderen.be/sport/teammatch.aspx?id=A0E9B3BE-1D47-428D
 -8EB5-7807839F7498&match=1096
DTSTART;TZID=Europe/Brussels:20251207T223000
DTEND;TZID=Europe/Brussels:20251207T223000
END:VEVENT
BEGIN:VEVENT
UID:A0E9B3BE-1D47-428D-8EB5-7807839F7498-26-1081_homereminder@152.badminton
 ners.net
DTSTAMP:20260420T043556Z
SUMMARY:Thuismatch ingevuld? (Olve 5G (84) - Klein Boom 4G (85))
DESCRIPTION:Je hebt 36 uur na aanvang om een thuismatch op Badmintonvlaande
 ren in te vullen. Match info: Olve 5G (84) - Klein Boom 4G (85) - Link: ht
 tps://www.badmintonvlaanderen.be/sport/teammatch.aspx?id=A0E9B3BE-1D47-428
 D-8EB5-7807839F7498&match=1081
DTSTART;TZID=Europe/Brussels:20260301T223000
DTEND;TZID=Europe/Brussels:20260301T223000
END:VEVENT
BEGIN:VEVENT
UID:A0E9B3BE-1D47-428D-8EB5-7807839F7498-26-1086_homereminder@152.badminton
 ners.net
DTSTAMP:20260420T043556Z
SUMMARY:Thuismatch ingevuld? (Olve 5G (84) - Royal Antwerp 3G (92))
DESCRIPTION:Je hebt 36 uur na aanvang om een thuismatch op Badmintonvlaande
 ren in te vullen. Match info: Olve 5G (84) - Royal Antwerp 3G (92) - Link:
  https://www.badmintonvlaanderen.be/sport/teammatch.aspx?id=A0E9B3BE-1D47-
 428D-8EB5-7807839F7498&match=1086
DTSTART;TZID=Europe/Brussels:20260315T223000
DTEND;TZID=Europe/Brussels:20260315T223000
END:VEVENT
BEGIN:VEVENT
UID:A0E9B3BE-1D47-428D-8EB5-7807839F7498-26-1076_homereminder@152.badminton
 ners.net
DTSTAMP:20260420T043556Z
SUMMARY:Thuismatch ingevuld? (Olve 5G (84) - Poona 2G (79))
DESCRIPTION:Je hebt 36 uur na aanvang om een thuismatch op Badmintonvlaande
 ren in te vullen. Match info: Olve 5G (84) - Poona 2G (79) - Link: https:/
 /www.badmintonvlaanderen.be/sport/teammatch.aspx?id=A0E9B3BE-1D47-428D-8EB
 5-7807839F7498&match=1076
DTSTART;TZID=Europe/Brussels:20260322T223000
DTEND;TZID=Europe/Brussels:20260322T223000
END:VEVENT
BEGIN:VEVENT
UID:A0E9B3BE-1D47-428D-8EB5-7807839F7498-26-1097_awayreminder@152.badminton
 ners.net
DTSTAMP:20260420T043556Z
SUMMARY:Uitmatch bevestigd? (Poona 2G (79) - Olve 5G (84))
DESCRIPTION:Je hebt 72 uur na aanvang om een uitmatch op Badmintonvlaandere
 n in te vullen. Match info: Poona 2G (79) - Olve 5G (84) - Link: https://w
 ww.badmintonvlaanderen.be/sport/teammatch.aspx?id=A0E9B3BE-1D47-428D-8EB5-
 7807839F7498&match=1097
DTSTART;TZID=Europe/Brussels:20250925T200000
DTEND;TZID=Europe/Brussels:20250925T200000
END:VEVENT
BEGIN:VEVENT
UID:A0E9B3BE-1D47-428D-8EB5-7807839F7498-26-1099_awayreminder@152.badminton
 ners.net
DTSTAMP:20260420T043556Z
SUMMARY:Uitmatch bevestigd? (Royal Antwerp 3G (92) - Olve 5G (84))
DESCRIPTION:Je hebt 72 uur na aanvang om een uitmatch op Badmintonvlaandere
 n in te vullen. Match info: Royal Antwerp 3G (92) - Olve 5G (84) - Link: h
 ttps://www.badmintonvlaanderen.be/sport/teammatch.aspx?id=A0E9B3BE-1D47-42
 8D-8EB5-7807839F7498&match=1099
DTSTART;TZID=Europe/Brussels:20251008T180000
DTEND;TZID=Europe/Brussels:20251008T180000
END:VEVENT
BEGIN:VEVENT
UID:A0E9B3BE-1D47-428D-8EB5-7807839F7498-26-1098_awayreminder@152.badminton
 ners.net
DTSTAMP:20260420T043556Z
SUMMARY:Uitmatch bevestigd? (Klein Boom 4G (85) - Olve 5G (84))
DESCRIPTION:Je hebt 72 uur na aanvang om een uitmatch op Badmintonvlaandere
 n in te vullen. Match info: Klein Boom 4G (85) - Olve 5G (84) - Link: http
 s://www.badmintonvlaanderen.be/sport/teammatch.aspx?id=A0E9B3BE-1D47-428D-
 8EB5-7807839F7498&match=1098
DTSTART;TZID=Europe/Brussels:20251126T190000
DTEND;TZID=Europe/Brussels:20251126T190000
END:VEVENT
BEGIN:VEVENT
UID:A0E9B3BE-1D47-428D-8EB5-7807839F7498-26-1100_awayreminder@152.badminton
 ners.net
DTSTAMP:20260420T043556Z
SUMMARY:Uitmatch bevestigd? (Spinshuttle 2G (91) - Olve 5G (84))
DESCRIPTION:Je hebt 72 uur na aanvang om een uitmatch op Badmintonvlaandere
 n in te vullen. Match info: Spinshuttle 2G (91) - Olve 5G (84) - Link: htt
 ps://www.badmintonvlaanderen.be/sport/teammatch.aspx?id=A0E9B3BE-1D47-428D
 -8EB5-7807839F7498&match=1100
DTSTART;TZID=Europe/Brussels:20260213T200000
DTEND;TZID=Europe/Brussels:20260213T200000
END:VEVENT
BEGIN:VEVENT
UID:A0E9B3BE-1D47-428D-8EB5-7807839F7498-26-1101_awayreminder@152.badminton
 ners.net
DTSTAMP:20260420T043556Z
SUMMARY:Uitmatch bevestigd? (Herentals 3G (84) - Olve 5G (84))
DESCRIPTION:Je hebt 72 uur na aanvang om een uitmatch op Badmintonvlaandere
 n in te vullen. Match info: Herentals 3G (84) - Olve 5G (84) - Link: https
 ://www.badmintonvlaanderen.be/sport/teammatch.aspx?id=A0E9B3BE-1D47-428D-8
 EB5-7807839F7498&match=1101
DTSTART;TZID=Europe/Brussels:20260503T210000
DTEND;TZID=Europe/Brussels:20260503T210000
END:VEVENT
END:VCALENDAR