BEGIN:VCALENDAR
VERSION:2.0
PRODID:spatie/icalendar-generator
NAME:herentals_3g_84_reminders
X-WR-CALNAME:herentals_3g_84_reminders
BEGIN:VTIMEZONE
TZID:Europe/Brussels
BEGIN:DAYLIGHT
DTSTART:20250330T010000
TZOFFSETFROM:+0100
TZOFFSETTO:+0200
END:DAYLIGHT
BEGIN:STANDARD
DTSTART:20251026T030000
TZOFFSETFROM:+0200
TZOFFSETTO:+0100
END:STANDARD
BEGIN:DAYLIGHT
DTSTART:20260329T010000
TZOFFSETFROM:+0100
TZOFFSETTO:+0200
END:DAYLIGHT
BEGIN:STANDARD
DTSTART:20261025T030000
TZOFFSETFROM:+0200
TZOFFSETTO:+0100
END:STANDARD
END:VTIMEZONE
BEGIN:VTIMEZONE
TZID:UTC
BEGIN:STANDARD
DTSTART:20250724T043556
TZOFFSETFROM:+0000
TZOFFSETTO:+0000
END:STANDARD
END:VTIMEZONE
BEGIN:VEVENT
UID:A0E9B3BE-1D47-428D-8EB5-7807839F7498-26-1085_homereminder@155.badminton
 ners.net
DTSTAMP:20260420T043556Z
SUMMARY:Thuismatch ingevuld? (Herentals 3G (84) - Royal Antwerp 3G (92))
DESCRIPTION:Je hebt 36 uur na aanvang om een thuismatch op Badmintonvlaande
 ren in te vullen. Match info: Herentals 3G (84) - Royal Antwerp 3G (92) - 
 Link: https://www.badmintonvlaanderen.be/sport/teammatch.aspx?id=A0E9B3BE-
 1D47-428D-8EB5-7807839F7498&match=1085
DTSTART;TZID=Europe/Brussels:20251025T090000
DTEND;TZID=Europe/Brussels:20251025T090000
END:VEVENT
BEGIN:VEVENT
UID:A0E9B3BE-1D47-428D-8EB5-7807839F7498-26-1075_homereminder@155.badminton
 ners.net
DTSTAMP:20260420T043556Z
SUMMARY:Thuismatch ingevuld? (Herentals 3G (84) - Poona 2G (79))
DESCRIPTION:Je hebt 36 uur na aanvang om een thuismatch op Badmintonvlaande
 ren in te vullen. Match info: Herentals 3G (84) - Poona 2G (79) - Link: ht
 tps://www.badmintonvlaanderen.be/sport/teammatch.aspx?id=A0E9B3BE-1D47-428
 D-8EB5-7807839F7498&match=1075
DTSTART;TZID=Europe/Brussels:20251108T090000
DTEND;TZID=Europe/Brussels:20251108T090000
END:VEVENT
BEGIN:VEVENT
UID:A0E9B3BE-1D47-428D-8EB5-7807839F7498-26-1080_homereminder@155.badminton
 ners.net
DTSTAMP:20260420T043556Z
SUMMARY:Thuismatch ingevuld? (Herentals 3G (84) - Klein Boom 4G (85))
DESCRIPTION:Je hebt 36 uur na aanvang om een thuismatch op Badmintonvlaande
 ren in te vullen. Match info: Herentals 3G (84) - Klein Boom 4G (85) - Lin
 k: https://www.badmintonvlaanderen.be/sport/teammatch.aspx?id=A0E9B3BE-1D4
 7-428D-8EB5-7807839F7498&match=1080
DTSTART;TZID=Europe/Brussels:20260117T090000
DTEND;TZID=Europe/Brussels:20260117T090000
END:VEVENT
BEGIN:VEVENT
UID:A0E9B3BE-1D47-428D-8EB5-7807839F7498-26-1090_homereminder@155.badminton
 ners.net
DTSTAMP:20260420T043556Z
SUMMARY:Thuismatch ingevuld? (Herentals 3G (84) - Spinshuttle 2G (91))
DESCRIPTION:Je hebt 36 uur na aanvang om een thuismatch op Badmintonvlaande
 ren in te vullen. Match info: Herentals 3G (84) - Spinshuttle 2G (91) - Li
 nk: https://www.badmintonvlaanderen.be/sport/teammatch.aspx?id=A0E9B3BE-1D
 47-428D-8EB5-7807839F7498&match=1090
DTSTART;TZID=Europe/Brussels:20260425T090000
DTEND;TZID=Europe/Brussels:20260425T090000
END:VEVENT
BEGIN:VEVENT
UID:A0E9B3BE-1D47-428D-8EB5-7807839F7498-26-1101_homereminder@155.badminton
 ners.net
DTSTAMP:20260420T043556Z
SUMMARY:Thuismatch ingevuld? (Herentals 3G (84) - Olve 5G (84))
DESCRIPTION:Je hebt 36 uur na aanvang om een thuismatch op Badmintonvlaande
 ren in te vullen. Match info: Herentals 3G (84) - Olve 5G (84) - Link: htt
 ps://www.badmintonvlaanderen.be/sport/teammatch.aspx?id=A0E9B3BE-1D47-428D
 -8EB5-7807839F7498&match=1101
DTSTART;TZID=Europe/Brussels:20260502T090000
DTEND;TZID=Europe/Brussels:20260502T090000
END:VEVENT
BEGIN:VEVENT
UID:A0E9B3BE-1D47-428D-8EB5-7807839F7498-26-1095_awayreminder@155.badminton
 ners.net
DTSTAMP:20260420T043556Z
SUMMARY:Uitmatch bevestigd? (Spinshuttle 2G (91) - Herentals 3G (84))
DESCRIPTION:Je hebt 72 uur na aanvang om een uitmatch op Badmintonvlaandere
 n in te vullen. Match info: Spinshuttle 2G (91) - Herentals 3G (84) - Link
 : https://www.badmintonvlaanderen.be/sport/teammatch.aspx?id=A0E9B3BE-1D47
 -428D-8EB5-7807839F7498&match=1095
DTSTART;TZID=Europe/Brussels:20250926T200000
DTEND;TZID=Europe/Brussels:20250926T200000
END:VEVENT
BEGIN:VEVENT
UID:A0E9B3BE-1D47-428D-8EB5-7807839F7498-26-1093_awayreminder@155.badminton
 ners.net
DTSTAMP:20260420T043556Z
SUMMARY:Uitmatch bevestigd? (Klein Boom 4G (85) - Herentals 3G (84))
DESCRIPTION:Je hebt 72 uur na aanvang om een uitmatch op Badmintonvlaandere
 n in te vullen. Match info: Klein Boom 4G (85) - Herentals 3G (84) - Link:
  https://www.badmintonvlaanderen.be/sport/teammatch.aspx?id=A0E9B3BE-1D47-
 428D-8EB5-7807839F7498&match=1093
DTSTART;TZID=Europe/Brussels:20251001T190000
DTEND;TZID=Europe/Brussels:20251001T190000
END:VEVENT
BEGIN:VEVENT
UID:A0E9B3BE-1D47-428D-8EB5-7807839F7498-26-1096_awayreminder@155.badminton
 ners.net
DTSTAMP:20260420T043556Z
SUMMARY:Uitmatch bevestigd? (Olve 5G (84) - Herentals 3G (84))
DESCRIPTION:Je hebt 72 uur na aanvang om een uitmatch op Badmintonvlaandere
 n in te vullen. Match info: Olve 5G (84) - Herentals 3G (84) - Link: https
 ://www.badmintonvlaanderen.be/sport/teammatch.aspx?id=A0E9B3BE-1D47-428D-8
 EB5-7807839F7498&match=1096
DTSTART;TZID=Europe/Brussels:20251209T103000
DTEND;TZID=Europe/Brussels:20251209T103000
END:VEVENT
BEGIN:VEVENT
UID:A0E9B3BE-1D47-428D-8EB5-7807839F7498-26-1094_awayreminder@155.badminton
 ners.net
DTSTAMP:20260420T043556Z
SUMMARY:Uitmatch bevestigd? (Royal Antwerp 3G (92) - Herentals 3G (84))
DESCRIPTION:Je hebt 72 uur na aanvang om een uitmatch op Badmintonvlaandere
 n in te vullen. Match info: Royal Antwerp 3G (92) - Herentals 3G (84) - Li
 nk: https://www.badmintonvlaanderen.be/sport/teammatch.aspx?id=A0E9B3BE-1D
 47-428D-8EB5-7807839F7498&match=1094
DTSTART;TZID=Europe/Brussels:20260218T180000
DTEND;TZID=Europe/Brussels:20260218T180000
END:VEVENT
BEGIN:VEVENT
UID:A0E9B3BE-1D47-428D-8EB5-7807839F7498-26-1092_awayreminder@155.badminton
 ners.net
DTSTAMP:20260420T043556Z
SUMMARY:Uitmatch bevestigd? (Poona 2G (79) - Herentals 3G (84))
DESCRIPTION:Je hebt 72 uur na aanvang om een uitmatch op Badmintonvlaandere
 n in te vullen. Match info: Poona 2G (79) - Herentals 3G (84) - Link: http
 s://www.badmintonvlaanderen.be/sport/teammatch.aspx?id=A0E9B3BE-1D47-428D-
 8EB5-7807839F7498&match=1092
DTSTART;TZID=Europe/Brussels:20260312T200000
DTEND;TZID=Europe/Brussels:20260312T200000
END:VEVENT
END:VCALENDAR