BEGIN:VCALENDAR
VERSION:2.0
PRODID:spatie/icalendar-generator
NAME:poona_2g_79_reminders
X-WR-CALNAME:poona_2g_79_reminders
BEGIN:VTIMEZONE
TZID:Europe/Brussels
BEGIN:DAYLIGHT
DTSTART:20250330T010000
TZOFFSETFROM:+0100
TZOFFSETTO:+0200
END:DAYLIGHT
BEGIN:STANDARD
DTSTART:20251026T030000
TZOFFSETFROM:+0200
TZOFFSETTO:+0100
END:STANDARD
BEGIN:DAYLIGHT
DTSTART:20260329T010000
TZOFFSETFROM:+0100
TZOFFSETTO:+0200
END:DAYLIGHT
END:VTIMEZONE
BEGIN:VTIMEZONE
TZID:UTC
BEGIN:STANDARD
DTSTART:20250724T055145
TZOFFSETFROM:+0000
TZOFFSETTO:+0000
END:STANDARD
END:VTIMEZONE
BEGIN:VEVENT
UID:A0E9B3BE-1D47-428D-8EB5-7807839F7498-26-1097_homereminder@160.badminton
 ners.net
DTSTAMP:20260420T055145Z
SUMMARY:Thuismatch ingevuld? (Poona 2G (79) - Olve 5G (84))
DESCRIPTION:Je hebt 36 uur na aanvang om een thuismatch op Badmintonvlaande
 ren in te vullen. Match info: Poona 2G (79) - Olve 5G (84) - Link: https:/
 /www.badmintonvlaanderen.be/sport/teammatch.aspx?id=A0E9B3BE-1D47-428D-8EB
 5-7807839F7498&match=1097
DTSTART;TZID=Europe/Brussels:20250924T080000
DTEND;TZID=Europe/Brussels:20250924T080000
END:VEVENT
BEGIN:VEVENT
UID:A0E9B3BE-1D47-428D-8EB5-7807839F7498-26-1077_homereminder@160.badminton
 ners.net
DTSTAMP:20260420T055145Z
SUMMARY:Thuismatch ingevuld? (Poona 2G (79) - Klein Boom 4G (85))
DESCRIPTION:Je hebt 36 uur na aanvang om een thuismatch op Badmintonvlaande
 ren in te vullen. Match info: Poona 2G (79) - Klein Boom 4G (85) - Link: h
 ttps://www.badmintonvlaanderen.be/sport/teammatch.aspx?id=A0E9B3BE-1D47-42
 8D-8EB5-7807839F7498&match=1077
DTSTART;TZID=Europe/Brussels:20251008T080000
DTEND;TZID=Europe/Brussels:20251008T080000
END:VEVENT
BEGIN:VEVENT
UID:A0E9B3BE-1D47-428D-8EB5-7807839F7498-26-1087_homereminder@160.badminton
 ners.net
DTSTAMP:20260420T055145Z
SUMMARY:Thuismatch ingevuld? (Poona 2G (79) - Spinshuttle 2G (91))
DESCRIPTION:Je hebt 36 uur na aanvang om een thuismatch op Badmintonvlaande
 ren in te vullen. Match info: Poona 2G (79) - Spinshuttle 2G (91) - Link: 
 https://www.badmintonvlaanderen.be/sport/teammatch.aspx?id=A0E9B3BE-1D47-4
 28D-8EB5-7807839F7498&match=1087
DTSTART;TZID=Europe/Brussels:20251203T080000
DTEND;TZID=Europe/Brussels:20251203T080000
END:VEVENT
BEGIN:VEVENT
UID:A0E9B3BE-1D47-428D-8EB5-7807839F7498-26-1092_homereminder@160.badminton
 ners.net
DTSTAMP:20260420T055145Z
SUMMARY:Thuismatch ingevuld? (Poona 2G (79) - Herentals 3G (84))
DESCRIPTION:Je hebt 36 uur na aanvang om een thuismatch op Badmintonvlaande
 ren in te vullen. Match info: Poona 2G (79) - Herentals 3G (84) - Link: ht
 tps://www.badmintonvlaanderen.be/sport/teammatch.aspx?id=A0E9B3BE-1D47-428
 D-8EB5-7807839F7498&match=1092
DTSTART;TZID=Europe/Brussels:20260311T080000
DTEND;TZID=Europe/Brussels:20260311T080000
END:VEVENT
BEGIN:VEVENT
UID:A0E9B3BE-1D47-428D-8EB5-7807839F7498-26-1082_homereminder@160.badminton
 ners.net
DTSTAMP:20260420T055145Z
SUMMARY:Thuismatch ingevuld? (Poona 2G (79) - Royal Antwerp 3G (92))
DESCRIPTION:Je hebt 36 uur na aanvang om een thuismatch op Badmintonvlaande
 ren in te vullen. Match info: Poona 2G (79) - Royal Antwerp 3G (92) - Link
 : https://www.badmintonvlaanderen.be/sport/teammatch.aspx?id=A0E9B3BE-1D47
 -428D-8EB5-7807839F7498&match=1082
DTSTART;TZID=Europe/Brussels:20260422T080000
DTEND;TZID=Europe/Brussels:20260422T080000
END:VEVENT
BEGIN:VEVENT
UID:A0E9B3BE-1D47-428D-8EB5-7807839F7498-26-1075_awayreminder@160.badminton
 ners.net
DTSTAMP:20260420T055145Z
SUMMARY:Uitmatch bevestigd? (Herentals 3G (84) - Poona 2G (79))
DESCRIPTION:Je hebt 72 uur na aanvang om een uitmatch op Badmintonvlaandere
 n in te vullen. Match info: Herentals 3G (84) - Poona 2G (79) - Link: http
 s://www.badmintonvlaanderen.be/sport/teammatch.aspx?id=A0E9B3BE-1D47-428D-
 8EB5-7807839F7498&match=1075
DTSTART;TZID=Europe/Brussels:20251109T210000
DTEND;TZID=Europe/Brussels:20251109T210000
END:VEVENT
BEGIN:VEVENT
UID:A0E9B3BE-1D47-428D-8EB5-7807839F7498-26-1073_awayreminder@160.badminton
 ners.net
DTSTAMP:20260420T055145Z
SUMMARY:Uitmatch bevestigd? (Royal Antwerp 3G (92) - Poona 2G (79))
DESCRIPTION:Je hebt 72 uur na aanvang om een uitmatch op Badmintonvlaandere
 n in te vullen. Match info: Royal Antwerp 3G (92) - Poona 2G (79) - Link: 
 https://www.badmintonvlaanderen.be/sport/teammatch.aspx?id=A0E9B3BE-1D47-4
 28D-8EB5-7807839F7498&match=1073
DTSTART;TZID=Europe/Brussels:20251126T180000
DTEND;TZID=Europe/Brussels:20251126T180000
END:VEVENT
BEGIN:VEVENT
UID:A0E9B3BE-1D47-428D-8EB5-7807839F7498-26-1072_awayreminder@160.badminton
 ners.net
DTSTAMP:20260420T055145Z
SUMMARY:Uitmatch bevestigd? (Klein Boom 4G (85) - Poona 2G (79))
DESCRIPTION:Je hebt 72 uur na aanvang om een uitmatch op Badmintonvlaandere
 n in te vullen. Match info: Klein Boom 4G (85) - Poona 2G (79) - Link: htt
 ps://www.badmintonvlaanderen.be/sport/teammatch.aspx?id=A0E9B3BE-1D47-428D
 -8EB5-7807839F7498&match=1072
DTSTART;TZID=Europe/Brussels:20260204T190000
DTEND;TZID=Europe/Brussels:20260204T190000
END:VEVENT
BEGIN:VEVENT
UID:A0E9B3BE-1D47-428D-8EB5-7807839F7498-26-1076_awayreminder@160.badminton
 ners.net
DTSTAMP:20260420T055145Z
SUMMARY:Uitmatch bevestigd? (Olve 5G (84) - Poona 2G (79))
DESCRIPTION:Je hebt 72 uur na aanvang om een uitmatch op Badmintonvlaandere
 n in te vullen. Match info: Olve 5G (84) - Poona 2G (79) - Link: https://w
 ww.badmintonvlaanderen.be/sport/teammatch.aspx?id=A0E9B3BE-1D47-428D-8EB5-
 7807839F7498&match=1076
DTSTART;TZID=Europe/Brussels:20260324T103000
DTEND;TZID=Europe/Brussels:20260324T103000
END:VEVENT
BEGIN:VEVENT
UID:A0E9B3BE-1D47-428D-8EB5-7807839F7498-26-1074_awayreminder@160.badminton
 ners.net
DTSTAMP:20260420T055145Z
SUMMARY:Uitmatch bevestigd? (Spinshuttle 2G (91) - Poona 2G (79))
DESCRIPTION:Je hebt 72 uur na aanvang om een uitmatch op Badmintonvlaandere
 n in te vullen. Match info: Spinshuttle 2G (91) - Poona 2G (79) - Link: ht
 tps://www.badmintonvlaanderen.be/sport/teammatch.aspx?id=A0E9B3BE-1D47-428
 D-8EB5-7807839F7498&match=1074
DTSTART;TZID=Europe/Brussels:20260410T200000
DTEND;TZID=Europe/Brussels:20260410T200000
END:VEVENT
END:VCALENDAR